BEGIN:VCALENDAR
VERSION:2.0
PRODID:-//Tauchclub Dreieich in Langen e.V. - ECPv6.15.20//NONSGML v1.0//EN
CALSCALE:GREGORIAN
METHOD:PUBLISH
X-ORIGINAL-URL:https://www.tauchclub-dreieich.de
X-WR-CALDESC:Veranstaltungen für Tauchclub Dreieich in Langen e.V.
REFRESH-INTERVAL;VALUE=DURATION:PT1H
X-Robots-Tag:noindex
X-PUBLISHED-TTL:PT1H
BEGIN:VTIMEZONE
TZID:Europe/Berlin
BEGIN:DAYLIGHT
TZOFFSETFROM:+0100
TZOFFSETTO:+0200
TZNAME:CEST
DTSTART:20220327T010000
END:DAYLIGHT
BEGIN:STANDARD
TZOFFSETFROM:+0200
TZOFFSETTO:+0100
TZNAME:CET
DTSTART:20221030T010000
END:STANDARD
BEGIN:DAYLIGHT
TZOFFSETFROM:+0100
TZOFFSETTO:+0200
TZNAME:CEST
DTSTART:20230326T010000
END:DAYLIGHT
BEGIN:STANDARD
TZOFFSETFROM:+0200
TZOFFSETTO:+0100
TZNAME:CET
DTSTART:20231029T010000
END:STANDARD
BEGIN:DAYLIGHT
TZOFFSETFROM:+0100
TZOFFSETTO:+0200
TZNAME:CEST
DTSTART:20240331T010000
END:DAYLIGHT
BEGIN:STANDARD
TZOFFSETFROM:+0200
TZOFFSETTO:+0100
TZNAME:CET
DTSTART:20241027T010000
END:STANDARD
END:VTIMEZONE
BEGIN:VEVENT
DTSTART;TZID=Europe/Berlin:20230617T100000
DTEND;TZID=Europe/Berlin:20230617T130000
DTSTAMP:20260425T010145
CREATED:20230401T184250Z
LAST-MODIFIED:20230424T043315Z
UID:5566-1686996000-1687006800@www.tauchclub-dreieich.de
SUMMARY:Einweisung Vereinskompressor
DESCRIPTION:Einweisung in unseren Vereinskompressor\, damit Du die Füllberechtigung für 2023 erhältst. \nBitte melde Dich hier an. Die Teilnehmerzahl ist auf 12 begrenzt.  \n\n\n  \n\n\n\n Dein vollständiger Name\n \n \n Deine E-Mail-Adresse\n \n \nBitte lasse dieses Feld leer.\n \nIch habe in der Vergangenheit schon mal an einer Kompressoreinweisung teilgenommen\n \n Hinweise/Anmerkungen (optional)
URL:https://www.tauchclub-dreieich.de/termin/2023-06-17_einweisung-vereinskompressor
LOCATION:Geräteraum\, Langen\, 63225\, Deutschland
CATEGORIES:Ausbildung,Vereinskompressor
END:VEVENT
END:VCALENDAR