BEGIN:VCALENDAR
VERSION:2.0
PRODID:-//Tauchclub Dreieich in Langen e.V. - ECPv6.15.20//NONSGML v1.0//EN
CALSCALE:GREGORIAN
METHOD:PUBLISH
X-WR-CALNAME:Tauchclub Dreieich in Langen e.V.
X-ORIGINAL-URL:https://www.tauchclub-dreieich.de
X-WR-CALDESC:Veranstaltungen für Tauchclub Dreieich in Langen e.V.
REFRESH-INTERVAL;VALUE=DURATION:PT1H
X-Robots-Tag:noindex
X-PUBLISHED-TTL:PT1H
BEGIN:VTIMEZONE
TZID:Europe/Berlin
BEGIN:DAYLIGHT
TZOFFSETFROM:+0100
TZOFFSETTO:+0200
TZNAME:CEST
DTSTART:20250330T010000
END:DAYLIGHT
BEGIN:STANDARD
TZOFFSETFROM:+0200
TZOFFSETTO:+0100
TZNAME:CET
DTSTART:20251026T010000
END:STANDARD
BEGIN:DAYLIGHT
TZOFFSETFROM:+0100
TZOFFSETTO:+0200
TZNAME:CEST
DTSTART:20260329T010000
END:DAYLIGHT
BEGIN:STANDARD
TZOFFSETFROM:+0200
TZOFFSETTO:+0100
TZNAME:CET
DTSTART:20261025T010000
END:STANDARD
BEGIN:DAYLIGHT
TZOFFSETFROM:+0100
TZOFFSETTO:+0200
TZNAME:CEST
DTSTART:20270328T010000
END:DAYLIGHT
BEGIN:STANDARD
TZOFFSETFROM:+0200
TZOFFSETTO:+0100
TZNAME:CET
DTSTART:20271031T010000
END:STANDARD
END:VTIMEZONE
BEGIN:VEVENT
DTSTART;TZID=Europe/Berlin:20260422T183000
DTEND;TZID=Europe/Berlin:20260422T200000
DTSTAMP:20260420T101921
CREATED:20260308T225133Z
LAST-MODIFIED:20260308T225133Z
UID:9636-1776882600-1776888000@www.tauchclub-dreieich.de
SUMMARY:Apnoetraining
DESCRIPTION:
URL:https://www.tauchclub-dreieich.de/termin/apnoetraining-52
LOCATION:Langener Hallenbad\, Südliche Ringstraße 75\, Langen\, 63225\, Deutschland
CATEGORIES:Apnoetraining,Training
END:VEVENT
BEGIN:VEVENT
DTSTART;TZID=Europe/Berlin:20260424T183000
DTEND;TZID=Europe/Berlin:20260424T200000
DTSTAMP:20260420T101921
CREATED:20260308T224816Z
LAST-MODIFIED:20260308T224816Z
UID:9613-1777055400-1777060800@www.tauchclub-dreieich.de
SUMMARY:Jugendtraining
DESCRIPTION:
URL:https://www.tauchclub-dreieich.de/termin/jugendtraining-205
LOCATION:Langener Hallenbad\, Südliche Ringstraße 75\, Langen\, 63225\, Deutschland
CATEGORIES:Jugendtraining,Training
END:VEVENT
BEGIN:VEVENT
DTSTART;TZID=Europe/Berlin:20260424T193000
DTEND;TZID=Europe/Berlin:20260424T210000
DTSTAMP:20260420T101921
CREATED:20260126T235239Z
LAST-MODIFIED:20260126T235239Z
UID:9491-1777059000-1777064400@www.tauchclub-dreieich.de
SUMMARY:Allgemeines Training
DESCRIPTION:
URL:https://www.tauchclub-dreieich.de/termin/allgemeines-training-201
LOCATION:Langener Hallenbad\, Südliche Ringstraße 75\, Langen\, 63225\, Deutschland
CATEGORIES:Training
END:VEVENT
BEGIN:VEVENT
DTSTART;TZID=Europe/Berlin:20260425T100000
DTEND;TZID=Europe/Berlin:20260425T130000
DTSTAMP:20260420T101921
CREATED:20260216T141316Z
LAST-MODIFIED:20260303T141730Z
UID:9574-1777111200-1777122000@www.tauchclub-dreieich.de
SUMMARY:Einweisung Vereinskompressor
DESCRIPTION:Einweisung in unseren Vereinskompressor\, damit Du die Füllberechtigung für 2026 erhältst. \nBitte melde Dich hier an. Die Teilnehmerzahl ist auf 12 begrenzt. \nDieser Termin ist leider ausgebucht. Bei Interesse\, melde Dich bitte direkt bei Stefan: \n\n\n  \n\n\n\n Dein Name\n \n \n Deine E-Mail-Adresse\n \n \nBitte lasse dieses Feld leer.\n \n Deine Nachricht an Stefan
URL:https://www.tauchclub-dreieich.de/termin/2026-04-25_einweisung-vereinskompressor
LOCATION:Geräteraum\, Langen\, 63225\, Deutschland
CATEGORIES:Vereinskompressor
END:VEVENT
BEGIN:VEVENT
DTSTART;TZID=Europe/Berlin:20260429T183000
DTEND;TZID=Europe/Berlin:20260429T200000
DTSTAMP:20260420T101921
CREATED:20260308T225133Z
LAST-MODIFIED:20260308T225133Z
UID:9637-1777487400-1777492800@www.tauchclub-dreieich.de
SUMMARY:Apnoetraining
DESCRIPTION:
URL:https://www.tauchclub-dreieich.de/termin/apnoetraining-53
LOCATION:Langener Hallenbad\, Südliche Ringstraße 75\, Langen\, 63225\, Deutschland
CATEGORIES:Apnoetraining,Training
END:VEVENT
END:VCALENDAR