BEGIN:VCALENDAR
VERSION:2.0
PRODID:-//Tauchclub Dreieich in Langen e.V. - ECPv6.15.20//NONSGML v1.0//EN
CALSCALE:GREGORIAN
METHOD:PUBLISH
X-ORIGINAL-URL:https://www.tauchclub-dreieich.de
X-WR-CALDESC:Veranstaltungen für Tauchclub Dreieich in Langen e.V.
REFRESH-INTERVAL;VALUE=DURATION:PT1H
X-Robots-Tag:noindex
X-PUBLISHED-TTL:PT1H
BEGIN:VTIMEZONE
TZID:Europe/Berlin
BEGIN:DAYLIGHT
TZOFFSETFROM:+0100
TZOFFSETTO:+0200
TZNAME:CEST
DTSTART:20240331T010000
END:DAYLIGHT
BEGIN:STANDARD
TZOFFSETFROM:+0200
TZOFFSETTO:+0100
TZNAME:CET
DTSTART:20241027T010000
END:STANDARD
BEGIN:DAYLIGHT
TZOFFSETFROM:+0100
TZOFFSETTO:+0200
TZNAME:CEST
DTSTART:20250330T010000
END:DAYLIGHT
BEGIN:STANDARD
TZOFFSETFROM:+0200
TZOFFSETTO:+0100
TZNAME:CET
DTSTART:20251026T010000
END:STANDARD
BEGIN:DAYLIGHT
TZOFFSETFROM:+0100
TZOFFSETTO:+0200
TZNAME:CEST
DTSTART:20260329T010000
END:DAYLIGHT
BEGIN:STANDARD
TZOFFSETFROM:+0200
TZOFFSETTO:+0100
TZNAME:CET
DTSTART:20261025T010000
END:STANDARD
END:VTIMEZONE
BEGIN:VEVENT
DTSTART;TZID=Europe/Berlin:20251001T183000
DTEND;TZID=Europe/Berlin:20251001T200000
DTSTAMP:20260422T124850
CREATED:20250915T231048Z
LAST-MODIFIED:20250915T231048Z
UID:9332-1759343400-1759348800@www.tauchclub-dreieich.de
SUMMARY:Apnoetraining
DESCRIPTION:
URL:https://www.tauchclub-dreieich.de/termin/apnoetraining-25
LOCATION:Langener Hallenbad\, Südliche Ringstraße 75\, Langen\, 63225\, Deutschland
CATEGORIES:Apnoetraining
END:VEVENT
BEGIN:VEVENT
DTSTART;TZID=Europe/Berlin:20251003T183000
DTEND;TZID=Europe/Berlin:20251003T200000
DTSTAMP:20260422T124850
CREATED:20250915T230751Z
LAST-MODIFIED:20250915T230751Z
UID:9314-1759516200-1759521600@www.tauchclub-dreieich.de
SUMMARY:Jugendtraining
DESCRIPTION:
URL:https://www.tauchclub-dreieich.de/termin/jugendtraining-179
LOCATION:Langener Hallenbad\, Südliche Ringstraße 75\, Langen\, 63225\, Deutschland
CATEGORIES:Jugendtraining
END:VEVENT
BEGIN:VEVENT
DTSTART;TZID=Europe/Berlin:20251003T193000
DTEND;TZID=Europe/Berlin:20251003T210000
DTSTAMP:20260422T124850
CREATED:20250915T230453Z
LAST-MODIFIED:20250915T230453Z
UID:9295-1759519800-1759525200@www.tauchclub-dreieich.de
SUMMARY:Kein Training - Feiertag
DESCRIPTION:
URL:https://www.tauchclub-dreieich.de/termin/kein-training-feiertag
LOCATION:Langener Hallenbad\, Südliche Ringstraße 75\, Langen\, 63225\, Deutschland
CATEGORIES:Training
END:VEVENT
BEGIN:VEVENT
DTSTART;TZID=Europe/Berlin:20251008T183000
DTEND;TZID=Europe/Berlin:20251008T200000
DTSTAMP:20260422T124850
CREATED:20250915T231101Z
LAST-MODIFIED:20250915T231101Z
UID:9333-1759948200-1759953600@www.tauchclub-dreieich.de
SUMMARY:Apnoetraining
DESCRIPTION:
URL:https://www.tauchclub-dreieich.de/termin/apnoetraining-26
LOCATION:Langener Hallenbad\, Südliche Ringstraße 75\, Langen\, 63225\, Deutschland
CATEGORIES:Apnoetraining
END:VEVENT
BEGIN:VEVENT
DTSTART;TZID=Europe/Berlin:20251010T183000
DTEND;TZID=Europe/Berlin:20251010T200000
DTSTAMP:20260422T124850
CREATED:20250915T230751Z
LAST-MODIFIED:20250915T230751Z
UID:9315-1760121000-1760126400@www.tauchclub-dreieich.de
SUMMARY:Jugendtraining
DESCRIPTION:
URL:https://www.tauchclub-dreieich.de/termin/jugendtraining-180
LOCATION:Langener Hallenbad\, Südliche Ringstraße 75\, Langen\, 63225\, Deutschland
CATEGORIES:Jugendtraining
END:VEVENT
BEGIN:VEVENT
DTSTART;TZID=Europe/Berlin:20251010T193000
DTEND;TZID=Europe/Berlin:20251010T210000
DTSTAMP:20260422T124850
CREATED:20250915T230453Z
LAST-MODIFIED:20250915T230453Z
UID:9296-1760124600-1760130000@www.tauchclub-dreieich.de
SUMMARY:Allgemeines Training
DESCRIPTION:
URL:https://www.tauchclub-dreieich.de/termin/allgemeines-training-176
LOCATION:Langener Hallenbad\, Südliche Ringstraße 75\, Langen\, 63225\, Deutschland
CATEGORIES:Training
END:VEVENT
BEGIN:VEVENT
DTSTART;VALUE=DATE:20251011
DTEND;VALUE=DATE:20251012
DTSTAMP:20260422T124850
CREATED:20250916T062643Z
LAST-MODIFIED:20250916T062707Z
UID:9355-1760140800-1760227199@www.tauchclub-dreieich.de
SUMMARY:VDST SK Leben am/im See
DESCRIPTION:Interesse mal etwas mehr über das Leben in unseren See zu erfahren??.. \nHier zeigt ein Gewässerökologen nach einem Tauchgang in Walldorf die verschiedenen Klein-Lebewesen unter dem Mikroskop zeigt und erläutert diese.  \nDu erhälst Einblicke in die Süßwasserbiologie von Seen. Du lernst einfache Zusammenhänge des Lebensraums See kennen\, wie Großlebensräume\, Lebensgemeinschaften\, Zonierung\, Stoffkreisläufe\, Nährstoffgehalt sowie Tiere und Pflanzen und ihre Biologie. Nach erfolgreicher Teilnahme erhältst Du die offizielle Lizenzkarte VDST SK Leben im See sowie einen Einkleber für den Taucherpass. \nDas ist eine Ganztagesveranstaltung. \nKosten: 25\,- EUR (incl. Brevet und Verpflegung) \nAnzahl Teilnehmer: Maximal 10 Teilnehmer von IRBW und TCD zusammen. \n  \nAnmeldung direkt bei Wolfgang: \n\n\n  \n\n\n\n Dein Name\n \n \n Deine E-Mail-Adresse\n \n \nBitte lasse dieses Feld leer.\n \n Deine Nachricht an Wolfgang
URL:https://www.tauchclub-dreieich.de/termin/2025-leben-im-see
LOCATION:Badestelle Walldorfer See\, Aschaffenburger Str.\, Mörfelden-Walldorf\, Hessen\, 64546\, Deutschland
END:VEVENT
BEGIN:VEVENT
DTSTART;TZID=Europe/Berlin:20251015T183000
DTEND;TZID=Europe/Berlin:20251015T200000
DTSTAMP:20260422T124850
CREATED:20250915T231101Z
LAST-MODIFIED:20250915T231101Z
UID:9334-1760553000-1760558400@www.tauchclub-dreieich.de
SUMMARY:Apnoetraining
DESCRIPTION:
URL:https://www.tauchclub-dreieich.de/termin/apnoetraining-27
LOCATION:Langener Hallenbad\, Südliche Ringstraße 75\, Langen\, 63225\, Deutschland
CATEGORIES:Apnoetraining
END:VEVENT
BEGIN:VEVENT
DTSTART;TZID=Europe/Berlin:20251017T183000
DTEND;TZID=Europe/Berlin:20251017T200000
DTSTAMP:20260422T124850
CREATED:20250915T230752Z
LAST-MODIFIED:20250915T230752Z
UID:9316-1760725800-1760731200@www.tauchclub-dreieich.de
SUMMARY:Jugendtraining
DESCRIPTION:
URL:https://www.tauchclub-dreieich.de/termin/jugendtraining-181
LOCATION:Langener Hallenbad\, Südliche Ringstraße 75\, Langen\, 63225\, Deutschland
CATEGORIES:Jugendtraining
END:VEVENT
BEGIN:VEVENT
DTSTART;TZID=Europe/Berlin:20251017T193000
DTEND;TZID=Europe/Berlin:20251017T210000
DTSTAMP:20260422T124850
CREATED:20250915T230454Z
LAST-MODIFIED:20250915T230454Z
UID:9297-1760729400-1760734800@www.tauchclub-dreieich.de
SUMMARY:Allgemeines Training
DESCRIPTION:
URL:https://www.tauchclub-dreieich.de/termin/allgemeines-training-177
LOCATION:Langener Hallenbad\, Südliche Ringstraße 75\, Langen\, 63225\, Deutschland
CATEGORIES:Training
END:VEVENT
BEGIN:VEVENT
DTSTART;TZID=Europe/Berlin:20251019T110000
DTEND;TZID=Europe/Berlin:20251019T150000
DTSTAMP:20260422T124850
CREATED:20250916T061619Z
LAST-MODIFIED:20250916T061619Z
UID:9353-1760871600-1760886000@www.tauchclub-dreieich.de
SUMMARY:Abtauchen
DESCRIPTION:Liebe TCD-Mitglieder\, \nam Sonntag\, den 19.10.2025\, findet unser traditionelles Abtauchen statt. Wir treffen uns um  \n11:00 Uhr am Tor des Badesees in Walldorf. \nAufgrund der schwierige Einfahrt-Situation möchten wir euch darum bitten\, pünktlich zu kommen\, damit wir gemeinsam auf das Gelände fahren. Für eventuelle Notfälle werden wir eine Handynummer am Tor hinterlassen.   \n\nDer Verein stellt das Grillgut zur Verfügung\nÜber Salat-\, Kuchen- und Nachtischspenden würden wir uns sehr freuen. \nBitte denkt an Teller\, Besteck und Becher oder Tasse\, um Müll zu vermeiden!\nTaucher sollten eine kleine Unterlage (Plane) zum Umziehen mitbringen\nKosten:5 Euro pro Vereinsmitglied\, 10 Euro für nicht Mitglieder(bitte passend)\,Kinder sind frei\n\nBitte meldet euch bis zum 13.10.2025 unten an und tragt ein\,  wenn ihr etwas zum Buffett beisteuern könnt: \nWir freuen uns auf Eure zahlreiche Teilnahme! \n\n\n  \n\n\n\n Dein vollständiger Name\n \n \n Deine E-Mail-Adresse\n \n \nBitte lasse dieses Feld leer.\n \n Teilnehmer\n \n \n davon Taucher\n \n \n davon Kinder/Jugendliche\n \n \n Ich bringe folgendes mit (Salat\, Kuchen\, ...)\n \n \n Hinweise/Anmerkungen (optional)
URL:https://www.tauchclub-dreieich.de/termin/2025-abtauchen
LOCATION:Badestelle Walldorfer See\, Aschaffenburger Str.\, Mörfelden-Walldorf\, Hessen\, 64546\, Deutschland
CATEGORIES:Feste,Tauchevents
END:VEVENT
BEGIN:VEVENT
DTSTART;TZID=Europe/Berlin:20251022T183000
DTEND;TZID=Europe/Berlin:20251022T200000
DTSTAMP:20260422T124850
CREATED:20250915T231101Z
LAST-MODIFIED:20250915T231101Z
UID:9335-1761157800-1761163200@www.tauchclub-dreieich.de
SUMMARY:Apnoetraining
DESCRIPTION:
URL:https://www.tauchclub-dreieich.de/termin/apnoetraining-28
LOCATION:Langener Hallenbad\, Südliche Ringstraße 75\, Langen\, 63225\, Deutschland
CATEGORIES:Apnoetraining
END:VEVENT
BEGIN:VEVENT
DTSTART;TZID=Europe/Berlin:20251024T183000
DTEND;TZID=Europe/Berlin:20251024T200000
DTSTAMP:20260422T124850
CREATED:20250915T230753Z
LAST-MODIFIED:20250915T230753Z
UID:9317-1761330600-1761336000@www.tauchclub-dreieich.de
SUMMARY:Jugendtraining
DESCRIPTION:
URL:https://www.tauchclub-dreieich.de/termin/jugendtraining-182
LOCATION:Langener Hallenbad\, Südliche Ringstraße 75\, Langen\, 63225\, Deutschland
CATEGORIES:Jugendtraining
END:VEVENT
BEGIN:VEVENT
DTSTART;TZID=Europe/Berlin:20251024T193000
DTEND;TZID=Europe/Berlin:20251024T210000
DTSTAMP:20260422T124850
CREATED:20250915T230511Z
LAST-MODIFIED:20250915T230511Z
UID:9298-1761334200-1761339600@www.tauchclub-dreieich.de
SUMMARY:Allgemeines Training
DESCRIPTION:
URL:https://www.tauchclub-dreieich.de/termin/allgemeines-training-178
LOCATION:Langener Hallenbad\, Südliche Ringstraße 75\, Langen\, 63225\, Deutschland
CATEGORIES:Training
END:VEVENT
BEGIN:VEVENT
DTSTART;TZID=Europe/Berlin:20251029T183000
DTEND;TZID=Europe/Berlin:20251029T200000
DTSTAMP:20260422T124850
CREATED:20250915T231102Z
LAST-MODIFIED:20250915T231102Z
UID:9336-1761762600-1761768000@www.tauchclub-dreieich.de
SUMMARY:Apnoetraining
DESCRIPTION:
URL:https://www.tauchclub-dreieich.de/termin/apnoetraining-29
LOCATION:Langener Hallenbad\, Südliche Ringstraße 75\, Langen\, 63225\, Deutschland
CATEGORIES:Apnoetraining
END:VEVENT
BEGIN:VEVENT
DTSTART;TZID=Europe/Berlin:20251031T183000
DTEND;TZID=Europe/Berlin:20251031T200000
DTSTAMP:20260422T124850
CREATED:20250915T230939Z
LAST-MODIFIED:20250915T230939Z
UID:9318-1761935400-1761940800@www.tauchclub-dreieich.de
SUMMARY:Jugendtraining
DESCRIPTION:
URL:https://www.tauchclub-dreieich.de/termin/jugendtraining-183
LOCATION:Langener Hallenbad\, Südliche Ringstraße 75\, Langen\, 63225\, Deutschland
CATEGORIES:Jugendtraining
END:VEVENT
BEGIN:VEVENT
DTSTART;TZID=Europe/Berlin:20251031T193000
DTEND;TZID=Europe/Berlin:20251031T210000
DTSTAMP:20260422T124850
CREATED:20250915T230512Z
LAST-MODIFIED:20250915T230512Z
UID:9299-1761939000-1761944400@www.tauchclub-dreieich.de
SUMMARY:Allgemeines Training
DESCRIPTION:
URL:https://www.tauchclub-dreieich.de/termin/allgemeines-training-179
LOCATION:Langener Hallenbad\, Südliche Ringstraße 75\, Langen\, 63225\, Deutschland
CATEGORIES:Training
END:VEVENT
END:VCALENDAR