BEGIN:VCALENDAR
VERSION:2.0
PRODID:-//Tauchclub Dreieich in Langen e.V. - ECPv6.15.20//NONSGML v1.0//EN
CALSCALE:GREGORIAN
METHOD:PUBLISH
X-ORIGINAL-URL:https://www.tauchclub-dreieich.de
X-WR-CALDESC:Veranstaltungen für Tauchclub Dreieich in Langen e.V.
REFRESH-INTERVAL;VALUE=DURATION:PT1H
X-Robots-Tag:noindex
X-PUBLISHED-TTL:PT1H
BEGIN:VTIMEZONE
TZID:Europe/Berlin
BEGIN:DAYLIGHT
TZOFFSETFROM:+0100
TZOFFSETTO:+0200
TZNAME:CEST
DTSTART:20240331T010000
END:DAYLIGHT
BEGIN:STANDARD
TZOFFSETFROM:+0200
TZOFFSETTO:+0100
TZNAME:CET
DTSTART:20241027T010000
END:STANDARD
BEGIN:DAYLIGHT
TZOFFSETFROM:+0100
TZOFFSETTO:+0200
TZNAME:CEST
DTSTART:20250330T010000
END:DAYLIGHT
BEGIN:STANDARD
TZOFFSETFROM:+0200
TZOFFSETTO:+0100
TZNAME:CET
DTSTART:20251026T010000
END:STANDARD
BEGIN:DAYLIGHT
TZOFFSETFROM:+0100
TZOFFSETTO:+0200
TZNAME:CEST
DTSTART:20260329T010000
END:DAYLIGHT
BEGIN:STANDARD
TZOFFSETFROM:+0200
TZOFFSETTO:+0100
TZNAME:CET
DTSTART:20261025T010000
END:STANDARD
END:VTIMEZONE
BEGIN:VEVENT
DTSTART;TZID=Europe/Berlin:20250801T183000
DTEND;TZID=Europe/Berlin:20250801T200000
DTSTAMP:20260422T165330
CREATED:20250520T165420Z
LAST-MODIFIED:20250520T165420Z
UID:8761-1754073000-1754078400@www.tauchclub-dreieich.de
SUMMARY:Allgemeines Training
DESCRIPTION:
URL:https://www.tauchclub-dreieich.de/termin/allgemeines-training-167
LOCATION:Familien- und Freizeitbad Langen\, Teichstraße 28\, Langen\, 63322\, Deutschland
CATEGORIES:Training
END:VEVENT
BEGIN:VEVENT
DTSTART;TZID=Europe/Berlin:20250801T183000
DTEND;TZID=Europe/Berlin:20250801T200000
DTSTAMP:20260422T165330
CREATED:20250520T165731Z
LAST-MODIFIED:20250520T165731Z
UID:8779-1754073000-1754078400@www.tauchclub-dreieich.de
SUMMARY:Jugendtraining
DESCRIPTION:
URL:https://www.tauchclub-dreieich.de/termin/jugendtraining-170
LOCATION:Familien- und Freizeitbad Langen\, Teichstraße 28\, Langen\, 63322\, Deutschland
CATEGORIES:Jugendtraining
END:VEVENT
BEGIN:VEVENT
DTSTART;TZID=Europe/Berlin:20250807T080000
DTEND;TZID=Europe/Berlin:20250808T200000
DTSTAMP:20260422T165330
CREATED:20250522T174723Z
LAST-MODIFIED:20250525T142818Z
UID:8810-1754553600-1754683200@www.tauchclub-dreieich.de
SUMMARY:Tauchausflug nach "Gravière du Fort"
DESCRIPTION:Wir fahren für zwei Tage nach Gravière du Fort bei Straßburg mit einer Übernachtung. \nÜbernachtung: Hotel ibis Strasbourg Aéroport Le Zénith.\nDie Buchung des Hotel erfolgt selbstständig: https://all.accor.com/hotel/1588/index.de.shtml\nWer Unterstützung bei der Buchung benötigt (z. B. Jugendliche)\, kann sich gerne bei Jutta oder Kristian melden. \nDie Anreise erfolgt individuell. Gerne können wir bei der Organisation von Fahrgemeinschaften behilflich sein.\nDie Teilnahme ist auch nur für einen Tag (Do oder Fr) möglich – bitte bei der Anmeldung angeben.\nVoraussetzung für die Teilnahme ist ein gültiges CMAS- oder KTSA-Gold-Brevet.*\nAnmeldung bitte direkt bei Jutta oder Kristian mit der Angabe\, ob Du ein oder zwei Tage dabei bist.\nTeilnahmevoraussetzung: Ein gültiges Tauchbrevet CMAS* oder KTSA-Gold ist erforderlich. \nDamit wir besser planen können\, meldet euch bitte baldmöglichst bei uns!
URL:https://www.tauchclub-dreieich.de/termin/2025-08_tauchausflug-nach-graviere-du-fort
LOCATION:Gravière du Fort\, Rue de Lingolsheim\, Holtzheim\, 67810\, France
CATEGORIES:Jugend,Tauchevents
END:VEVENT
BEGIN:VEVENT
DTSTART;TZID=Europe/Berlin:20250808T183000
DTEND;TZID=Europe/Berlin:20250808T200000
DTSTAMP:20260422T165330
CREATED:20250520T165436Z
LAST-MODIFIED:20250520T165436Z
UID:8762-1754677800-1754683200@www.tauchclub-dreieich.de
SUMMARY:Allgemeines Training
DESCRIPTION:
URL:https://www.tauchclub-dreieich.de/termin/allgemeines-training-168
LOCATION:Familien- und Freizeitbad Langen\, Teichstraße 28\, Langen\, 63322\, Deutschland
CATEGORIES:Training
END:VEVENT
BEGIN:VEVENT
DTSTART;TZID=Europe/Berlin:20250808T183000
DTEND;TZID=Europe/Berlin:20250808T200000
DTSTAMP:20260422T165330
CREATED:20250520T165931Z
LAST-MODIFIED:20250522T174907Z
UID:8781-1754677800-1754683200@www.tauchclub-dreieich.de
SUMMARY:Kein Jugendtraining
DESCRIPTION:Wir sind in La Gravière du Fort tauchen.
URL:https://www.tauchclub-dreieich.de/termin/jugendtraining-171
CATEGORIES:Jugendtraining
END:VEVENT
BEGIN:VEVENT
DTSTART;TZID=Europe/Berlin:20250812T180000
DTEND;TZID=Europe/Berlin:20250812T200000
DTSTAMP:20260422T165330
CREATED:20250520T170229Z
LAST-MODIFIED:20250520T170229Z
UID:8793-1755021600-1755028800@www.tauchclub-dreieich.de
SUMMARY:Apnoetraining
DESCRIPTION:Bitte unbedingt vorab bei Bernd anmelden. Sollten keine Anmeldung eingehen\, findet das Training nicht statt \nTreffpunkt am Hallenbad um 18:00 Uhr und bilden von Fahrgemeinschaften an den Badesee Walldorf. \nFür das Training benötigt Ihr \n\nAnzug 5mm + Kopfhaube. Ein ’normaler‘ Anzug für das Gerätetauchen tut es für den Anfang auch.\nKopfhaube\nHandschuhe (2 – 4 mm)\nNeoprensocken\, mit denen Ihr noch in die Flossen passt\nFlossen\nBlei + Bleigurt\nWer mag und hat: kleine Taschenlampe
URL:https://www.tauchclub-dreieich.de/termin/apnoetraining-20
LOCATION:Badestelle Walldorfer See\, Aschaffenburger Str.\, Mörfelden-Walldorf\, Hessen\, 64546\, Deutschland
CATEGORIES:Apnoetraining
END:VEVENT
BEGIN:VEVENT
DTSTART;TZID=Europe/Berlin:20250815T183000
DTEND;TZID=Europe/Berlin:20250815T200000
DTSTAMP:20260422T165330
CREATED:20250520T165436Z
LAST-MODIFIED:20250520T165436Z
UID:8763-1755282600-1755288000@www.tauchclub-dreieich.de
SUMMARY:Allgemeines Training
DESCRIPTION:
URL:https://www.tauchclub-dreieich.de/termin/allgemeines-training-169
LOCATION:Familien- und Freizeitbad Langen\, Teichstraße 28\, Langen\, 63322\, Deutschland
CATEGORIES:Training
END:VEVENT
BEGIN:VEVENT
DTSTART;TZID=Europe/Berlin:20250815T183000
DTEND;TZID=Europe/Berlin:20250815T200000
DTSTAMP:20260422T165330
CREATED:20250520T165931Z
LAST-MODIFIED:20250520T165931Z
UID:8782-1755282600-1755288000@www.tauchclub-dreieich.de
SUMMARY:Jugendtraining
DESCRIPTION:
URL:https://www.tauchclub-dreieich.de/termin/jugendtraining-172
LOCATION:Familien- und Freizeitbad Langen\, Teichstraße 28\, Langen\, 63322\, Deutschland
CATEGORIES:Jugendtraining
END:VEVENT
BEGIN:VEVENT
DTSTART;TZID=Europe/Berlin:20250819T180000
DTEND;TZID=Europe/Berlin:20250819T200000
DTSTAMP:20260422T165330
CREATED:20250520T170230Z
LAST-MODIFIED:20250520T170230Z
UID:8794-1755626400-1755633600@www.tauchclub-dreieich.de
SUMMARY:Apnoetraining
DESCRIPTION:Bitte unbedingt vorab bei Bernd anmelden. Sollten keine Anmeldung eingehen\, findet das Training nicht statt \nTreffpunkt am Hallenbad um 18:00 Uhr und bilden von Fahrgemeinschaften an den Badesee Walldorf. \nFür das Training benötigt Ihr \n\nAnzug 5mm + Kopfhaube. Ein ’normaler‘ Anzug für das Gerätetauchen tut es für den Anfang auch.\nKopfhaube\nHandschuhe (2 – 4 mm)\nNeoprensocken\, mit denen Ihr noch in die Flossen passt\nFlossen\nBlei + Bleigurt\nWer mag und hat: kleine Taschenlampe
URL:https://www.tauchclub-dreieich.de/termin/apnoetraining-21
LOCATION:Badestelle Walldorfer See\, Aschaffenburger Str.\, Mörfelden-Walldorf\, Hessen\, 64546\, Deutschland
CATEGORIES:Apnoetraining
END:VEVENT
BEGIN:VEVENT
DTSTART;TZID=Europe/Berlin:20250822T183000
DTEND;TZID=Europe/Berlin:20250822T200000
DTSTAMP:20260422T165330
CREATED:20250520T165436Z
LAST-MODIFIED:20250520T165436Z
UID:8764-1755887400-1755892800@www.tauchclub-dreieich.de
SUMMARY:Allgemeines Training
DESCRIPTION:
URL:https://www.tauchclub-dreieich.de/termin/allgemeines-training-170
LOCATION:Familien- und Freizeitbad Langen\, Teichstraße 28\, Langen\, 63322\, Deutschland
CATEGORIES:Training
END:VEVENT
BEGIN:VEVENT
DTSTART;TZID=Europe/Berlin:20250822T183000
DTEND;TZID=Europe/Berlin:20250822T200000
DTSTAMP:20260422T165330
CREATED:20250520T165931Z
LAST-MODIFIED:20250520T165931Z
UID:8783-1755887400-1755892800@www.tauchclub-dreieich.de
SUMMARY:Jugendtraining
DESCRIPTION:
URL:https://www.tauchclub-dreieich.de/termin/jugendtraining-173
LOCATION:Familien- und Freizeitbad Langen\, Teichstraße 28\, Langen\, 63322\, Deutschland
CATEGORIES:Jugendtraining
END:VEVENT
BEGIN:VEVENT
DTSTART;TZID=Europe/Berlin:20250823T110000
DTEND;TZID=Europe/Berlin:20250823T160000
DTSTAMP:20260422T165330
CREATED:20250126T160147Z
LAST-MODIFIED:20250126T160449Z
UID:7897-1755946800-1755964800@www.tauchclub-dreieich.de
SUMMARY:HTSV Jugendgrillen
DESCRIPTION:Jugendgrillen der HTSV Jugend. Tauchen in Schönbach am HTSV Verbandssee mit Grillen und der Verleihung des Goldenen Konrads. \nWer mit möchte\, muß sich direkt auf der HTSV Seite anmelden: \nhttps://htsv.org/ausschreibung/?Serial=1887
URL:https://www.tauchclub-dreieich.de/termin/htsv-jugendgrillen
LOCATION:Verbandsgewässer Schönbach\, Schönbach\, Hessen\, Deutschland
END:VEVENT
BEGIN:VEVENT
DTSTART;TZID=Europe/Berlin:20250826T180000
DTEND;TZID=Europe/Berlin:20250826T200000
DTSTAMP:20260422T165330
CREATED:20250520T170230Z
LAST-MODIFIED:20250520T170230Z
UID:8795-1756231200-1756238400@www.tauchclub-dreieich.de
SUMMARY:Apnoetraining
DESCRIPTION:Bitte unbedingt vorab bei Bernd anmelden. Sollten keine Anmeldung eingehen\, findet das Training nicht statt \nTreffpunkt am Hallenbad um 18:00 Uhr und bilden von Fahrgemeinschaften an den Badesee Walldorf. \nFür das Training benötigt Ihr \n\nAnzug 5mm + Kopfhaube. Ein ’normaler‘ Anzug für das Gerätetauchen tut es für den Anfang auch.\nKopfhaube\nHandschuhe (2 – 4 mm)\nNeoprensocken\, mit denen Ihr noch in die Flossen passt\nFlossen\nBlei + Bleigurt\nWer mag und hat: kleine Taschenlampe
URL:https://www.tauchclub-dreieich.de/termin/apnoetraining-22
LOCATION:Badestelle Walldorfer See\, Aschaffenburger Str.\, Mörfelden-Walldorf\, Hessen\, 64546\, Deutschland
CATEGORIES:Apnoetraining
END:VEVENT
BEGIN:VEVENT
DTSTART;TZID=Europe/Berlin:20250829T183000
DTEND;TZID=Europe/Berlin:20250829T200000
DTSTAMP:20260422T165330
CREATED:20250520T165436Z
LAST-MODIFIED:20250520T165436Z
UID:8765-1756492200-1756497600@www.tauchclub-dreieich.de
SUMMARY:Allgemeines Training
DESCRIPTION:
URL:https://www.tauchclub-dreieich.de/termin/allgemeines-training-171
LOCATION:Familien- und Freizeitbad Langen\, Teichstraße 28\, Langen\, 63322\, Deutschland
CATEGORIES:Training
END:VEVENT
BEGIN:VEVENT
DTSTART;TZID=Europe/Berlin:20250829T183000
DTEND;TZID=Europe/Berlin:20250829T200000
DTSTAMP:20260422T165330
CREATED:20250520T165931Z
LAST-MODIFIED:20250520T165931Z
UID:8784-1756492200-1756497600@www.tauchclub-dreieich.de
SUMMARY:Jugendtraining
DESCRIPTION:
URL:https://www.tauchclub-dreieich.de/termin/jugendtraining-174
LOCATION:Familien- und Freizeitbad Langen\, Teichstraße 28\, Langen\, 63322\, Deutschland
CATEGORIES:Jugendtraining
END:VEVENT
BEGIN:VEVENT
DTSTART;TZID=Europe/Berlin:20250830T160000
DTEND;TZID=Europe/Berlin:20250830T230000
DTSTAMP:20260422T165330
CREATED:20250615T164436Z
LAST-MODIFIED:20250630T183732Z
UID:9005-1756569600-1756594800@www.tauchclub-dreieich.de
SUMMARY:Sommerfest 2025
DESCRIPTION:Liebe Mitglieder des Tauchclub Dreieich\, \nwir möchten Euch auch in diesem Jahr sehr herzlich zu unserem Sommerfest einladen! \nAm Samstag\, 30. August ab 16 Uhr im alten Forsthaus Kalkofen https://kalkofen.com/ \nUm uns unsere Planung zu erleichtern\, bitten wir Euch um eine Anmeldung bis zum 09.08.2025 über das Online Formular unten. \nDie Getränke übernimmt der Verein für Euch!\nDas Essen zahlt bitte jeder selbst. Für externe Gäste fällt ein Unkostenbeitrag von 10 € an. \nBitte für jede Person einmal separat anmelden – das erleichtert uns die Arbeit. Danke Dir! \n\n\n  \n\n\n\nBitte lasse dieses Feld leer.\n Dein Name\n \n \n Deine E-Mail-Adresse\n \n \n Bist Du Mitglied im Tauchclub Dreieich?\nJaNein\n \n Deine Nachricht (optional)
URL:https://www.tauchclub-dreieich.de/termin/sommerfest-2025
LOCATION:Zum Alten Forsthaus Kalkofen\, Kalkofenweg 90\, Darmstadt\, Hessen\, 64291\, Germany
CATEGORIES:Veranstaltungen
END:VEVENT
END:VCALENDAR