BEGIN:VCALENDAR
VERSION:2.0
PRODID:-//Tauchclub Dreieich in Langen e.V. - ECPv6.15.20//NONSGML v1.0//EN
CALSCALE:GREGORIAN
METHOD:PUBLISH
X-WR-CALNAME:Tauchclub Dreieich in Langen e.V.
X-ORIGINAL-URL:https://www.tauchclub-dreieich.de
X-WR-CALDESC:Veranstaltungen für Tauchclub Dreieich in Langen e.V.
REFRESH-INTERVAL;VALUE=DURATION:PT1H
X-Robots-Tag:noindex
X-PUBLISHED-TTL:PT1H
BEGIN:VTIMEZONE
TZID:Europe/Berlin
BEGIN:DAYLIGHT
TZOFFSETFROM:+0100
TZOFFSETTO:+0200
TZNAME:CEST
DTSTART:20240331T010000
END:DAYLIGHT
BEGIN:STANDARD
TZOFFSETFROM:+0200
TZOFFSETTO:+0100
TZNAME:CET
DTSTART:20241027T010000
END:STANDARD
BEGIN:DAYLIGHT
TZOFFSETFROM:+0100
TZOFFSETTO:+0200
TZNAME:CEST
DTSTART:20250330T010000
END:DAYLIGHT
BEGIN:STANDARD
TZOFFSETFROM:+0200
TZOFFSETTO:+0100
TZNAME:CET
DTSTART:20251026T010000
END:STANDARD
BEGIN:DAYLIGHT
TZOFFSETFROM:+0100
TZOFFSETTO:+0200
TZNAME:CEST
DTSTART:20260329T010000
END:DAYLIGHT
BEGIN:STANDARD
TZOFFSETFROM:+0200
TZOFFSETTO:+0100
TZNAME:CET
DTSTART:20261025T010000
END:STANDARD
END:VTIMEZONE
BEGIN:VEVENT
DTSTART;VALUE=DATE:20250312
DTEND;VALUE=DATE:20250412
DTSTAMP:20260422T235328
CREATED:20241215T231710Z
LAST-MODIFIED:20241215T233908Z
UID:7597-1741737600-1744415999@www.tauchclub-dreieich.de
SUMMARY:Tauchkurs für Einsteiger - Grundtauchschein
DESCRIPTION:
URL:https://www.tauchclub-dreieich.de/termin/tauchkurs-fuer-einsteiger-grundtauchschein
LOCATION:Langener Hallenbad\, Südliche Ringstraße 75\, Langen\, 63225\, Deutschland
CATEGORIES:Grundtauchschein
END:VEVENT
BEGIN:VEVENT
DTSTART;TZID=Europe/Berlin:20250402T183000
DTEND;TZID=Europe/Berlin:20250402T200000
DTSTAMP:20260422T235328
CREATED:20250208T231718Z
LAST-MODIFIED:20250208T231718Z
UID:8035-1743618600-1743624000@www.tauchclub-dreieich.de
SUMMARY:Apnoetraining
DESCRIPTION:Nur nach Ankündigung
URL:https://www.tauchclub-dreieich.de/termin/apnoetraining-9
LOCATION:Langener Hallenbad\, Südliche Ringstraße 75\, Langen\, 63225\, Deutschland
CATEGORIES:Apnoetraining
END:VEVENT
BEGIN:VEVENT
DTSTART;TZID=Europe/Berlin:20250404T183000
DTEND;TZID=Europe/Berlin:20250404T200000
DTSTAMP:20260422T235328
CREATED:20250208T231529Z
LAST-MODIFIED:20250208T231529Z
UID:8019-1743791400-1743796800@www.tauchclub-dreieich.de
SUMMARY:Jugendtraining
DESCRIPTION:
URL:https://www.tauchclub-dreieich.de/termin/jugendtraining-157
LOCATION:Langener Hallenbad\, Südliche Ringstraße 75\, Langen\, 63225\, Deutschland
CATEGORIES:Jugendtraining
END:VEVENT
BEGIN:VEVENT
DTSTART;TZID=Europe/Berlin:20250404T193000
DTEND;TZID=Europe/Berlin:20250404T210000
DTSTAMP:20260422T235328
CREATED:20250208T231503Z
LAST-MODIFIED:20250208T231503Z
UID:8003-1743795000-1743800400@www.tauchclub-dreieich.de
SUMMARY:Allgemeines Training
DESCRIPTION:
URL:https://www.tauchclub-dreieich.de/termin/allgemeines-training-151
LOCATION:Langener Hallenbad\, Südliche Ringstraße 75\, Langen\, 63225\, Deutschland
CATEGORIES:Training
END:VEVENT
BEGIN:VEVENT
DTSTART;TZID=Europe/Berlin:20250409T183000
DTEND;TZID=Europe/Berlin:20250409T200000
DTSTAMP:20260422T235328
CREATED:20250208T231718Z
LAST-MODIFIED:20250208T231718Z
UID:8036-1744223400-1744228800@www.tauchclub-dreieich.de
SUMMARY:Apnoetraining
DESCRIPTION:Nur nach Ankündigung
URL:https://www.tauchclub-dreieich.de/termin/apnoetraining-10
LOCATION:Langener Hallenbad\, Südliche Ringstraße 75\, Langen\, 63225\, Deutschland
CATEGORIES:Apnoetraining
END:VEVENT
BEGIN:VEVENT
DTSTART;TZID=Europe/Berlin:20250411T183000
DTEND;TZID=Europe/Berlin:20250411T200000
DTSTAMP:20260422T235328
CREATED:20250208T231539Z
LAST-MODIFIED:20250208T231539Z
UID:8020-1744396200-1744401600@www.tauchclub-dreieich.de
SUMMARY:Jugendtraining
DESCRIPTION:
URL:https://www.tauchclub-dreieich.de/termin/jugendtraining-158
LOCATION:Langener Hallenbad\, Südliche Ringstraße 75\, Langen\, 63225\, Deutschland
CATEGORIES:Jugendtraining
END:VEVENT
BEGIN:VEVENT
DTSTART;TZID=Europe/Berlin:20250411T193000
DTEND;TZID=Europe/Berlin:20250411T210000
DTSTAMP:20260422T235328
CREATED:20250208T231503Z
LAST-MODIFIED:20250208T231503Z
UID:8004-1744399800-1744405200@www.tauchclub-dreieich.de
SUMMARY:Allgemeines Training
DESCRIPTION:
URL:https://www.tauchclub-dreieich.de/termin/allgemeines-training-152
LOCATION:Langener Hallenbad\, Südliche Ringstraße 75\, Langen\, 63225\, Deutschland
CATEGORIES:Training
END:VEVENT
BEGIN:VEVENT
DTSTART;TZID=Europe/Berlin:20250416T183000
DTEND;TZID=Europe/Berlin:20250416T200000
DTSTAMP:20260422T235328
CREATED:20250208T231718Z
LAST-MODIFIED:20250208T231718Z
UID:8037-1744828200-1744833600@www.tauchclub-dreieich.de
SUMMARY:Apnoetraining
DESCRIPTION:Nur nach Ankündigung
URL:https://www.tauchclub-dreieich.de/termin/apnoetraining-11
LOCATION:Langener Hallenbad\, Südliche Ringstraße 75\, Langen\, 63225\, Deutschland
CATEGORIES:Apnoetraining
END:VEVENT
BEGIN:VEVENT
DTSTART;TZID=Europe/Berlin:20250418T183000
DTEND;TZID=Europe/Berlin:20250418T200000
DTSTAMP:20260422T235328
CREATED:20250208T231539Z
LAST-MODIFIED:20250208T232126Z
UID:8021-1745001000-1745006400@www.tauchclub-dreieich.de
SUMMARY:Jugendtraining - fällt aus
DESCRIPTION:
URL:https://www.tauchclub-dreieich.de/termin/jugendtraining-159
LOCATION:Langener Hallenbad\, Südliche Ringstraße 75\, Langen\, 63225\, Deutschland
CATEGORIES:Jugendtraining
END:VEVENT
BEGIN:VEVENT
DTSTART;TZID=Europe/Berlin:20250418T193000
DTEND;TZID=Europe/Berlin:20250418T210000
DTSTAMP:20260422T235328
CREATED:20250208T231514Z
LAST-MODIFIED:20250208T232027Z
UID:8005-1745004600-1745010000@www.tauchclub-dreieich.de
SUMMARY:Allgemeines Training - fällt aus
DESCRIPTION:Das Training fällt aus\, da Karfreitag
URL:https://www.tauchclub-dreieich.de/termin/allgemeines-training-153
LOCATION:Langener Hallenbad\, Südliche Ringstraße 75\, Langen\, 63225\, Deutschland
CATEGORIES:Training
END:VEVENT
BEGIN:VEVENT
DTSTART;VALUE=DATE:20250422
DTEND;VALUE=DATE:20250501
DTSTAMP:20260422T235328
CREATED:20250208T232758Z
LAST-MODIFIED:20250208T232758Z
UID:8048-1745280000-1746057599@www.tauchclub-dreieich.de
SUMMARY:Aufbaukurs Nachttauchen
DESCRIPTION:Anmeldung auf der HTSV Seite \n\n\n\nBezeichnung:\nAK Nachttauchen\n\n\nTermin:\n22.04.2025 Di – 30.04.2025 Mi\n\n\nUhrzeiten:\n22.4.\, Theorie 19:00-21:00\n23.4.\, Nachtauchgang: 19:00-21:00\n30.4.\, Nachtauchgang: 19:00-21:00\, weitere Termine oder Termin-Änderungen nach Absprache möglich\n\n\nOrt:\nTheorie Online\, See in Südhessen/Nordbaden (abhängig von der Witterung)\n\n\nKosten:\n60 EUR inkl. Brevetierung\nEintrittgebühren (sofern welche anfallen) sind separat zu zahlen\n\n\nAnmeldung:\nAnmeldung auf der HTSV Seite\n\n\nVoraussetzung:\nDTSA * oder äquivalent\n25 Tauchgänge\nGrundkenntnisse der Orientierung\nwer will kann das VDST e-learning\nhttps://e-learning.vdst.de/course/view.php?id=871\ndurcharbeiten.\n\n\nMitzubringen:\nkomplette Tauchausrüstung inkl. Tauchlampe (empfohlen: 1000 Lumen oder mehr)\nSchreibzeug\, Logbuch\, Taucherpass\, gültige TTU und Beitragsnachweis:\nDer Theorieunterricht findet online über JITSI.Meet statt (läuft in den gängigen Browsern oder als App)\n\n\nSchwerpunkte:\nTheorie\nAuswahl und Bewertung von Nachttauchplätzen\nTauchgangplanung und -vorbereitung\nNachttauchausrüstung\, insbesondere Lampentechnik\nSicherheitsvorkehrungenmindestens 2 Tauchgänge (Termine und Gewässer nach vorheriger Absprache ) \nHinweis: wir können Termine mit dem vom TC Turtle ausgeschriebenen Orientierungskurs koordinieren\n\n\nBemerkung:\nZusatzanmeldefelder:\n-Erfahrung mit Nachttauchgängen\n-Grundkenntnisse im Handling des Kompasses\n\n\nAnmeldeschluß:\n1.4.2025\n\n\n\n  \nBei Rückfragen\, bitte bei Wolfgang melden. \n 
URL:https://www.tauchclub-dreieich.de/termin/aufbaukurs-nachttauchen
END:VEVENT
BEGIN:VEVENT
DTSTART;TZID=Europe/Berlin:20250423T183000
DTEND;TZID=Europe/Berlin:20250423T200000
DTSTAMP:20260422T235328
CREATED:20250208T231719Z
LAST-MODIFIED:20250208T231719Z
UID:8038-1745433000-1745438400@www.tauchclub-dreieich.de
SUMMARY:Apnoetraining
DESCRIPTION:Nur nach Ankündigung
URL:https://www.tauchclub-dreieich.de/termin/apnoetraining-12
LOCATION:Langener Hallenbad\, Südliche Ringstraße 75\, Langen\, 63225\, Deutschland
CATEGORIES:Apnoetraining
END:VEVENT
BEGIN:VEVENT
DTSTART;TZID=Europe/Berlin:20250425T183000
DTEND;TZID=Europe/Berlin:20250425T200000
DTSTAMP:20260422T235328
CREATED:20250208T231539Z
LAST-MODIFIED:20250208T231539Z
UID:8022-1745605800-1745611200@www.tauchclub-dreieich.de
SUMMARY:Jugendtraining
DESCRIPTION:
URL:https://www.tauchclub-dreieich.de/termin/jugendtraining-160
LOCATION:Langener Hallenbad\, Südliche Ringstraße 75\, Langen\, 63225\, Deutschland
CATEGORIES:Jugendtraining
END:VEVENT
BEGIN:VEVENT
DTSTART;TZID=Europe/Berlin:20250425T193000
DTEND;TZID=Europe/Berlin:20250425T210000
DTSTAMP:20260422T235328
CREATED:20250208T231514Z
LAST-MODIFIED:20250208T231514Z
UID:8006-1745609400-1745614800@www.tauchclub-dreieich.de
SUMMARY:Allgemeines Training
DESCRIPTION:
URL:https://www.tauchclub-dreieich.de/termin/allgemeines-training-154
LOCATION:Langener Hallenbad\, Südliche Ringstraße 75\, Langen\, 63225\, Deutschland
CATEGORIES:Training
END:VEVENT
BEGIN:VEVENT
DTSTART;TZID=Europe/Berlin:20250426T110000
DTEND;TZID=Europe/Berlin:20250426T180000
DTSTAMP:20260422T235328
CREATED:20241119T194151Z
LAST-MODIFIED:20250223T160442Z
UID:7105-1745665200-1745690400@www.tauchclub-dreieich.de
SUMMARY:Antauchen 2025
DESCRIPTION:Liebe TCD-Mitglieder\, \nam Samstag\, den 26.04.2025\, findet unser traditionelles Antauchen statt. Wir treffen uns um 11 Uhr in Mainhausen am See\, die Veranstaltung dauert bis 18 Uhr. \nAdresse: Campingplatz und Badesse Mainhausen\, Seestr. 11\, 63533 Mainhausen \nWir haben den Grillplatz„Schülercamp“\, das ist eine Wiese mit Unterstand. \nWir treffen uns an der Straße und fahren dann gemeinsam zum Ausladen auf den Campingplatz\, bitte das Auto nicht vor das Tor des Campingplatzes stellen. Anschließend müssen wir die Autos wieder rausfahren\, Parkplätze sind vor dem Campingplatz ausreichend vorhanden. \n\nWir werden grillen\, der Verein bringt Hühnchen\, Steaks\, Würstchen\, Brot\, Brötchen\, Kaffee und Getränke mit.\nWir bitten jeden an einen eigenen Teller\, Besteck und Becher oder Tasse zu denken\, wir wollen Müll vermeiden!!\nSitzgelegenheiten sind vorhanden( 4 Biergarnituren)\nToiletten sind in der Nähe(Bitte nicht mit dem nassen Neopren in die Toiletten oder Duschen gehen.)\nTaucher bitte eine kleine Unterlage (Plane) zum Umziehen mitbringen\nSonnencreme / Regenklamotten mitbringen\nKosten: 5 Euro pro Vereinsmitglied\, 10 Euro für nicht Mitglieder\, Kinder sind frei (Bitte passend mitbringen.)\nÜber Salatspenden oder Nachtisch würden wir uns sehr freuen.\nBitte meldet euch bis zum 13.04.2025 an\n\nWir freuen uns auf euer zahlreiches Erscheinen. \nEuer Vergnügungsausschuss \nWer später als 11 Uhr kommt\, kann nur noch ohne Auto auf den Campingplatz gelangen. Bitte ruft einen vom Vergnügungsausschuss an\, dann kommt einer von uns um den halben See gelaufen und lässt euch rein. \n\n\n  \n\n\n\n Dein vollständiger Name\n \n \n Deine E-Mail-Adresse\n \n \nBitte lasse dieses Feld leer.\n \n Teilnehmer\n \n \n davon Taucher\n \n \n davon Kinder/Jugendliche\n \n \n Ich bringe folgendes mit (Salat\, Kuchen\, ...)\n \n \n Hinweise/Anmerkungen (optional)
URL:https://www.tauchclub-dreieich.de/termin/antauchen-2025
LOCATION:Badesee Mainflingen\, Seestraße 11\, Mainhausen\, 63533\, Germany
CATEGORIES:Feste,Veranstaltungen
END:VEVENT
BEGIN:VEVENT
DTSTART;TZID=Europe/Berlin:20250430T183000
DTEND;TZID=Europe/Berlin:20250430T200000
DTSTAMP:20260422T235328
CREATED:20250208T231719Z
LAST-MODIFIED:20250208T231719Z
UID:8039-1746037800-1746043200@www.tauchclub-dreieich.de
SUMMARY:Apnoetraining
DESCRIPTION:Nur nach Ankündigung
URL:https://www.tauchclub-dreieich.de/termin/apnoetraining-13
LOCATION:Langener Hallenbad\, Südliche Ringstraße 75\, Langen\, 63225\, Deutschland
CATEGORIES:Apnoetraining
END:VEVENT
END:VCALENDAR