BEGIN:VCALENDAR
VERSION:2.0
PRODID:-//Tauchclub Dreieich in Langen e.V. - ECPv6.15.20//NONSGML v1.0//EN
CALSCALE:GREGORIAN
METHOD:PUBLISH
X-ORIGINAL-URL:https://www.tauchclub-dreieich.de
X-WR-CALDESC:Veranstaltungen für Tauchclub Dreieich in Langen e.V.
REFRESH-INTERVAL;VALUE=DURATION:PT1H
X-Robots-Tag:noindex
X-PUBLISHED-TTL:PT1H
BEGIN:VTIMEZONE
TZID:Europe/Berlin
BEGIN:DAYLIGHT
TZOFFSETFROM:+0100
TZOFFSETTO:+0200
TZNAME:CEST
DTSTART:20240331T010000
END:DAYLIGHT
BEGIN:STANDARD
TZOFFSETFROM:+0200
TZOFFSETTO:+0100
TZNAME:CET
DTSTART:20241027T010000
END:STANDARD
BEGIN:DAYLIGHT
TZOFFSETFROM:+0100
TZOFFSETTO:+0200
TZNAME:CEST
DTSTART:20250330T010000
END:DAYLIGHT
BEGIN:STANDARD
TZOFFSETFROM:+0200
TZOFFSETTO:+0100
TZNAME:CET
DTSTART:20251026T010000
END:STANDARD
BEGIN:DAYLIGHT
TZOFFSETFROM:+0100
TZOFFSETTO:+0200
TZNAME:CEST
DTSTART:20260329T010000
END:DAYLIGHT
BEGIN:STANDARD
TZOFFSETFROM:+0200
TZOFFSETTO:+0100
TZNAME:CET
DTSTART:20261025T010000
END:STANDARD
END:VTIMEZONE
BEGIN:VEVENT
DTSTART;TZID=Europe/Berlin:20250205T183000
DTEND;TZID=Europe/Berlin:20250205T200000
DTSTAMP:20260423T032232
CREATED:20250208T231639Z
LAST-MODIFIED:20250208T231639Z
UID:8027-1738780200-1738785600@www.tauchclub-dreieich.de
SUMMARY:Apnoetraining
DESCRIPTION:Nur nach Ankündigung
URL:https://www.tauchclub-dreieich.de/termin/apnoetraining
LOCATION:Langener Hallenbad\, Südliche Ringstraße 75\, Langen\, 63225\, Deutschland
CATEGORIES:Apnoetraining
END:VEVENT
BEGIN:VEVENT
DTSTART;TZID=Europe/Berlin:20250207T183000
DTEND;TZID=Europe/Berlin:20250207T200000
DTSTAMP:20260423T032232
CREATED:20250208T231520Z
LAST-MODIFIED:20250208T231520Z
UID:8011-1738953000-1738958400@www.tauchclub-dreieich.de
SUMMARY:Jugendtraining
DESCRIPTION:
URL:https://www.tauchclub-dreieich.de/termin/jugendtraining-149
LOCATION:Langener Hallenbad\, Südliche Ringstraße 75\, Langen\, 63225\, Deutschland
CATEGORIES:Jugendtraining
END:VEVENT
BEGIN:VEVENT
DTSTART;TZID=Europe/Berlin:20250207T193000
DTEND;TZID=Europe/Berlin:20250207T210000
DTSTAMP:20260423T032232
CREATED:20250208T231459Z
LAST-MODIFIED:20250208T231459Z
UID:7995-1738956600-1738962000@www.tauchclub-dreieich.de
SUMMARY:Allgemeines Training
DESCRIPTION:
URL:https://www.tauchclub-dreieich.de/termin/allgemeines-training-143
LOCATION:Langener Hallenbad\, Südliche Ringstraße 75\, Langen\, 63225\, Deutschland
CATEGORIES:Training
END:VEVENT
BEGIN:VEVENT
DTSTART;TZID=Europe/Berlin:20250212T183000
DTEND;TZID=Europe/Berlin:20250212T200000
DTSTAMP:20260423T032232
CREATED:20250208T231639Z
LAST-MODIFIED:20250208T231639Z
UID:8028-1739385000-1739390400@www.tauchclub-dreieich.de
SUMMARY:Apnoetraining
DESCRIPTION:Nur nach Ankündigung
URL:https://www.tauchclub-dreieich.de/termin/apnoetraining-2
LOCATION:Langener Hallenbad\, Südliche Ringstraße 75\, Langen\, 63225\, Deutschland
CATEGORIES:Apnoetraining
END:VEVENT
BEGIN:VEVENT
DTSTART;TZID=Europe/Berlin:20250214T183000
DTEND;TZID=Europe/Berlin:20250214T200000
DTSTAMP:20260423T032232
CREATED:20250208T231520Z
LAST-MODIFIED:20250208T231520Z
UID:8012-1739557800-1739563200@www.tauchclub-dreieich.de
SUMMARY:Jugendtraining
DESCRIPTION:
URL:https://www.tauchclub-dreieich.de/termin/jugendtraining-150
LOCATION:Langener Hallenbad\, Südliche Ringstraße 75\, Langen\, 63225\, Deutschland
CATEGORIES:Jugendtraining
END:VEVENT
BEGIN:VEVENT
DTSTART;TZID=Europe/Berlin:20250214T193000
DTEND;TZID=Europe/Berlin:20250214T210000
DTSTAMP:20260423T032232
CREATED:20250208T231500Z
LAST-MODIFIED:20250208T231500Z
UID:7996-1739561400-1739566800@www.tauchclub-dreieich.de
SUMMARY:Allgemeines Training
DESCRIPTION:
URL:https://www.tauchclub-dreieich.de/termin/allgemeines-training-144
LOCATION:Langener Hallenbad\, Südliche Ringstraße 75\, Langen\, 63225\, Deutschland
CATEGORIES:Training
END:VEVENT
BEGIN:VEVENT
DTSTART;TZID=Europe/Berlin:20250219T183000
DTEND;TZID=Europe/Berlin:20250219T200000
DTSTAMP:20260423T032232
CREATED:20250208T231639Z
LAST-MODIFIED:20250208T231639Z
UID:8029-1739989800-1739995200@www.tauchclub-dreieich.de
SUMMARY:Apnoetraining
DESCRIPTION:Nur nach Ankündigung
URL:https://www.tauchclub-dreieich.de/termin/apnoetraining-3
LOCATION:Langener Hallenbad\, Südliche Ringstraße 75\, Langen\, 63225\, Deutschland
CATEGORIES:Apnoetraining
END:VEVENT
BEGIN:VEVENT
DTSTART;TZID=Europe/Berlin:20250221T183000
DTEND;TZID=Europe/Berlin:20250221T200000
DTSTAMP:20260423T032232
CREATED:20250208T231521Z
LAST-MODIFIED:20250208T231521Z
UID:8013-1740162600-1740168000@www.tauchclub-dreieich.de
SUMMARY:Jugendtraining
DESCRIPTION:
URL:https://www.tauchclub-dreieich.de/termin/jugendtraining-151
LOCATION:Langener Hallenbad\, Südliche Ringstraße 75\, Langen\, 63225\, Deutschland
CATEGORIES:Jugendtraining
END:VEVENT
BEGIN:VEVENT
DTSTART;TZID=Europe/Berlin:20250221T193000
DTEND;TZID=Europe/Berlin:20250221T210000
DTSTAMP:20260423T032232
CREATED:20250208T231500Z
LAST-MODIFIED:20250208T231500Z
UID:7997-1740166200-1740171600@www.tauchclub-dreieich.de
SUMMARY:Allgemeines Training
DESCRIPTION:
URL:https://www.tauchclub-dreieich.de/termin/allgemeines-training-145
LOCATION:Langener Hallenbad\, Südliche Ringstraße 75\, Langen\, 63225\, Deutschland
CATEGORIES:Training
END:VEVENT
BEGIN:VEVENT
DTSTART;TZID=Europe/Berlin:20250226T183000
DTEND;TZID=Europe/Berlin:20250226T200000
DTSTAMP:20260423T032232
CREATED:20250208T231715Z
LAST-MODIFIED:20250208T231715Z
UID:8030-1740594600-1740600000@www.tauchclub-dreieich.de
SUMMARY:Apnoetraining
DESCRIPTION:Nur nach Ankündigung
URL:https://www.tauchclub-dreieich.de/termin/apnoetraining-4
LOCATION:Langener Hallenbad\, Südliche Ringstraße 75\, Langen\, 63225\, Deutschland
CATEGORIES:Apnoetraining
END:VEVENT
BEGIN:VEVENT
DTSTART;TZID=Europe/Berlin:20250228T183000
DTEND;TZID=Europe/Berlin:20250228T200000
DTSTAMP:20260423T032232
CREATED:20250208T231521Z
LAST-MODIFIED:20250208T231521Z
UID:8014-1740767400-1740772800@www.tauchclub-dreieich.de
SUMMARY:Jugendtraining
DESCRIPTION:
URL:https://www.tauchclub-dreieich.de/termin/jugendtraining-152
LOCATION:Langener Hallenbad\, Südliche Ringstraße 75\, Langen\, 63225\, Deutschland
CATEGORIES:Jugendtraining
END:VEVENT
BEGIN:VEVENT
DTSTART;TZID=Europe/Berlin:20250228T193000
DTEND;TZID=Europe/Berlin:20250228T210000
DTSTAMP:20260423T032232
CREATED:20250208T231500Z
LAST-MODIFIED:20250208T231500Z
UID:7998-1740771000-1740776400@www.tauchclub-dreieich.de
SUMMARY:Allgemeines Training
DESCRIPTION:
URL:https://www.tauchclub-dreieich.de/termin/allgemeines-training-146
LOCATION:Langener Hallenbad\, Südliche Ringstraße 75\, Langen\, 63225\, Deutschland
CATEGORIES:Training
END:VEVENT
END:VCALENDAR