BEGIN:VCALENDAR
VERSION:2.0
PRODID:-//Tauchclub Dreieich in Langen e.V. - ECPv6.15.20//NONSGML v1.0//EN
CALSCALE:GREGORIAN
METHOD:PUBLISH
X-ORIGINAL-URL:https://www.tauchclub-dreieich.de
X-WR-CALDESC:Veranstaltungen für Tauchclub Dreieich in Langen e.V.
REFRESH-INTERVAL;VALUE=DURATION:PT1H
X-Robots-Tag:noindex
X-PUBLISHED-TTL:PT1H
BEGIN:VTIMEZONE
TZID:Europe/Berlin
BEGIN:DAYLIGHT
TZOFFSETFROM:+0100
TZOFFSETTO:+0200
TZNAME:CEST
DTSTART:20230326T010000
END:DAYLIGHT
BEGIN:STANDARD
TZOFFSETFROM:+0200
TZOFFSETTO:+0100
TZNAME:CET
DTSTART:20231029T010000
END:STANDARD
BEGIN:DAYLIGHT
TZOFFSETFROM:+0100
TZOFFSETTO:+0200
TZNAME:CEST
DTSTART:20240331T010000
END:DAYLIGHT
BEGIN:STANDARD
TZOFFSETFROM:+0200
TZOFFSETTO:+0100
TZNAME:CET
DTSTART:20241027T010000
END:STANDARD
BEGIN:DAYLIGHT
TZOFFSETFROM:+0100
TZOFFSETTO:+0200
TZNAME:CEST
DTSTART:20250330T010000
END:DAYLIGHT
BEGIN:STANDARD
TZOFFSETFROM:+0200
TZOFFSETTO:+0100
TZNAME:CET
DTSTART:20251026T010000
END:STANDARD
BEGIN:DAYLIGHT
TZOFFSETFROM:+0100
TZOFFSETTO:+0200
TZNAME:CEST
DTSTART:20260329T010000
END:DAYLIGHT
BEGIN:STANDARD
TZOFFSETFROM:+0200
TZOFFSETTO:+0100
TZNAME:CET
DTSTART:20261025T010000
END:STANDARD
END:VTIMEZONE
BEGIN:VEVENT
DTSTART;VALUE=DATE:20241223
DTEND;VALUE=DATE:20250102
DTSTAMP:20260423T050450
CREATED:20241215T210214Z
LAST-MODIFIED:20241215T210403Z
UID:7571-1734912000-1735775999@www.tauchclub-dreieich.de
SUMMARY:Hallenbad geschlossen 23.12.2024-1.1.2025
DESCRIPTION:
URL:https://www.tauchclub-dreieich.de/termin/hallenbad-geschlossen-23-12-2024-1-1-2025
CATEGORIES:Training
END:VEVENT
BEGIN:VEVENT
DTSTART;TZID=Europe/Berlin:20250103T193000
DTEND;TZID=Europe/Berlin:20250103T200000
DTSTAMP:20260423T050450
CREATED:20240922T220033Z
LAST-MODIFIED:20240922T220033Z
UID:7025-1735932600-1735934400@www.tauchclub-dreieich.de
SUMMARY:Jugendtraining
DESCRIPTION:
URL:https://www.tauchclub-dreieich.de/termin/jugendtraining-144
LOCATION:Langener Hallenbad\, Südliche Ringstraße 75\, Langen\, 63225\, Deutschland
CATEGORIES:Jugendtraining
END:VEVENT
BEGIN:VEVENT
DTSTART;TZID=Europe/Berlin:20250103T193000
DTEND;TZID=Europe/Berlin:20250103T210000
DTSTAMP:20260423T050450
CREATED:20240922T215935Z
LAST-MODIFIED:20240922T215935Z
UID:7007-1735932600-1735938000@www.tauchclub-dreieich.de
SUMMARY:Allgemeines Training
DESCRIPTION:
URL:https://www.tauchclub-dreieich.de/termin/allgemeines-training-138
LOCATION:Langener Hallenbad\, Südliche Ringstraße 75\, Langen\, 63225\, Deutschland
CATEGORIES:Training
END:VEVENT
BEGIN:VEVENT
DTSTART;TZID=Europe/Berlin:20250110T193000
DTEND;TZID=Europe/Berlin:20250110T210000
DTSTAMP:20260423T050450
CREATED:20240922T215948Z
LAST-MODIFIED:20240922T215948Z
UID:7008-1736537400-1736542800@www.tauchclub-dreieich.de
SUMMARY:Allgemeines Training
DESCRIPTION:
URL:https://www.tauchclub-dreieich.de/termin/allgemeines-training-139
LOCATION:Langener Hallenbad\, Südliche Ringstraße 75\, Langen\, 63225\, Deutschland
CATEGORIES:Training
END:VEVENT
BEGIN:VEVENT
DTSTART;TZID=Europe/Berlin:20250117T183000
DTEND;TZID=Europe/Berlin:20250117T200000
DTSTAMP:20260423T050450
CREATED:20240922T220033Z
LAST-MODIFIED:20240922T220033Z
UID:7027-1737138600-1737144000@www.tauchclub-dreieich.de
SUMMARY:Jugendtraining
DESCRIPTION:
URL:https://www.tauchclub-dreieich.de/termin/jugendtraining-146
LOCATION:Langener Hallenbad\, Südliche Ringstraße 75\, Langen\, 63225\, Deutschland
CATEGORIES:Jugendtraining
END:VEVENT
BEGIN:VEVENT
DTSTART;TZID=Europe/Berlin:20250117T193000
DTEND;TZID=Europe/Berlin:20250117T210000
DTSTAMP:20260423T050450
CREATED:20240922T215948Z
LAST-MODIFIED:20240922T215948Z
UID:7009-1737142200-1737147600@www.tauchclub-dreieich.de
SUMMARY:Allgemeines Training
DESCRIPTION:
URL:https://www.tauchclub-dreieich.de/termin/allgemeines-training-140
LOCATION:Langener Hallenbad\, Südliche Ringstraße 75\, Langen\, 63225\, Deutschland
CATEGORIES:Training
END:VEVENT
BEGIN:VEVENT
DTSTART;TZID=Europe/Berlin:20250118T180000
DTEND;TZID=Europe/Berlin:20250118T230000
DTSTAMP:20260423T050450
CREATED:20241117T151010Z
LAST-MODIFIED:20241211T094457Z
UID:7087-1737223200-1737241200@www.tauchclub-dreieich.de
SUMMARY:Neujahresempfang
DESCRIPTION:Der Vergnügungsausschuss und der Vorstand des TCD freuen sich\, gemeinsam mit euch ins neue Jahr zu starten! Freut euch auf einen typisch italienischen Abend mit leckeren Antipasti und frisch zubereiteter Pasta\, die auf Platten serviert werden. \nKosten:\n35 € für Vereinsmitglieder\n20 € für Kinder\n50 € für Nichtmitglieder \nDie Kosten beinhalten Essen und Getränke (ausgenommen hochprozentige Spirituosen). Damit der Abend für alle reibungslos verläuft\, bitten wir euch\, den Betrag am Abend in bar mitzubringen\, da wir mit der Pizzeria eine Sammelabrechnung vereinbart haben. \nAnmeldung\n\n\n  \n\n\n\n Dein vollständiger Name\n \n \n Deine E-Mail-Adresse\n \n \nBitte lasse dieses Feld leer.\n \nBist Du Vereinsmitglied?\nJa - VereinsmitgliedNein - kein Vereinsmitglied\n \nWie alt bist Du?\nKind (0-14 Jahre)Erwachsener (ab 15 Jahre)\n \n Hinweise/Anmerkungen (optional)
URL:https://www.tauchclub-dreieich.de/termin/neujahresempfang-2025
LOCATION:Pizzeria Europa\, Phillippseicher Straße 2\, Dreieich-Götzenhain\, 63303\, Germany
CATEGORIES:Feste,Veranstaltungen
END:VEVENT
BEGIN:VEVENT
DTSTART;TZID=Europe/Berlin:20250124T183000
DTEND;TZID=Europe/Berlin:20250124T200000
DTSTAMP:20260423T050450
CREATED:20240922T220233Z
LAST-MODIFIED:20240922T220233Z
UID:7028-1737743400-1737748800@www.tauchclub-dreieich.de
SUMMARY:Jugendtraining
DESCRIPTION:
URL:https://www.tauchclub-dreieich.de/termin/jugendtraining-147
LOCATION:Langener Hallenbad\, Südliche Ringstraße 75\, Langen\, 63225\, Deutschland
CATEGORIES:Jugendtraining
END:VEVENT
BEGIN:VEVENT
DTSTART;TZID=Europe/Berlin:20250124T193000
DTEND;TZID=Europe/Berlin:20250124T210000
DTSTAMP:20260423T050450
CREATED:20240922T215949Z
LAST-MODIFIED:20240922T215949Z
UID:7010-1737747000-1737752400@www.tauchclub-dreieich.de
SUMMARY:Allgemeines Training
DESCRIPTION:
URL:https://www.tauchclub-dreieich.de/termin/allgemeines-training-141
LOCATION:Langener Hallenbad\, Südliche Ringstraße 75\, Langen\, 63225\, Deutschland
CATEGORIES:Training
END:VEVENT
BEGIN:VEVENT
DTSTART;TZID=Europe/Berlin:20250131T183000
DTEND;TZID=Europe/Berlin:20250131T200000
DTSTAMP:20260423T050450
CREATED:20240922T220233Z
LAST-MODIFIED:20240922T220233Z
UID:7029-1738348200-1738353600@www.tauchclub-dreieich.de
SUMMARY:Jugendtraining
DESCRIPTION:
URL:https://www.tauchclub-dreieich.de/termin/jugendtraining-148
LOCATION:Langener Hallenbad\, Südliche Ringstraße 75\, Langen\, 63225\, Deutschland
CATEGORIES:Jugendtraining
END:VEVENT
BEGIN:VEVENT
DTSTART;TZID=Europe/Berlin:20250131T193000
DTEND;TZID=Europe/Berlin:20250131T210000
DTSTAMP:20260423T050450
CREATED:20240922T215949Z
LAST-MODIFIED:20240922T215949Z
UID:7011-1738351800-1738357200@www.tauchclub-dreieich.de
SUMMARY:Allgemeines Training
DESCRIPTION:
URL:https://www.tauchclub-dreieich.de/termin/allgemeines-training-142
LOCATION:Langener Hallenbad\, Südliche Ringstraße 75\, Langen\, 63225\, Deutschland
CATEGORIES:Training
END:VEVENT
END:VCALENDAR