BEGIN:VCALENDAR
VERSION:2.0
PRODID:-//Tauchclub Dreieich in Langen e.V. - ECPv6.15.20//NONSGML v1.0//EN
CALSCALE:GREGORIAN
METHOD:PUBLISH
X-ORIGINAL-URL:https://www.tauchclub-dreieich.de
X-WR-CALDESC:Veranstaltungen für Tauchclub Dreieich in Langen e.V.
REFRESH-INTERVAL;VALUE=DURATION:PT1H
X-Robots-Tag:noindex
X-PUBLISHED-TTL:PT1H
BEGIN:VTIMEZONE
TZID:Europe/Berlin
BEGIN:DAYLIGHT
TZOFFSETFROM:+0100
TZOFFSETTO:+0200
TZNAME:CEST
DTSTART:20230326T010000
END:DAYLIGHT
BEGIN:STANDARD
TZOFFSETFROM:+0200
TZOFFSETTO:+0100
TZNAME:CET
DTSTART:20231029T010000
END:STANDARD
BEGIN:DAYLIGHT
TZOFFSETFROM:+0100
TZOFFSETTO:+0200
TZNAME:CEST
DTSTART:20240331T010000
END:DAYLIGHT
BEGIN:STANDARD
TZOFFSETFROM:+0200
TZOFFSETTO:+0100
TZNAME:CET
DTSTART:20241027T010000
END:STANDARD
BEGIN:DAYLIGHT
TZOFFSETFROM:+0100
TZOFFSETTO:+0200
TZNAME:CEST
DTSTART:20250330T010000
END:DAYLIGHT
BEGIN:STANDARD
TZOFFSETFROM:+0200
TZOFFSETTO:+0100
TZNAME:CET
DTSTART:20251026T010000
END:STANDARD
END:VTIMEZONE
BEGIN:VEVENT
DTSTART;VALUE=DATE:20241003
DTEND;VALUE=DATE:20241006
DTSTAMP:20260423T094333
CREATED:20240916T184420Z
LAST-MODIFIED:20240916T191142Z
UID:6951-1727913600-1728172799@www.tauchclub-dreieich.de
SUMMARY:Tauchen im Elsass
DESCRIPTION:Das man im Elsass kalorienreich essen kann\, dürfte allgemein bekannt sein. Beim Thema Tauchen  in Frankreich denkt man aber zuerst an Korallen und Gorgonen im Mittelmeer und an die Wracks in der Bretagne und der Normandie. Seit einigen Jahren betreibt der französische Tauchsportverband jedoch ein Ausbildungsgewässer im Elsass mit vorbildlicher Infrastruktur und guten Sichtverhältnissen. Der Zugang ist reglementiert und es gelten die in Frankreich üblichen Sicherheitsbestimmungen. Der Fischbestand\, wird bewusst niedrig gehalten ist aber sehr artenreich\, mit Glück sieht man  Welse\, Hechte und evtl. auch mal einen Stör. \n   \nWir waren bereits einige Male dort und die mitgebrachten Fotos haben diesmal einige Vereinskameraden zur Mitfahrt motiviert… Wir hoffen das es denen auch gefällt.
URL:https://www.tauchclub-dreieich.de/termin/tauchen-im-elsass-2
CATEGORIES:Ausbildung,Tauchevents
ATTACH;FMTTYPE=image/jpeg:https://www.tauchclub-dreieich.de/wp-content/uploads/2024/02/nggallery_import/IMG_3210.JPG
END:VEVENT
BEGIN:VEVENT
DTSTART;TZID=Europe/Berlin:20241004T183000
DTEND;TZID=Europe/Berlin:20241004T200000
DTSTAMP:20260423T094333
CREATED:20240922T215949Z
LAST-MODIFIED:20240922T215949Z
UID:7012-1728066600-1728072000@www.tauchclub-dreieich.de
SUMMARY:Jugendtraining
DESCRIPTION:
URL:https://www.tauchclub-dreieich.de/termin/jugendtraining-131
LOCATION:Langener Hallenbad\, Südliche Ringstraße 75\, Langen\, 63225\, Deutschland
CATEGORIES:Jugendtraining
END:VEVENT
BEGIN:VEVENT
DTSTART;TZID=Europe/Berlin:20241004T193000
DTEND;TZID=Europe/Berlin:20241004T210000
DTSTAMP:20260423T094333
CREATED:20240922T215913Z
LAST-MODIFIED:20240922T215913Z
UID:6994-1728070200-1728075600@www.tauchclub-dreieich.de
SUMMARY:Allgemeines Training
DESCRIPTION:
URL:https://www.tauchclub-dreieich.de/termin/allgemeines-training-125
LOCATION:Langener Hallenbad\, Südliche Ringstraße 75\, Langen\, 63225\, Deutschland
CATEGORIES:Training
END:VEVENT
BEGIN:VEVENT
DTSTART;TZID=Europe/Berlin:20241011T183000
DTEND;TZID=Europe/Berlin:20241011T200000
DTSTAMP:20260423T094333
CREATED:20240922T220003Z
LAST-MODIFIED:20240922T220003Z
UID:7013-1728671400-1728676800@www.tauchclub-dreieich.de
SUMMARY:Jugendtraining
DESCRIPTION:
URL:https://www.tauchclub-dreieich.de/termin/jugendtraining-132
LOCATION:Langener Hallenbad\, Südliche Ringstraße 75\, Langen\, 63225\, Deutschland
CATEGORIES:Jugendtraining
END:VEVENT
BEGIN:VEVENT
DTSTART;TZID=Europe/Berlin:20241011T193000
DTEND;TZID=Europe/Berlin:20241011T210000
DTSTAMP:20260423T094333
CREATED:20240922T215914Z
LAST-MODIFIED:20241001T064322Z
UID:6995-1728675000-1728680400@www.tauchclub-dreieich.de
SUMMARY:Allgemeines Training
DESCRIPTION:
URL:https://www.tauchclub-dreieich.de/termin/allgemeines-training-126
LOCATION:Langener Hallenbad\, Südliche Ringstraße 75\, Langen\, 63225\, Deutschland
CATEGORIES:Training
END:VEVENT
BEGIN:VEVENT
DTSTART;TZID=Europe/Berlin:20241018T183000
DTEND;TZID=Europe/Berlin:20241018T200000
DTSTAMP:20260423T094333
CREATED:20240922T220004Z
LAST-MODIFIED:20240922T220004Z
UID:7014-1729276200-1729281600@www.tauchclub-dreieich.de
SUMMARY:Jugendtraining
DESCRIPTION:
URL:https://www.tauchclub-dreieich.de/termin/jugendtraining-133
LOCATION:Langener Hallenbad\, Südliche Ringstraße 75\, Langen\, 63225\, Deutschland
CATEGORIES:Jugendtraining
END:VEVENT
BEGIN:VEVENT
DTSTART;TZID=Europe/Berlin:20241018T193000
DTEND;TZID=Europe/Berlin:20241018T210000
DTSTAMP:20260423T094333
CREATED:20240922T215914Z
LAST-MODIFIED:20241001T064412Z
UID:6996-1729279800-1729285200@www.tauchclub-dreieich.de
SUMMARY:Allgemeines Training
DESCRIPTION:
URL:https://www.tauchclub-dreieich.de/termin/allgemeines-training-127
LOCATION:Langener Hallenbad\, Südliche Ringstraße 75\, Langen\, 63225\, Deutschland
CATEGORIES:Training
END:VEVENT
BEGIN:VEVENT
DTSTART;TZID=Europe/Berlin:20241025T183000
DTEND;TZID=Europe/Berlin:20241025T200000
DTSTAMP:20260423T094333
CREATED:20240922T220005Z
LAST-MODIFIED:20240922T220005Z
UID:7015-1729881000-1729886400@www.tauchclub-dreieich.de
SUMMARY:Jugendtraining
DESCRIPTION:
URL:https://www.tauchclub-dreieich.de/termin/jugendtraining-134
LOCATION:Langener Hallenbad\, Südliche Ringstraße 75\, Langen\, 63225\, Deutschland
CATEGORIES:Jugendtraining
END:VEVENT
BEGIN:VEVENT
DTSTART;TZID=Europe/Berlin:20241025T193000
DTEND;TZID=Europe/Berlin:20241025T210000
DTSTAMP:20260423T094333
CREATED:20240922T215914Z
LAST-MODIFIED:20240922T215914Z
UID:6997-1729884600-1729890000@www.tauchclub-dreieich.de
SUMMARY:Allgemeines Training
DESCRIPTION:
URL:https://www.tauchclub-dreieich.de/termin/allgemeines-training-128
LOCATION:Langener Hallenbad\, Südliche Ringstraße 75\, Langen\, 63225\, Deutschland
CATEGORIES:Training
END:VEVENT
BEGIN:VEVENT
DTSTART;TZID=Europe/Berlin:20241027T110000
DTEND;TZID=Europe/Berlin:20241027T160000
DTSTAMP:20260423T094333
CREATED:20240927T134200Z
LAST-MODIFIED:20241001T064106Z
UID:7030-1730026800-1730044800@www.tauchclub-dreieich.de
SUMMARY:Abtauchen
DESCRIPTION:Liebe TCD-Mitglieder\, \nam Sonntag\, den 27.10.2024\, findet unser traditionelles Abtauchen statt. Wir treffen uns um \n11:00 Uhr am Tor des Badesees in Walldorf. \nAufgrund der schwierige Einfahrt-Situation möchten wir euch darum bitten\, pünktlich zu kommen\, damit wir gemeinsam auf das Gelände fahren. Für eventuelle Notfälle werden wir eine Handynummer am Tor hinterlassen. \n\nZum Essen organisiert der Verein verschiedene Suppen und Brot.\nÜber zusätzliches Fingerfood\, Kuchen und Nachtischspenden würden wir uns sehr freuen.\nBitte denkt Teller\, Besteck und Becher oder Tasse\, wir wollen Müll vermeiden!\nTaucher bitte eine kleine Unterlage ( Plane ) mitbringen zum Umziehen\nKosten: 5 Euro pro Vereinsmitglied\, 10 Euro für nicht Mitglieder\, Kinder sind frei ( Bitte passend)\n\nBitte meldet euch bis zum 13.10.2024 unten an und tragt ein\, wenn ihr etwas zum Buffett beisteuern könnt: \nWir freuen uns auf ein zahlreiches Erscheinen. \nEuer Vergnügungsausschuss \n\n\n  \n\n\n\n Dein vollständiger Name\n \n \n Deine E-Mail-Adresse\n \n \nBitte lasse dieses Feld leer.\n \n Teilnehmer\n \n \n davon Taucher\n \n \n davon Kinder/Jugendliche\n \n \n Ich bringe folgendes mit (Salat\, Kuchen\, ...)\n \n \n Hinweise/Anmerkungen (optional)
URL:https://www.tauchclub-dreieich.de/termin/2024-abtauchen
LOCATION:Badestelle Walldorfer See\, Aschaffenburger Str.\, Mörfelden-Walldorf\, Hessen\, 64546\, Deutschland
END:VEVENT
END:VCALENDAR