BEGIN:VCALENDAR
VERSION:2.0
PRODID:-//Tauchclub Dreieich in Langen e.V. - ECPv6.15.20//NONSGML v1.0//EN
CALSCALE:GREGORIAN
METHOD:PUBLISH
X-WR-CALNAME:Tauchclub Dreieich in Langen e.V.
X-ORIGINAL-URL:https://www.tauchclub-dreieich.de
X-WR-CALDESC:Veranstaltungen für Tauchclub Dreieich in Langen e.V.
REFRESH-INTERVAL;VALUE=DURATION:PT1H
X-Robots-Tag:noindex
X-PUBLISHED-TTL:PT1H
BEGIN:VTIMEZONE
TZID:Europe/Berlin
BEGIN:DAYLIGHT
TZOFFSETFROM:+0100
TZOFFSETTO:+0200
TZNAME:CEST
DTSTART:20230326T010000
END:DAYLIGHT
BEGIN:STANDARD
TZOFFSETFROM:+0200
TZOFFSETTO:+0100
TZNAME:CET
DTSTART:20231029T010000
END:STANDARD
BEGIN:DAYLIGHT
TZOFFSETFROM:+0100
TZOFFSETTO:+0200
TZNAME:CEST
DTSTART:20240331T010000
END:DAYLIGHT
BEGIN:STANDARD
TZOFFSETFROM:+0200
TZOFFSETTO:+0100
TZNAME:CET
DTSTART:20241027T010000
END:STANDARD
BEGIN:DAYLIGHT
TZOFFSETFROM:+0100
TZOFFSETTO:+0200
TZNAME:CEST
DTSTART:20250330T010000
END:DAYLIGHT
BEGIN:STANDARD
TZOFFSETFROM:+0200
TZOFFSETTO:+0100
TZNAME:CET
DTSTART:20251026T010000
END:STANDARD
END:VTIMEZONE
BEGIN:VEVENT
DTSTART;TZID=Europe/Berlin:20240705T183000
DTEND;TZID=Europe/Berlin:20240705T200000
DTSTAMP:20260423T142937
CREATED:20240503T220544Z
LAST-MODIFIED:20240503T222046Z
UID:6661-1720204200-1720209600@www.tauchclub-dreieich.de
SUMMARY:Jugendtraining
DESCRIPTION:
URL:https://www.tauchclub-dreieich.de/termin/jugendtraining-120
LOCATION:Familien- und Freizeitbad Langen\, Teichstraße 28\, Langen\, 63322\, Deutschland
CATEGORIES:Jugendtraining
END:VEVENT
BEGIN:VEVENT
DTSTART;TZID=Europe/Berlin:20240712T183000
DTEND;TZID=Europe/Berlin:20240712T200000
DTSTAMP:20260423T142937
CREATED:20240503T220254Z
LAST-MODIFIED:20240503T220254Z
UID:6645-1720809000-1720814400@www.tauchclub-dreieich.de
SUMMARY:Allgemeines Training
DESCRIPTION:
URL:https://www.tauchclub-dreieich.de/termin/allgemeines-training-113
LOCATION:Familien- und Freizeitbad Langen\, Teichstraße 28\, Langen\, 63322\, Deutschland
CATEGORIES:Training
END:VEVENT
BEGIN:VEVENT
DTSTART;TZID=Europe/Berlin:20240712T190000
DTEND;TZID=Europe/Berlin:20240721T100000
DTSTAMP:20260423T142937
CREATED:20240325T223355Z
LAST-MODIFIED:20240325T223422Z
UID:6555-1720810800-1721556000@www.tauchclub-dreieich.de
SUMMARY:Tauchfahrt nach Estartit/Spanien
DESCRIPTION:Ausschreibung \nWir fahren am 12.07. abends in Langen los und erreichen Estartit voraussichtlich um die Mittagszeit am Samstag\, 13.07\nDie Rückfahrt erfolgt am Samstag\, 20.07. mittags und wir erreichen Langen wieder am Sonntag (21.07.) morgens.\nDie Fahrt erfolgt in einem großen Reisebus. Vor Ort steht uns der Reisebus nicht zur Verfügung. \nWir tauchen 5 Tage vom Boot aus. Die Tauchbasis ist einer der ältesten Tauchbasen in Estartit und 1965 gegründet.\nEinmal pro Tag fahren wir an die Medas Inseln. Die Medas Inseln stehen seit 1990 unter Naturschutz und der Fischfang ist seit 1983 verboten.\nDer 2. Tauchgang am Tag findet in Küstennähe statt. \nWir sind im Hotel Medes 2 in Estartit untergebracht\, rund 600m vom Hafen entfernt. Die Unterbringung erfolgt in Doppelzimmern und wir haben Vollpension.\n(Samstag\, 13.07. – Samstag 20.07.) \nKosten\nKosten für Taucher (7 Tage Hotel / Vollpension / 10 Tauchgänge): 1053\,50 EUR\nKosten für Nichttaucher (7 Tage Hotel / Vollpension): 697\,- EUR \nIm Detail:\nBusfahrt voraussichtlich 250\,- EUR (abhängig von Anzahl der Teilnehmer – kalkuliert auf 20 Teilnehmer)\nTaucher: 770 EUR (7 Tage Hotelübernachtung / Vollpension / 10 Tauchgänge)\nNichttaucher: 440\,- EUR (7 Tage Hotelübernachtung / Vollpension)\nMedas Inseln Steuer: 5\,30 EUR pro Tauchgang\nUnternachtstaxe: 1\,- EUR pro Person und Nacht \nDie Anmeldung erfolgt per email an Kristian direkt. \nLinks: \nHotel Medes II\nhttps://www.hotelmedes.com/de/ \nTauchbasis Unisub – einer der ältesten Tauchbasen in Estartit – gegründet 1965\nhttps://www.unisub.es/de
URL:https://www.tauchclub-dreieich.de/termin/tauchfahrt-estartit-2024
END:VEVENT
BEGIN:VEVENT
DTSTART;TZID=Europe/Berlin:20240719T183000
DTEND;TZID=Europe/Berlin:20240719T200000
DTSTAMP:20260423T142937
CREATED:20240503T220254Z
LAST-MODIFIED:20240503T220254Z
UID:6646-1721413800-1721419200@www.tauchclub-dreieich.de
SUMMARY:Allgemeines Training
DESCRIPTION:
URL:https://www.tauchclub-dreieich.de/termin/allgemeines-training-114
LOCATION:Familien- und Freizeitbad Langen\, Teichstraße 28\, Langen\, 63322\, Deutschland
CATEGORIES:Training
END:VEVENT
BEGIN:VEVENT
DTSTART;TZID=Europe/Berlin:20240726T183000
DTEND;TZID=Europe/Berlin:20240726T200000
DTSTAMP:20260423T142937
CREATED:20240503T220255Z
LAST-MODIFIED:20240503T220255Z
UID:6647-1722018600-1722024000@www.tauchclub-dreieich.de
SUMMARY:Allgemeines Training
DESCRIPTION:
URL:https://www.tauchclub-dreieich.de/termin/allgemeines-training-115
LOCATION:Familien- und Freizeitbad Langen\, Teichstraße 28\, Langen\, 63322\, Deutschland
CATEGORIES:Training
END:VEVENT
BEGIN:VEVENT
DTSTART;TZID=Europe/Berlin:20240726T183000
DTEND;TZID=Europe/Berlin:20240726T200000
DTSTAMP:20260423T142937
CREATED:20240503T220544Z
LAST-MODIFIED:20240503T222035Z
UID:6662-1722018600-1722024000@www.tauchclub-dreieich.de
SUMMARY:Jugendtraining
DESCRIPTION:
URL:https://www.tauchclub-dreieich.de/termin/jugendtraining-121
LOCATION:Familien- und Freizeitbad Langen\, Teichstraße 28\, Langen\, 63322\, Deutschland
CATEGORIES:Jugendtraining
END:VEVENT
END:VCALENDAR