BEGIN:VCALENDAR
VERSION:2.0
PRODID:-//Tauchclub Dreieich in Langen e.V. - ECPv6.15.20//NONSGML v1.0//EN
CALSCALE:GREGORIAN
METHOD:PUBLISH
X-ORIGINAL-URL:https://www.tauchclub-dreieich.de
X-WR-CALDESC:Veranstaltungen für Tauchclub Dreieich in Langen e.V.
REFRESH-INTERVAL;VALUE=DURATION:PT1H
X-Robots-Tag:noindex
X-PUBLISHED-TTL:PT1H
BEGIN:VTIMEZONE
TZID:Europe/Berlin
BEGIN:DAYLIGHT
TZOFFSETFROM:+0100
TZOFFSETTO:+0200
TZNAME:CEST
DTSTART:20230326T010000
END:DAYLIGHT
BEGIN:STANDARD
TZOFFSETFROM:+0200
TZOFFSETTO:+0100
TZNAME:CET
DTSTART:20231029T010000
END:STANDARD
BEGIN:DAYLIGHT
TZOFFSETFROM:+0100
TZOFFSETTO:+0200
TZNAME:CEST
DTSTART:20240331T010000
END:DAYLIGHT
BEGIN:STANDARD
TZOFFSETFROM:+0200
TZOFFSETTO:+0100
TZNAME:CET
DTSTART:20241027T010000
END:STANDARD
BEGIN:DAYLIGHT
TZOFFSETFROM:+0100
TZOFFSETTO:+0200
TZNAME:CEST
DTSTART:20250330T010000
END:DAYLIGHT
BEGIN:STANDARD
TZOFFSETFROM:+0200
TZOFFSETTO:+0100
TZNAME:CET
DTSTART:20251026T010000
END:STANDARD
END:VTIMEZONE
BEGIN:VEVENT
DTSTART;TZID=Europe/Berlin:20240529T190000
DTEND;TZID=Europe/Berlin:20240602T160000
DTSTAMP:20260423T163434
CREATED:20240405T123430Z
LAST-MODIFIED:20240405T123430Z
UID:6573-1717009200-1717344000@www.tauchclub-dreieich.de
SUMMARY:SK Problemlösungen beim Tauchen
DESCRIPTION:Was tun\, wenn der Atemregler Wasser zieht oder das Jacket Luft verliert? Um diese und andere mögliche Problemen beim Tauchen sicher lösen zu können und die Lösungsmöglichkeiten praktisch zu üben\, gibt es den Spezialkurs “Problemlösungen beim Tauchen”. Dieser Termin ist der Praxisteil. Die Theorie und Vorbesprechnung findet am 29.5. statt\, die Praxis machen am Wochenende 1.-2.6. und  bei Bedarf noch eine Woche später.\nMehr Informationen findet Ihr auf der Homepage des HTSV https://htsv.org/ausschreibung/?Serial=1840.\nAnmerkungen: Vereinsmitglieder bekommen den größten Teil der Kurskosten zurück erstatten. \n 
URL:https://www.tauchclub-dreieich.de/termin/sk-problemloesungen-beim-tauchen-3
CATEGORIES:Ausbildung
END:VEVENT
BEGIN:VEVENT
DTSTART;TZID=Europe/Berlin:20240607T173000
DTEND;TZID=Europe/Berlin:20240609T170000
DTSTAMP:20260423T163434
CREATED:20240109T171446Z
LAST-MODIFIED:20240109T171446Z
UID:6232-1717781400-1717952400@www.tauchclub-dreieich.de
SUMMARY:Kurs Gruppenführung beim Tauchen
DESCRIPTION:In diesem Aufbaukurs wirst Du mit den Grundelementen der Gruppenführung beim Tauchen vertraut gemacht. Du erlernst\, was es bedeutet eine Gruppe unter Wasser sicher zu führen und dabei den Spaß am Tauchen nicht zu vergessen. Auf dem Weg zu einem souveränen Taucher (GDL** Advanced Sports Diver) ist dieser Kurs verpflichtend. Nach erfolgreicher Teilnahme erhältst Du die offizielle Lizenzkarte sowie einen Einkleber für den Taucherpass. \nMehr Informationen und die Möglichkeit zur Anmeldung findet Ihr auf der Homepage des HTSV https://htsv.org/ausschreibung/?Serial=1828\nDer Kurs wird von unserem Partnerverein dem auch-Club-Turtle e.V.\, Bischofsheim organisiert.\nBei Fragen kannst Du Dich aber auch gerne an Wolfgang wenden\n\n\n  \n\n\n\n Dein Name\n \n \n Deine E-Mail-Adresse\n \n \nBitte lasse dieses Feld leer.\n \n Deine Nachricht an Wolfgang
URL:https://www.tauchclub-dreieich.de/termin/kurs-gruppenfuehrung-beim-tauchen
CATEGORIES:Ausbildung,HTSV
END:VEVENT
BEGIN:VEVENT
DTSTART;TZID=Europe/Berlin:20240607T183000
DTEND;TZID=Europe/Berlin:20240607T200000
DTSTAMP:20260423T163434
CREATED:20240503T220345Z
LAST-MODIFIED:20240503T222126Z
UID:6657-1717785000-1717790400@www.tauchclub-dreieich.de
SUMMARY:Jugendtraining
DESCRIPTION:
URL:https://www.tauchclub-dreieich.de/termin/jugendtraining-116
LOCATION:Familien- und Freizeitbad Langen\, Teichstraße 28\, Langen\, 63322\, Deutschland
CATEGORIES:Jugendtraining
END:VEVENT
BEGIN:VEVENT
DTSTART;TZID=Europe/Berlin:20240614T183000
DTEND;TZID=Europe/Berlin:20240614T200000
DTSTAMP:20260423T163434
CREATED:20240503T220346Z
LAST-MODIFIED:20240503T222115Z
UID:6658-1718389800-1718395200@www.tauchclub-dreieich.de
SUMMARY:Jugendtraining
DESCRIPTION:
URL:https://www.tauchclub-dreieich.de/termin/jugendtraining-117
LOCATION:Familien- und Freizeitbad Langen\, Teichstraße 28\, Langen\, 63322\, Deutschland
CATEGORIES:Jugendtraining
END:VEVENT
BEGIN:VEVENT
DTSTART;TZID=Europe/Berlin:20240615T100000
DTEND;TZID=Europe/Berlin:20240615T160000
DTSTAMP:20260423T163434
CREATED:20240424T065524Z
LAST-MODIFIED:20240518T072727Z
UID:6628-1718445600-1718467200@www.tauchclub-dreieich.de
SUMMARY:Tauchen für den Naturschutz
DESCRIPTION:Der Arbeitskreis „Tauchen für den Naturschutz“ lädt die Jugend gemeinsam mit dem Tauch-Club-Turtle e.V. Bischofsheim ein\, mehr über die Unterwasserflora und -fauna unserer Seen zu erfahren. Wir beginnen mit einigen theoretischen Hintergründen – damit wir das Gesehene später einordnen können. Anschließend werden wir unter Wasser und am Ufer beobachten und Proben sammeln. Die Proben und Beobachtungen werten wir dann gemeinsam mit den Fachleuten aus. \nFür das leibliche Wohl ist gesorgt\, der Grill steht bereit. \nWer Interesse hat\, meldet sich bitte bis zum 01.06. bei Kristian an:\n\n\n  \n\n\n\n Dein Name\n \n \n Deine E-Mail-Adresse\n \n \n Betreff\n– Bitte auswählen –AnmeldungSchnuppertauchenJugendgruppesonstiges \n \n Deine Nachricht\n \nBitte lasse dieses Feld leer.
URL:https://www.tauchclub-dreieich.de/termin/tauchen-fuer-den-naturschutz
LOCATION:Wechselsee\, Biebesheim\, Deutschland
CATEGORIES:Jugend
END:VEVENT
BEGIN:VEVENT
DTSTART;TZID=Europe/Berlin:20240616T100000
DTEND;TZID=Europe/Berlin:20240616T140000
DTSTAMP:20260423T163434
CREATED:20240114T172052Z
LAST-MODIFIED:20240412T144151Z
UID:6272-1718532000-1718546400@www.tauchclub-dreieich.de
SUMMARY:Tauchpraxis Silber Gold Spezialkurse
DESCRIPTION:
URL:https://www.tauchclub-dreieich.de/termin/tauchpraxis-silber-gold-spezialkurse-6
END:VEVENT
BEGIN:VEVENT
DTSTART;TZID=Europe/Berlin:20240621T183000
DTEND;TZID=Europe/Berlin:20240621T200000
DTSTAMP:20260423T163434
CREATED:20240503T220346Z
LAST-MODIFIED:20240503T222104Z
UID:6659-1718994600-1719000000@www.tauchclub-dreieich.de
SUMMARY:Jugendtraining
DESCRIPTION:
URL:https://www.tauchclub-dreieich.de/termin/jugendtraining-118
LOCATION:Familien- und Freizeitbad Langen\, Teichstraße 28\, Langen\, 63322\, Deutschland
CATEGORIES:Jugendtraining
END:VEVENT
BEGIN:VEVENT
DTSTART;TZID=Europe/Berlin:20240628T183000
DTEND;TZID=Europe/Berlin:20240628T200000
DTSTAMP:20260423T163434
CREATED:20240503T220543Z
LAST-MODIFIED:20240503T222056Z
UID:6660-1719599400-1719604800@www.tauchclub-dreieich.de
SUMMARY:Jugendtraining
DESCRIPTION:
URL:https://www.tauchclub-dreieich.de/termin/jugendtraining-119
LOCATION:Familien- und Freizeitbad Langen\, Teichstraße 28\, Langen\, 63322\, Deutschland
CATEGORIES:Jugendtraining
END:VEVENT
BEGIN:VEVENT
DTSTART;TZID=Europe/Berlin:20240629T170000
DTEND;TZID=Europe/Berlin:20240629T230000
DTSTAMP:20260423T163434
CREATED:20231122T075843Z
LAST-MODIFIED:20240520T133734Z
UID:6046-1719680400-1719702000@www.tauchclub-dreieich.de
SUMMARY:Sommerfest - Danke für Deinen Einsatz
DESCRIPTION:Liebe Mitglieder des Tauchclub Dreieich\, \nwir möchten Euch auch in diesem Jahr sehr herzlich zu unserem Sommerfest einladen! \nIm Rahmen des Sommerfestes werden wir einige verdiente Mitglieder ehren und uns bei unseren engagierten Trainern\, Tauchlehrern und Ehrenamtlichen mit einem herzlichen „Danke für Deinen Einsatz“ bedanken. \nFür die Feier benötigen wir noch Eure Unterstützung und würden uns über Eure Mithilfe sehr freuen. Ob beim Auf- und Abbau\, beim Küchendienst oder durch eine Salat- oder Kuchenspende für unser Buffet – alles ist willkommen. Wir sind für jede Unterstützung dankbar! \nUm uns unsere Planung zu erleichtern\, bitten wir Euch um eine Anmeldung bis zum 15.06.2024 über das Online Formular unten. \nFür das Fest erheben wir einen kleinen Unkostenbeitrag\, der wie folgt gestaffelt ist: Mitglieder zahlen 10€\, jugendliche Mitglieder sind von den Kosten befreit\, Erwachsene (keine Mitglieder) zahlen 20€ und Kinder/Jugendliche (keine Mitglieder) zahlen 5€. \nBitte für jede Person einmal separat anmelden – das erleichtert uns die Arbeit. Danke Dir! \n\n\n  \n\n\n\nBitte lasse dieses Feld leer.\n Dein Name\n \n \n Deine E-Mail-Adresse\n \n \n Bist Du Mitglied im Tauchclub Dreieich?\nJaNein\n \n Möchtest Du helfen beim Sommerfest? (Aufbau / Abbau / Küchendienst / ...)\nJa - sprecht mich anNein\n \n Spendest Du einen Salat oder Kuchen?\nJa - na klarNein\n \n\n	Ich bringe folgendes mit: \n	 \n\n Deine Nachricht (optional)
URL:https://www.tauchclub-dreieich.de/termin/sommerfest
LOCATION:Vereinsgelände des Vereins für Deutsche Schäferhunde\, Verlängerung der Konrad-Adenauer-Straße (Richtung Wald)\, Langen\, 63225\, Deutschland
CATEGORIES:Veranstaltungen
END:VEVENT
END:VCALENDAR