BEGIN:VCALENDAR
VERSION:2.0
PRODID:-//Tauchclub Dreieich in Langen e.V. - ECPv6.15.20//NONSGML v1.0//EN
CALSCALE:GREGORIAN
METHOD:PUBLISH
X-ORIGINAL-URL:https://www.tauchclub-dreieich.de
X-WR-CALDESC:Veranstaltungen für Tauchclub Dreieich in Langen e.V.
REFRESH-INTERVAL;VALUE=DURATION:PT1H
X-Robots-Tag:noindex
X-PUBLISHED-TTL:PT1H
BEGIN:VTIMEZONE
TZID:Europe/Berlin
BEGIN:DAYLIGHT
TZOFFSETFROM:+0100
TZOFFSETTO:+0200
TZNAME:CEST
DTSTART:20230326T010000
END:DAYLIGHT
BEGIN:STANDARD
TZOFFSETFROM:+0200
TZOFFSETTO:+0100
TZNAME:CET
DTSTART:20231029T010000
END:STANDARD
BEGIN:DAYLIGHT
TZOFFSETFROM:+0100
TZOFFSETTO:+0200
TZNAME:CEST
DTSTART:20240331T010000
END:DAYLIGHT
BEGIN:STANDARD
TZOFFSETFROM:+0200
TZOFFSETTO:+0100
TZNAME:CET
DTSTART:20241027T010000
END:STANDARD
BEGIN:DAYLIGHT
TZOFFSETFROM:+0100
TZOFFSETTO:+0200
TZNAME:CEST
DTSTART:20250330T010000
END:DAYLIGHT
BEGIN:STANDARD
TZOFFSETFROM:+0200
TZOFFSETTO:+0100
TZNAME:CET
DTSTART:20251026T010000
END:STANDARD
END:VTIMEZONE
BEGIN:VEVENT
DTSTART;TZID=Europe/Berlin:20240301T183000
DTEND;TZID=Europe/Berlin:20240301T200000
DTSTAMP:20260423T213711
CREATED:20230910T131207Z
LAST-MODIFIED:20230910T131207Z
UID:5883-1709317800-1709323200@www.tauchclub-dreieich.de
SUMMARY:Jugendtraining
DESCRIPTION:
URL:https://www.tauchclub-dreieich.de/termin/jugendtraining-111
LOCATION:Langener Hallenbad\, Südliche Ringstraße 75\, Langen\, 63225\, Deutschland
CATEGORIES:Jugendtraining
END:VEVENT
BEGIN:VEVENT
DTSTART;TZID=Europe/Berlin:20240301T191500
DTEND;TZID=Europe/Berlin:20240301T211500
DTSTAMP:20260423T213711
CREATED:20240114T180405Z
LAST-MODIFIED:20240114T180405Z
UID:6310-1709320500-1709327700@www.tauchclub-dreieich.de
SUMMARY:Anfängerkurs
DESCRIPTION:
URL:https://www.tauchclub-dreieich.de/termin/anfaengerkurs-7
CATEGORIES:Ausbildung
END:VEVENT
BEGIN:VEVENT
DTSTART;TZID=Europe/Berlin:20240301T193000
DTEND;TZID=Europe/Berlin:20240301T210000
DTSTAMP:20260423T213711
CREATED:20240114T175813Z
LAST-MODIFIED:20240218T142404Z
UID:6286-1709321400-1709326800@www.tauchclub-dreieich.de
SUMMARY:Allgemeines Training
DESCRIPTION:
URL:https://www.tauchclub-dreieich.de/termin/allgemeines-training-94
LOCATION:Langener Hallenbad\, Südliche Ringstraße 75\, Langen\, 63225\, Deutschland
CATEGORIES:Training
END:VEVENT
BEGIN:VEVENT
DTSTART;TZID=Europe/Berlin:20240303T100000
DTEND;TZID=Europe/Berlin:20240303T140000
DTSTAMP:20260423T213711
CREATED:20240114T165244Z
LAST-MODIFIED:20240114T180329Z
UID:6261-1709460000-1709474400@www.tauchclub-dreieich.de
SUMMARY:Tauchpraxis Silber Gold Spezialkurse
DESCRIPTION:
URL:https://www.tauchclub-dreieich.de/termin/tauchpraxis-silber-gold-spezialkurse
CATEGORIES:Ausbildung
END:VEVENT
BEGIN:VEVENT
DTSTART;TZID=Europe/Berlin:20240306T183000
DTEND;TZID=Europe/Berlin:20240306T200000
DTSTAMP:20260423T213711
CREATED:20240116T184426Z
LAST-MODIFIED:20240116T201828Z
UID:6354-1709749800-1709755200@www.tauchclub-dreieich.de
SUMMARY:Apnoe Training
DESCRIPTION:
URL:https://www.tauchclub-dreieich.de/termin/apnoe-training-46
LOCATION:Langener Hallenbad\, Südliche Ringstraße 75\, Langen\, 63225\, Deutschland
CATEGORIES:Apnoetraining
END:VEVENT
BEGIN:VEVENT
DTSTART;TZID=Europe/Berlin:20240308T183000
DTEND;TZID=Europe/Berlin:20240308T200000
DTSTAMP:20260423T213711
CREATED:20230910T131208Z
LAST-MODIFIED:20230910T131208Z
UID:5884-1709922600-1709928000@www.tauchclub-dreieich.de
SUMMARY:Jugendtraining
DESCRIPTION:
URL:https://www.tauchclub-dreieich.de/termin/jugendtraining-112
LOCATION:Langener Hallenbad\, Südliche Ringstraße 75\, Langen\, 63225\, Deutschland
CATEGORIES:Jugendtraining
END:VEVENT
BEGIN:VEVENT
DTSTART;TZID=Europe/Berlin:20240308T191500
DTEND;TZID=Europe/Berlin:20240308T211500
DTSTAMP:20260423T213711
CREATED:20240114T180406Z
LAST-MODIFIED:20240114T180406Z
UID:6311-1709925300-1709932500@www.tauchclub-dreieich.de
SUMMARY:Anfängerkurs
DESCRIPTION:
URL:https://www.tauchclub-dreieich.de/termin/anfaengerkurs-8
CATEGORIES:Ausbildung
END:VEVENT
BEGIN:VEVENT
DTSTART;TZID=Europe/Berlin:20240308T193000
DTEND;TZID=Europe/Berlin:20240308T210000
DTSTAMP:20260423T213711
CREATED:20240114T175813Z
LAST-MODIFIED:20240218T142525Z
UID:6287-1709926200-1709931600@www.tauchclub-dreieich.de
SUMMARY:Allgemeines Training
DESCRIPTION:
URL:https://www.tauchclub-dreieich.de/termin/allgemeines-training-95
LOCATION:Langener Hallenbad\, Südliche Ringstraße 75\, Langen\, 63225\, Deutschland
CATEGORIES:Training
END:VEVENT
BEGIN:VEVENT
DTSTART;TZID=Europe/Berlin:20240309T100000
DTEND;TZID=Europe/Berlin:20240309T130000
DTSTAMP:20260423T213711
CREATED:20231122T075834Z
LAST-MODIFIED:20240217T160545Z
UID:6041-1709978400-1709989200@www.tauchclub-dreieich.de
SUMMARY:Einweisung Vereinskompressor
DESCRIPTION:Einweisung in unseren Vereinskompressor\, damit Du die Füllberechtigung für 2024 erhältst. \nBitte melde Dich hier an. Die Teilnehmerzahl ist auf 12 begrenzt. \nBitte beachte\, dass es noch einen weiteren Termin am 16. März 2024 gibt. \n\n\n  \n\n\n\n Dein vollständiger Name\n \n \n Deine E-Mail-Adresse\n \n \nBitte lasse dieses Feld leer.\n \nIch habe in der Vergangenheit schon mal an einer Kompressoreinweisung teilgenommen\n \n Hinweise/Anmerkungen (optional)
URL:https://www.tauchclub-dreieich.de/termin/2024-03-09_einweisung-vereinskompressor
LOCATION:Geräteraum\, Langen\, 63225\, Deutschland
CATEGORIES:Vereinskompressor
END:VEVENT
BEGIN:VEVENT
DTSTART;TZID=Europe/Berlin:20240313T183000
DTEND;TZID=Europe/Berlin:20240313T200000
DTSTAMP:20260423T213711
CREATED:20240116T184426Z
LAST-MODIFIED:20240116T201828Z
UID:6355-1710354600-1710360000@www.tauchclub-dreieich.de
SUMMARY:Apnoe Training
DESCRIPTION:
URL:https://www.tauchclub-dreieich.de/termin/apnoe-training-47
LOCATION:Langener Hallenbad\, Südliche Ringstraße 75\, Langen\, 63225\, Deutschland
CATEGORIES:Apnoetraining
END:VEVENT
BEGIN:VEVENT
DTSTART;TZID=Europe/Berlin:20240315T183000
DTEND;TZID=Europe/Berlin:20240315T200000
DTSTAMP:20260423T213711
CREATED:20230910T131208Z
LAST-MODIFIED:20230910T131208Z
UID:5885-1710527400-1710532800@www.tauchclub-dreieich.de
SUMMARY:Jugendtraining
DESCRIPTION:
URL:https://www.tauchclub-dreieich.de/termin/jugendtraining-113
LOCATION:Langener Hallenbad\, Südliche Ringstraße 75\, Langen\, 63225\, Deutschland
CATEGORIES:Jugendtraining
END:VEVENT
BEGIN:VEVENT
DTSTART;TZID=Europe/Berlin:20240315T191500
DTEND;TZID=Europe/Berlin:20240315T211500
DTSTAMP:20260423T213711
CREATED:20240114T180421Z
LAST-MODIFIED:20240114T180421Z
UID:6312-1710530100-1710537300@www.tauchclub-dreieich.de
SUMMARY:Anfängerkurs
DESCRIPTION:
URL:https://www.tauchclub-dreieich.de/termin/anfaengerkurs-9
CATEGORIES:Ausbildung
END:VEVENT
BEGIN:VEVENT
DTSTART;TZID=Europe/Berlin:20240315T193000
DTEND;TZID=Europe/Berlin:20240315T210000
DTSTAMP:20260423T213711
CREATED:20240114T175813Z
LAST-MODIFIED:20240218T142545Z
UID:6288-1710531000-1710536400@www.tauchclub-dreieich.de
SUMMARY:Allgemeines Training
DESCRIPTION:
URL:https://www.tauchclub-dreieich.de/termin/allgemeines-training-96
LOCATION:Langener Hallenbad\, Südliche Ringstraße 75\, Langen\, 63225\, Deutschland
CATEGORIES:Training
END:VEVENT
BEGIN:VEVENT
DTSTART;TZID=Europe/Berlin:20240316T100000
DTEND;TZID=Europe/Berlin:20240316T130000
DTSTAMP:20260423T213711
CREATED:20231122T075834Z
LAST-MODIFIED:20240217T160540Z
UID:6042-1710583200-1710594000@www.tauchclub-dreieich.de
SUMMARY:Einweisung Vereinskompressor
DESCRIPTION:Einweisung in unseren Vereinskompressor\, damit Du die Füllberechtigung für 2024 erhältst. \nBitte melde Dich hier an. Die Teilnehmerzahl ist auf 12 begrenzt. \nBitte beachte\, dass es noch einen weiteren Termin am 09. März 2024 gibt. \n\n\n  \n\n\n\n Dein vollständiger Name\n \n \n Deine E-Mail-Adresse\n \n \nBitte lasse dieses Feld leer.\n \nIch habe in der Vergangenheit schon mal an einer Kompressoreinweisung teilgenommen\n \n Hinweise/Anmerkungen (optional)
URL:https://www.tauchclub-dreieich.de/termin/2024-03-16_einweisung-vereinskompressor
LOCATION:Geräteraum\, Langen\, 63225\, Deutschland
CATEGORIES:Vereinskompressor
END:VEVENT
BEGIN:VEVENT
DTSTART;TZID=Europe/Berlin:20240317T100000
DTEND;TZID=Europe/Berlin:20240317T140000
DTSTAMP:20260423T213711
CREATED:20240114T172047Z
LAST-MODIFIED:20240114T180330Z
UID:6268-1710669600-1710684000@www.tauchclub-dreieich.de
SUMMARY:Tauchpraxis Silber Gold Spezialkurse
DESCRIPTION:
URL:https://www.tauchclub-dreieich.de/termin/tauchpraxis-silber-gold-spezialkurse-2
CATEGORIES:Ausbildung
END:VEVENT
BEGIN:VEVENT
DTSTART;TZID=Europe/Berlin:20240320T183000
DTEND;TZID=Europe/Berlin:20240320T200000
DTSTAMP:20260423T213712
CREATED:20240116T184426Z
LAST-MODIFIED:20240116T201828Z
UID:6356-1710959400-1710964800@www.tauchclub-dreieich.de
SUMMARY:Apnoe Training
DESCRIPTION:
URL:https://www.tauchclub-dreieich.de/termin/apnoe-training-48
LOCATION:Langener Hallenbad\, Südliche Ringstraße 75\, Langen\, 63225\, Deutschland
CATEGORIES:Apnoetraining
END:VEVENT
BEGIN:VEVENT
DTSTART;TZID=Europe/Berlin:20240322T183000
DTEND;TZID=Europe/Berlin:20240322T200000
DTSTAMP:20260423T213712
CREATED:20230910T131405Z
LAST-MODIFIED:20230910T131405Z
UID:5886-1711132200-1711137600@www.tauchclub-dreieich.de
SUMMARY:Jugendtraining
DESCRIPTION:
URL:https://www.tauchclub-dreieich.de/termin/jugendtraining-114
LOCATION:Langener Hallenbad\, Südliche Ringstraße 75\, Langen\, 63225\, Deutschland
CATEGORIES:Jugendtraining
END:VEVENT
BEGIN:VEVENT
DTSTART;TZID=Europe/Berlin:20240322T191500
DTEND;TZID=Europe/Berlin:20240322T211500
DTSTAMP:20260423T213712
CREATED:20240114T180422Z
LAST-MODIFIED:20240114T180422Z
UID:6313-1711134900-1711142100@www.tauchclub-dreieich.de
SUMMARY:Anfängerkurs
DESCRIPTION:
URL:https://www.tauchclub-dreieich.de/termin/anfaengerkurs-10
CATEGORIES:Ausbildung
END:VEVENT
BEGIN:VEVENT
DTSTART;TZID=Europe/Berlin:20240322T193000
DTEND;TZID=Europe/Berlin:20240322T210000
DTSTAMP:20260423T213712
CREATED:20240114T175825Z
LAST-MODIFIED:20240218T142617Z
UID:6289-1711135800-1711141200@www.tauchclub-dreieich.de
SUMMARY:Allgemeines Training
DESCRIPTION:
URL:https://www.tauchclub-dreieich.de/termin/allgemeines-training-97
LOCATION:Langener Hallenbad\, Südliche Ringstraße 75\, Langen\, 63225\, Deutschland
CATEGORIES:Training
END:VEVENT
BEGIN:VEVENT
DTSTART;TZID=Europe/Berlin:20240323T100000
DTEND;TZID=Europe/Berlin:20240323T140000
DTSTAMP:20260423T213712
CREATED:20240114T172048Z
LAST-MODIFIED:20240114T180330Z
UID:6269-1711188000-1711202400@www.tauchclub-dreieich.de
SUMMARY:Tauchpraxis Silber Gold Spezialkurse
DESCRIPTION:
URL:https://www.tauchclub-dreieich.de/termin/tauchpraxis-silber-gold-spezialkurse-3
CATEGORIES:Ausbildung
END:VEVENT
BEGIN:VEVENT
DTSTART;VALUE=DATE:20240324
DTEND;VALUE=DATE:20240325
DTSTAMP:20260423T213712
CREATED:20240318T111939Z
LAST-MODIFIED:20240318T112248Z
UID:6551-1711238400-1711324799@www.tauchclub-dreieich.de
SUMMARY:Tagesausflug Gravière du Fort
DESCRIPTION:Am 24.3. fahren wir nochmal zum Tauchen ins Elsass.\nWir tauchen dort in einem der Ausbildungsgewässer des französischen Tauchsportverbandes (FFESSM-Est)\, einer Kiesgrube mit sehr guten Sichtverhältnissen.\nFür diesen Tauchausflug ist CMAS ** und „aktuelle“ Taucherfahrung im See erforderlich. Es sind zwei Tauchgänge geplant. \nBei Interesse wendet Euch bitte an Wolfgang. \nDann melde Dich bei Wolfgang: \n\n  \n\n\n\n Dein Name\n \n \n Deine E-Mail-Adresse\n \n \nBitte lasse dieses Feld leer.\n \n Deine Nachricht an Wolfgang
URL:https://www.tauchclub-dreieich.de/termin/tagesausflug-graviere-du-fort
CATEGORIES:Tauchevents
END:VEVENT
BEGIN:VEVENT
DTSTART;TZID=Europe/Berlin:20240327T183000
DTEND;TZID=Europe/Berlin:20240327T200000
DTSTAMP:20260423T213712
CREATED:20240116T184441Z
LAST-MODIFIED:20240116T184441Z
UID:6357-1711564200-1711569600@www.tauchclub-dreieich.de
SUMMARY:Apnoe Training
DESCRIPTION:
URL:https://www.tauchclub-dreieich.de/termin/apnoe-training-49
LOCATION:Langener Hallenbad\, Südliche Ringstraße 75\, Langen\, 63225\, Deutschland
CATEGORIES:Apnoetraining
END:VEVENT
BEGIN:VEVENT
DTSTART;TZID=Europe/Berlin:20240329T183000
DTEND;TZID=Europe/Berlin:20240329T200000
DTSTAMP:20260423T213712
CREATED:20230910T131406Z
LAST-MODIFIED:20230910T131406Z
UID:5887-1711737000-1711742400@www.tauchclub-dreieich.de
SUMMARY:Jugendtraining
DESCRIPTION:
URL:https://www.tauchclub-dreieich.de/termin/jugendtraining-115
LOCATION:Langener Hallenbad\, Südliche Ringstraße 75\, Langen\, 63225\, Deutschland
CATEGORIES:Jugendtraining
END:VEVENT
BEGIN:VEVENT
DTSTART;TZID=Europe/Berlin:20240329T193000
DTEND;TZID=Europe/Berlin:20240329T210000
DTSTAMP:20260423T213712
CREATED:20240116T184341Z
LAST-MODIFIED:20240218T142740Z
UID:6337-1711740600-1711746000@www.tauchclub-dreieich.de
SUMMARY:Allgemeines Training - fällt aus
DESCRIPTION:Das Training fällt aus\, da Karfreitag
URL:https://www.tauchclub-dreieich.de/termin/allgemeines-training-99
LOCATION:Langener Hallenbad\, Südliche Ringstraße 75\, Langen\, 63225\, Deutschland
CATEGORIES:Training
END:VEVENT
END:VCALENDAR