BEGIN:VCALENDAR
VERSION:2.0
PRODID:-//Tauchclub Dreieich in Langen e.V. - ECPv6.15.20//NONSGML v1.0//EN
CALSCALE:GREGORIAN
METHOD:PUBLISH
X-ORIGINAL-URL:https://www.tauchclub-dreieich.de
X-WR-CALDESC:Veranstaltungen für Tauchclub Dreieich in Langen e.V.
REFRESH-INTERVAL;VALUE=DURATION:PT1H
X-Robots-Tag:noindex
X-PUBLISHED-TTL:PT1H
BEGIN:VTIMEZONE
TZID:Europe/Berlin
BEGIN:DAYLIGHT
TZOFFSETFROM:+0100
TZOFFSETTO:+0200
TZNAME:CEST
DTSTART:20230326T010000
END:DAYLIGHT
BEGIN:STANDARD
TZOFFSETFROM:+0200
TZOFFSETTO:+0100
TZNAME:CET
DTSTART:20231029T010000
END:STANDARD
BEGIN:DAYLIGHT
TZOFFSETFROM:+0100
TZOFFSETTO:+0200
TZNAME:CEST
DTSTART:20240331T010000
END:DAYLIGHT
BEGIN:STANDARD
TZOFFSETFROM:+0200
TZOFFSETTO:+0100
TZNAME:CET
DTSTART:20241027T010000
END:STANDARD
BEGIN:DAYLIGHT
TZOFFSETFROM:+0100
TZOFFSETTO:+0200
TZNAME:CEST
DTSTART:20250330T010000
END:DAYLIGHT
BEGIN:STANDARD
TZOFFSETFROM:+0200
TZOFFSETTO:+0100
TZNAME:CET
DTSTART:20251026T010000
END:STANDARD
END:VTIMEZONE
BEGIN:VEVENT
DTSTART;TZID=Europe/Berlin:20240202T183000
DTEND;TZID=Europe/Berlin:20240202T200000
DTSTAMP:20260423T231613
CREATED:20230910T131007Z
LAST-MODIFIED:20230910T131007Z
UID:5879-1706898600-1706904000@www.tauchclub-dreieich.de
SUMMARY:Jugendtraining
DESCRIPTION:
URL:https://www.tauchclub-dreieich.de/termin/jugendtraining-107
LOCATION:Langener Hallenbad\, Südliche Ringstraße 75\, Langen\, 63225\, Deutschland
CATEGORIES:Jugendtraining
END:VEVENT
BEGIN:VEVENT
DTSTART;TZID=Europe/Berlin:20240202T193000
DTEND;TZID=Europe/Berlin:20240202T210000
DTSTAMP:20260423T231613
CREATED:20240114T175757Z
LAST-MODIFIED:20240116T201642Z
UID:6282-1706902200-1706907600@www.tauchclub-dreieich.de
SUMMARY:Allgemeines Training
DESCRIPTION:
URL:https://www.tauchclub-dreieich.de/termin/allgemeines-training-90
LOCATION:Langener Hallenbad\, Südliche Ringstraße 75\, Langen\, 63225\, Deutschland
CATEGORIES:Training
END:VEVENT
BEGIN:VEVENT
DTSTART;TZID=Europe/Berlin:20240203T090000
DTEND;TZID=Europe/Berlin:20240203T210000
DTSTAMP:20260423T231613
CREATED:20231122T075833Z
LAST-MODIFIED:20231122T075833Z
UID:6040-1706950800-1706994000@www.tauchclub-dreieich.de
SUMMARY:MonteMare Tauchausflug
DESCRIPTION:
URL:https://www.tauchclub-dreieich.de/termin/montemare-tauchausflug
CATEGORIES:Veranstaltungen
END:VEVENT
BEGIN:VEVENT
DTSTART;TZID=Europe/Berlin:20240207T183000
DTEND;TZID=Europe/Berlin:20240207T200000
DTSTAMP:20260423T231613
CREATED:20240116T184412Z
LAST-MODIFIED:20240116T201822Z
UID:6350-1707330600-1707336000@www.tauchclub-dreieich.de
SUMMARY:Apnoe Training
DESCRIPTION:
URL:https://www.tauchclub-dreieich.de/termin/apnoe-training-42
LOCATION:Langener Hallenbad\, Südliche Ringstraße 75\, Langen\, 63225\, Deutschland
CATEGORIES:Apnoetraining
END:VEVENT
BEGIN:VEVENT
DTSTART;TZID=Europe/Berlin:20240209T183000
DTEND;TZID=Europe/Berlin:20240209T200000
DTSTAMP:20260423T231613
CREATED:20230910T131007Z
LAST-MODIFIED:20230910T131007Z
UID:5880-1707503400-1707508800@www.tauchclub-dreieich.de
SUMMARY:Jugendtraining
DESCRIPTION:
URL:https://www.tauchclub-dreieich.de/termin/jugendtraining-108
LOCATION:Langener Hallenbad\, Südliche Ringstraße 75\, Langen\, 63225\, Deutschland
CATEGORIES:Jugendtraining
END:VEVENT
BEGIN:VEVENT
DTSTART;TZID=Europe/Berlin:20240209T193000
DTEND;TZID=Europe/Berlin:20240209T210000
DTSTAMP:20260423T231613
CREATED:20240114T175757Z
LAST-MODIFIED:20240218T135543Z
UID:6283-1707507000-1707512400@www.tauchclub-dreieich.de
SUMMARY:Allgemeines Training
DESCRIPTION:
URL:https://www.tauchclub-dreieich.de/termin/allgemeines-training-91
LOCATION:Langener Hallenbad\, Südliche Ringstraße 75\, Langen\, 63225\, Deutschland
CATEGORIES:Training
END:VEVENT
BEGIN:VEVENT
DTSTART;TZID=Europe/Berlin:20240216T183000
DTEND;TZID=Europe/Berlin:20240216T200000
DTSTAMP:20260423T231613
CREATED:20230910T131205Z
LAST-MODIFIED:20230910T131205Z
UID:5881-1708108200-1708113600@www.tauchclub-dreieich.de
SUMMARY:Jugendtraining
DESCRIPTION:
URL:https://www.tauchclub-dreieich.de/termin/jugendtraining-109
LOCATION:Langener Hallenbad\, Südliche Ringstraße 75\, Langen\, 63225\, Deutschland
CATEGORIES:Jugendtraining
END:VEVENT
BEGIN:VEVENT
DTSTART;TZID=Europe/Berlin:20240216T193000
DTEND;TZID=Europe/Berlin:20240216T210000
DTSTAMP:20260423T231613
CREATED:20240114T175811Z
LAST-MODIFIED:20240218T135658Z
UID:6284-1708111800-1708117200@www.tauchclub-dreieich.de
SUMMARY:Allgemeines Training
DESCRIPTION:
URL:https://www.tauchclub-dreieich.de/termin/allgemeines-training-92
LOCATION:Langener Hallenbad\, Südliche Ringstraße 75\, Langen\, 63225\, Deutschland
CATEGORIES:Training
END:VEVENT
BEGIN:VEVENT
DTSTART;TZID=Europe/Berlin:20240221T183000
DTEND;TZID=Europe/Berlin:20240221T200000
DTSTAMP:20260423T231613
CREATED:20240116T184425Z
LAST-MODIFIED:20240116T201828Z
UID:6352-1708540200-1708545600@www.tauchclub-dreieich.de
SUMMARY:Apnoe Training
DESCRIPTION:
URL:https://www.tauchclub-dreieich.de/termin/apnoe-training-44
LOCATION:Langener Hallenbad\, Südliche Ringstraße 75\, Langen\, 63225\, Deutschland
CATEGORIES:Apnoetraining
END:VEVENT
BEGIN:VEVENT
DTSTART;TZID=Europe/Berlin:20240223T183000
DTEND;TZID=Europe/Berlin:20240223T200000
DTSTAMP:20260423T231613
CREATED:20230910T131206Z
LAST-MODIFIED:20230910T131206Z
UID:5882-1708713000-1708718400@www.tauchclub-dreieich.de
SUMMARY:Jugendtraining
DESCRIPTION:
URL:https://www.tauchclub-dreieich.de/termin/jugendtraining-110
LOCATION:Langener Hallenbad\, Südliche Ringstraße 75\, Langen\, 63225\, Deutschland
CATEGORIES:Jugendtraining
END:VEVENT
BEGIN:VEVENT
DTSTART;TZID=Europe/Berlin:20240223T191500
DTEND;TZID=Europe/Berlin:20240223T211500
DTSTAMP:20260423T231613
CREATED:20240114T180405Z
LAST-MODIFIED:20240114T180405Z
UID:6309-1708715700-1708722900@www.tauchclub-dreieich.de
SUMMARY:Anfängerkurs
DESCRIPTION:
URL:https://www.tauchclub-dreieich.de/termin/anfaengerkurs-6
CATEGORIES:Ausbildung
END:VEVENT
BEGIN:VEVENT
DTSTART;TZID=Europe/Berlin:20240223T193000
DTEND;TZID=Europe/Berlin:20240223T210000
DTSTAMP:20260423T231613
CREATED:20240114T175812Z
LAST-MODIFIED:20240218T135728Z
UID:6285-1708716600-1708722000@www.tauchclub-dreieich.de
SUMMARY:Allgemeines Training
DESCRIPTION:
URL:https://www.tauchclub-dreieich.de/termin/allgemeines-training-93
LOCATION:Langener Hallenbad\, Südliche Ringstraße 75\, Langen\, 63225\, Deutschland
CATEGORIES:Training
END:VEVENT
BEGIN:VEVENT
DTSTART;TZID=Europe/Berlin:20240228T183000
DTEND;TZID=Europe/Berlin:20240228T200000
DTSTAMP:20260423T231613
CREATED:20240116T184426Z
LAST-MODIFIED:20240116T201828Z
UID:6353-1709145000-1709150400@www.tauchclub-dreieich.de
SUMMARY:Apnoe Training
DESCRIPTION:
URL:https://www.tauchclub-dreieich.de/termin/apnoe-training-45
LOCATION:Langener Hallenbad\, Südliche Ringstraße 75\, Langen\, 63225\, Deutschland
CATEGORIES:Apnoetraining
END:VEVENT
END:VCALENDAR