BEGIN:VCALENDAR
VERSION:2.0
PRODID:-//Tauchclub Dreieich in Langen e.V. - ECPv6.15.20//NONSGML v1.0//EN
CALSCALE:GREGORIAN
METHOD:PUBLISH
X-WR-CALNAME:Tauchclub Dreieich in Langen e.V.
X-ORIGINAL-URL:https://www.tauchclub-dreieich.de
X-WR-CALDESC:Veranstaltungen für Tauchclub Dreieich in Langen e.V.
REFRESH-INTERVAL;VALUE=DURATION:PT1H
X-Robots-Tag:noindex
X-PUBLISHED-TTL:PT1H
BEGIN:VTIMEZONE
TZID:Europe/Berlin
BEGIN:DAYLIGHT
TZOFFSETFROM:+0100
TZOFFSETTO:+0200
TZNAME:CEST
DTSTART:20220327T010000
END:DAYLIGHT
BEGIN:STANDARD
TZOFFSETFROM:+0200
TZOFFSETTO:+0100
TZNAME:CET
DTSTART:20221030T010000
END:STANDARD
BEGIN:DAYLIGHT
TZOFFSETFROM:+0100
TZOFFSETTO:+0200
TZNAME:CEST
DTSTART:20230326T010000
END:DAYLIGHT
BEGIN:STANDARD
TZOFFSETFROM:+0200
TZOFFSETTO:+0100
TZNAME:CET
DTSTART:20231029T010000
END:STANDARD
BEGIN:DAYLIGHT
TZOFFSETFROM:+0100
TZOFFSETTO:+0200
TZNAME:CEST
DTSTART:20240331T010000
END:DAYLIGHT
BEGIN:STANDARD
TZOFFSETFROM:+0200
TZOFFSETTO:+0100
TZNAME:CET
DTSTART:20241027T010000
END:STANDARD
END:VTIMEZONE
BEGIN:VEVENT
DTSTART;TZID=Europe/Berlin:20230901T183000
DTEND;TZID=Europe/Berlin:20230901T200000
DTSTAMP:20260424T073957
CREATED:20230516T194504Z
LAST-MODIFIED:20230516T194504Z
UID:5689-1693593000-1693598400@www.tauchclub-dreieich.de
SUMMARY:Allgemeines Training
DESCRIPTION:
URL:https://www.tauchclub-dreieich.de/termin/allgemeines-training-68
LOCATION:Familien- und Freizeitbad Langen\, Teichstraße 28\, Langen\, 63322\, Deutschland
CATEGORIES:Training
END:VEVENT
BEGIN:VEVENT
DTSTART;TZID=Europe/Berlin:20230901T183000
DTEND;TZID=Europe/Berlin:20230901T200000
DTSTAMP:20260424T073957
CREATED:20230516T195122Z
LAST-MODIFIED:20230516T195122Z
UID:5705-1693593000-1693598400@www.tauchclub-dreieich.de
SUMMARY:Jugendtraining
DESCRIPTION:
URL:https://www.tauchclub-dreieich.de/termin/jugendtraining-85
LOCATION:Familien- und Freizeitbad Langen\, Teichstraße 28\, Langen\, 63322\, Deutschland
CATEGORIES:Jugendtraining
END:VEVENT
BEGIN:VEVENT
DTSTART;TZID=Europe/Berlin:20230908T183000
DTEND;TZID=Europe/Berlin:20230908T200000
DTSTAMP:20260424T073957
CREATED:20230516T194518Z
LAST-MODIFIED:20230516T194518Z
UID:5690-1694197800-1694203200@www.tauchclub-dreieich.de
SUMMARY:Allgemeines Training
DESCRIPTION:
URL:https://www.tauchclub-dreieich.de/termin/allgemeines-training-69
LOCATION:Familien- und Freizeitbad Langen\, Teichstraße 28\, Langen\, 63322\, Deutschland
CATEGORIES:Training
END:VEVENT
BEGIN:VEVENT
DTSTART;TZID=Europe/Berlin:20230908T183000
DTEND;TZID=Europe/Berlin:20230908T200000
DTSTAMP:20260424T073957
CREATED:20230516T195122Z
LAST-MODIFIED:20230516T195122Z
UID:5706-1694197800-1694203200@www.tauchclub-dreieich.de
SUMMARY:Jugendtraining
DESCRIPTION:
URL:https://www.tauchclub-dreieich.de/termin/jugendtraining-86
LOCATION:Familien- und Freizeitbad Langen\, Teichstraße 28\, Langen\, 63322\, Deutschland
CATEGORIES:Jugendtraining
END:VEVENT
BEGIN:VEVENT
DTSTART;TZID=Europe/Berlin:20230909T110000
DTEND;TZID=Europe/Berlin:20230909T170000
DTSTAMP:20260424T073957
CREATED:20230318T184156Z
LAST-MODIFIED:20230318T184156Z
UID:5496-1694257200-1694278800@www.tauchclub-dreieich.de
SUMMARY:HTSV Jugendgrillen 2023
DESCRIPTION:
URL:https://www.tauchclub-dreieich.de/termin/htsv-jugendgrillen-2023
LOCATION:Verbandsgewässer Schönbach\, Schönbach\, Hessen\, Deutschland
CATEGORIES:Apnoe,HTSV
END:VEVENT
BEGIN:VEVENT
DTSTART;TZID=Europe/Berlin:20230915T183000
DTEND;TZID=Europe/Berlin:20230915T200000
DTSTAMP:20260424T073957
CREATED:20230910T130457Z
LAST-MODIFIED:20230910T130457Z
UID:5841-1694802600-1694808000@www.tauchclub-dreieich.de
SUMMARY:Allgemeines Training
DESCRIPTION:
URL:https://www.tauchclub-dreieich.de/termin/allgemeines-training-70
LOCATION:Familien- und Freizeitbad Langen\, Teichstraße 28\, Langen\, 63322\, Deutschland
CATEGORIES:Training
END:VEVENT
BEGIN:VEVENT
DTSTART;TZID=Europe/Berlin:20230915T183000
DTEND;TZID=Europe/Berlin:20230915T200000
DTSTAMP:20260424T073957
CREATED:20230910T130535Z
LAST-MODIFIED:20230910T130535Z
UID:5859-1694802600-1694808000@www.tauchclub-dreieich.de
SUMMARY:Jugendtraining
DESCRIPTION:
URL:https://www.tauchclub-dreieich.de/termin/jugendtraining-87
LOCATION:Familien- und Freizeitbad Langen\, Teichstraße 28\, Langen\, 63322\, Deutschland
CATEGORIES:Jugendtraining
END:VEVENT
BEGIN:VEVENT
DTSTART;TZID=Europe/Berlin:20230922T183000
DTEND;TZID=Europe/Berlin:20230922T200000
DTSTAMP:20260424T073957
CREATED:20230910T130536Z
LAST-MODIFIED:20230910T130536Z
UID:5860-1695407400-1695412800@www.tauchclub-dreieich.de
SUMMARY:Jugendtraining
DESCRIPTION:
URL:https://www.tauchclub-dreieich.de/termin/jugendtraining-88
LOCATION:Langener Hallenbad\, Südliche Ringstraße 75\, Langen\, 63225\, Deutschland
CATEGORIES:Jugendtraining
END:VEVENT
BEGIN:VEVENT
DTSTART;TZID=Europe/Berlin:20230922T193000
DTEND;TZID=Europe/Berlin:20230922T210000
DTSTAMP:20260424T073957
CREATED:20230910T130458Z
LAST-MODIFIED:20230910T130458Z
UID:5842-1695411000-1695416400@www.tauchclub-dreieich.de
SUMMARY:Allgemeines Training
DESCRIPTION:
URL:https://www.tauchclub-dreieich.de/termin/allgemeines-training-71
LOCATION:Langener Hallenbad\, Südliche Ringstraße 75\, Langen\, 63225\, Deutschland
CATEGORIES:Training
END:VEVENT
BEGIN:VEVENT
DTSTART;TZID=Europe/Berlin:20230927T190000
DTEND;TZID=Europe/Berlin:20230927T210000
DTSTAMP:20260424T073957
CREATED:20230814T225444Z
LAST-MODIFIED:20230814T225503Z
UID:5832-1695841200-1695848400@www.tauchclub-dreieich.de
SUMMARY:Beginn Grundkurs Tauchen
DESCRIPTION:
URL:https://www.tauchclub-dreieich.de/termin/beginn-grundkurs-tauchen
LOCATION:Geräteraum\, Langen\, 63225\, Deutschland
CATEGORIES:Ausbildung
END:VEVENT
BEGIN:VEVENT
DTSTART;TZID=Europe/Berlin:20230929T183000
DTEND;TZID=Europe/Berlin:20230929T200000
DTSTAMP:20260424T073957
CREATED:20230910T130550Z
LAST-MODIFIED:20230910T130550Z
UID:5861-1696012200-1696017600@www.tauchclub-dreieich.de
SUMMARY:Jugendtraining
DESCRIPTION:
URL:https://www.tauchclub-dreieich.de/termin/jugendtraining-89
LOCATION:Langener Hallenbad\, Südliche Ringstraße 75\, Langen\, 63225\, Deutschland
CATEGORIES:Jugendtraining
END:VEVENT
BEGIN:VEVENT
DTSTART;TZID=Europe/Berlin:20230929T193000
DTEND;TZID=Europe/Berlin:20230929T210000
DTSTAMP:20260424T073957
CREATED:20230910T130459Z
LAST-MODIFIED:20230910T130459Z
UID:5843-1696015800-1696021200@www.tauchclub-dreieich.de
SUMMARY:Allgemeines Training
DESCRIPTION:
URL:https://www.tauchclub-dreieich.de/termin/allgemeines-training-72
LOCATION:Langener Hallenbad\, Südliche Ringstraße 75\, Langen\, 63225\, Deutschland
CATEGORIES:Training
END:VEVENT
END:VCALENDAR