BEGIN:VCALENDAR
VERSION:2.0
PRODID:-//Tauchclub Dreieich in Langen e.V. - ECPv6.15.20//NONSGML v1.0//EN
CALSCALE:GREGORIAN
METHOD:PUBLISH
X-WR-CALNAME:Tauchclub Dreieich in Langen e.V.
X-ORIGINAL-URL:https://www.tauchclub-dreieich.de
X-WR-CALDESC:Veranstaltungen für Tauchclub Dreieich in Langen e.V.
REFRESH-INTERVAL;VALUE=DURATION:PT1H
X-Robots-Tag:noindex
X-PUBLISHED-TTL:PT1H
BEGIN:VTIMEZONE
TZID:Europe/Berlin
BEGIN:DAYLIGHT
TZOFFSETFROM:+0100
TZOFFSETTO:+0200
TZNAME:CEST
DTSTART:20220327T010000
END:DAYLIGHT
BEGIN:STANDARD
TZOFFSETFROM:+0200
TZOFFSETTO:+0100
TZNAME:CET
DTSTART:20221030T010000
END:STANDARD
BEGIN:DAYLIGHT
TZOFFSETFROM:+0100
TZOFFSETTO:+0200
TZNAME:CEST
DTSTART:20230326T010000
END:DAYLIGHT
BEGIN:STANDARD
TZOFFSETFROM:+0200
TZOFFSETTO:+0100
TZNAME:CET
DTSTART:20231029T010000
END:STANDARD
BEGIN:DAYLIGHT
TZOFFSETFROM:+0100
TZOFFSETTO:+0200
TZNAME:CEST
DTSTART:20240331T010000
END:DAYLIGHT
BEGIN:STANDARD
TZOFFSETFROM:+0200
TZOFFSETTO:+0100
TZNAME:CET
DTSTART:20241027T010000
END:STANDARD
END:VTIMEZONE
BEGIN:VEVENT
DTSTART;TZID=Europe/Berlin:20230701T170000
DTEND;TZID=Europe/Berlin:20230701T235900
DTSTAMP:20260424T104219
CREATED:20230226T230945Z
LAST-MODIFIED:20230226T230945Z
UID:5393-1688230800-1688255940@www.tauchclub-dreieich.de
SUMMARY:50 Jahre Jubiläumsfeier
DESCRIPTION:Bitte haltet Euch den 01.07.2023  ab ca. 17.00 Uhr frei\, denn der TCD feiert seinen 50. Geburtstag und  das ist ein Grund mit EUCH zu feiern. \nGenauere Informationen folgen in Kürze\, die Feier findet auf auf dem Gelände des Deutschen Schäferhundevereins in Langen statt. \nEuer  TCD Vergnügungsausschuss
URL:https://www.tauchclub-dreieich.de/termin/50-jahre-jubilaeumsfeier
END:VEVENT
BEGIN:VEVENT
DTSTART;TZID=Europe/Berlin:20230707T183000
DTEND;TZID=Europe/Berlin:20230707T200000
DTSTAMP:20260424T104219
CREATED:20230516T194446Z
LAST-MODIFIED:20230516T194446Z
UID:5681-1688754600-1688760000@www.tauchclub-dreieich.de
SUMMARY:Allgemeines Training
DESCRIPTION:
URL:https://www.tauchclub-dreieich.de/termin/allgemeines-training-60
LOCATION:Familien- und Freizeitbad Langen\, Teichstraße 28\, Langen\, 63322\, Deutschland
CATEGORIES:Training
END:VEVENT
BEGIN:VEVENT
DTSTART;TZID=Europe/Berlin:20230707T183000
DTEND;TZID=Europe/Berlin:20230707T200000
DTSTAMP:20260424T104219
CREATED:20230516T194720Z
LAST-MODIFIED:20230516T194720Z
UID:5697-1688754600-1688760000@www.tauchclub-dreieich.de
SUMMARY:Jugendtraining
DESCRIPTION:
URL:https://www.tauchclub-dreieich.de/termin/jugendtraining-77
LOCATION:Familien- und Freizeitbad Langen\, Teichstraße 28\, Langen\, 63322\, Deutschland
CATEGORIES:Jugendtraining
END:VEVENT
BEGIN:VEVENT
DTSTART;TZID=Europe/Berlin:20230714T183000
DTEND;TZID=Europe/Berlin:20230714T200000
DTSTAMP:20260424T104219
CREATED:20230516T194447Z
LAST-MODIFIED:20230516T194447Z
UID:5682-1689359400-1689364800@www.tauchclub-dreieich.de
SUMMARY:Allgemeines Training
DESCRIPTION:
URL:https://www.tauchclub-dreieich.de/termin/allgemeines-training-61
LOCATION:Familien- und Freizeitbad Langen\, Teichstraße 28\, Langen\, 63322\, Deutschland
CATEGORIES:Training
END:VEVENT
BEGIN:VEVENT
DTSTART;TZID=Europe/Berlin:20230714T183000
DTEND;TZID=Europe/Berlin:20230714T200000
DTSTAMP:20260424T104219
CREATED:20230516T194721Z
LAST-MODIFIED:20230516T194721Z
UID:5698-1689359400-1689364800@www.tauchclub-dreieich.de
SUMMARY:Jugendtraining
DESCRIPTION:
URL:https://www.tauchclub-dreieich.de/termin/jugendtraining-78
LOCATION:Familien- und Freizeitbad Langen\, Teichstraße 28\, Langen\, 63322\, Deutschland
CATEGORIES:Jugendtraining
END:VEVENT
BEGIN:VEVENT
DTSTART;VALUE=DATE:20230717
DTEND;VALUE=DATE:20230718
DTSTAMP:20260424T104219
CREATED:20230212T142341Z
LAST-MODIFIED:20230212T142601Z
UID:5307-1689552000-1689638399@www.tauchclub-dreieich.de
SUMMARY:Main in Flammen / Seligenstädter Geleitsfest 2023
DESCRIPTION:Großes Fackelschwimmen auf dem Main beim Seligenstädter Geleitsfest 2023\nEinmal das Geleitsfest vom Main her erleben!\nDu bist … \n\nin der Lage\, sich durch Schwimmbewegungen an der Wasseroberflache zu halten?\nbereit zum ultimativen Abenteuer auf eigene Gefahr?\nim Besitz von Schwimmflossen?\nnoch nie mit einer Fackel in der Hand im Main geschwommen?\nkein Jammerlappen?\n\nDann ist dieses Event genau das Richtige für Dich!\nIm Rahmen der Abschlussveranstaltung des Seligenstadter Geleitsfestes am Montag\, den 17.07.2023 soll ein Fackelschwimmen im Main durchgeführt werden. Veranstalter ist der Heimatbund Seligenstadt e.V.\nBereits 2015 und 2019 fand das Bild mit den Fackelschwimmern auf dem Wasser großen Anklang beim Publikum. Eine größere Schar an Teilnehmern waren natürlich noch besser. \n\nTreffpunkt und Raumlichkeiten zum Umziehen und Duschen werden in/an der Halle der TGS\, Grabenstrafe\, sein. Parkplatze sind vorhanden.\nNach der Registrierung und einer Ansprache werden von diesem Treffpunkt aus alle Teilnehmer-/innen mit Fahrzeugen zum Einstiegsplatz am Main gefahren.\nHier beginnt die Vorbereitung der Bretter mit dem Aufstecken der bereitgestellten Fackeln. Das Entzünden der Fackeln und der Start ist bei einbrechender Dunkelheit.\nHelfer werden ihnen dort ins Wasser helfen.\nAm Ausstieg — dem anderen Ende der Festmeile — werden den Teilnehmern ebenfalls Helfer aus dem Wasser helfen.\nRücktransport zur TGS Turnhalle.\nIn den Umkleiden erwartet Dich Getränke und ein kleiner Imbiss.\n\nImpressionen vom Geleitsfest 2019 findest Du in unserem Artikel Fackelschwimmen beim Geleitsfest in Seligenstadt.
URL:https://www.tauchclub-dreieich.de/termin/main-in-flammen-seligenstaedter-geleitsfest-2023
LOCATION:Seligenstadt / Mainufer\, Seligenstadt\, Hessen\, 63500\, Deutschland
END:VEVENT
BEGIN:VEVENT
DTSTART;VALUE=DATE:20230721
DTEND;VALUE=DATE:20230724
DTSTAMP:20260424T104219
CREATED:20230321T140758Z
LAST-MODIFIED:20230321T141617Z
UID:5530-1689897600-1690156799@www.tauchclub-dreieich.de
SUMMARY:SK Tauchfertigkeiten
DESCRIPTION:Möchtest Du tauchen wie Dein Schatten ohne Schlammspuren zu hinterlassen? Lust darauf Deine Tarierung und  den Schwimmstil beim Tauchen zu verbessern?\nDann schau Dir mal diesen Kurs an: https://htsv.org/ausschreibung/?Serial=1769 \nDu hast noch Fragen? Dann sende hier eine Nachricht an Wolfgang: \n\n\n  \n\n\n\n Dein Name\n \n \n Deine E-Mail-Adresse\n \n \nBitte lasse dieses Feld leer.\n \n Deine Nachricht an Wolfgang
URL:https://www.tauchclub-dreieich.de/termin/sk-tauchfertigkeiten
LOCATION:Verbandsgewässer Schönbach\, Schönbach\, Hessen\, Deutschland
CATEGORIES:Ausbildung
END:VEVENT
BEGIN:VEVENT
DTSTART;TZID=Europe/Berlin:20230721T160000
DTEND;TZID=Europe/Berlin:20230730T190000
DTSTAMP:20260424T104219
CREATED:20230205T003432Z
LAST-MODIFIED:20230205T003432Z
UID:5291-1689955200-1690743600@www.tauchclub-dreieich.de
SUMMARY:Jugendfahrt nach Tamariu/Spanien
DESCRIPTION:
URL:https://www.tauchclub-dreieich.de/termin/jugendfahrt-nach-tamariu-spanien
LOCATION:Tamariu – Stolli’s Tauchbasis\, Paseo del Mar 26\, Tamariu\, 17212\, Spanien
END:VEVENT
BEGIN:VEVENT
DTSTART;TZID=Europe/Berlin:20230721T183000
DTEND;TZID=Europe/Berlin:20230721T200000
DTSTAMP:20260424T104219
CREATED:20230516T194447Z
LAST-MODIFIED:20230516T194447Z
UID:5683-1689964200-1689969600@www.tauchclub-dreieich.de
SUMMARY:Allgemeines Training
DESCRIPTION:
URL:https://www.tauchclub-dreieich.de/termin/allgemeines-training-62
LOCATION:Familien- und Freizeitbad Langen\, Teichstraße 28\, Langen\, 63322\, Deutschland
CATEGORIES:Training
END:VEVENT
BEGIN:VEVENT
DTSTART;TZID=Europe/Berlin:20230721T183000
DTEND;TZID=Europe/Berlin:20230721T200000
DTSTAMP:20260424T104219
CREATED:20230516T194721Z
LAST-MODIFIED:20230720T174143Z
UID:5699-1689964200-1689969600@www.tauchclub-dreieich.de
SUMMARY:Jugendtraining - fällt aus!
DESCRIPTION:
URL:https://www.tauchclub-dreieich.de/termin/jugendtraining-79
LOCATION:Familien- und Freizeitbad Langen\, Teichstraße 28\, Langen\, 63322\, Deutschland
CATEGORIES:Jugendtraining
END:VEVENT
BEGIN:VEVENT
DTSTART;TZID=Europe/Berlin:20230728T183000
DTEND;TZID=Europe/Berlin:20230728T200000
DTSTAMP:20260424T104219
CREATED:20230516T194447Z
LAST-MODIFIED:20230516T194447Z
UID:5684-1690569000-1690574400@www.tauchclub-dreieich.de
SUMMARY:Allgemeines Training
DESCRIPTION:
URL:https://www.tauchclub-dreieich.de/termin/allgemeines-training-63
LOCATION:Familien- und Freizeitbad Langen\, Teichstraße 28\, Langen\, 63322\, Deutschland
CATEGORIES:Training
END:VEVENT
BEGIN:VEVENT
DTSTART;TZID=Europe/Berlin:20230728T183000
DTEND;TZID=Europe/Berlin:20230728T200000
DTSTAMP:20260424T104219
CREATED:20230516T194920Z
LAST-MODIFIED:20230720T175843Z
UID:5700-1690569000-1690574400@www.tauchclub-dreieich.de
SUMMARY:Jugendtraining - fällt aus!
DESCRIPTION:
URL:https://www.tauchclub-dreieich.de/termin/jugendtraining-80
LOCATION:Familien- und Freizeitbad Langen\, Teichstraße 28\, Langen\, 63322\, Deutschland
CATEGORIES:Jugendtraining
END:VEVENT
END:VCALENDAR