BEGIN:VCALENDAR
VERSION:2.0
PRODID:-//Tauchclub Dreieich in Langen e.V. - ECPv6.15.20//NONSGML v1.0//EN
CALSCALE:GREGORIAN
METHOD:PUBLISH
X-WR-CALNAME:Tauchclub Dreieich in Langen e.V.
X-ORIGINAL-URL:https://www.tauchclub-dreieich.de
X-WR-CALDESC:Veranstaltungen für Tauchclub Dreieich in Langen e.V.
REFRESH-INTERVAL;VALUE=DURATION:PT1H
X-Robots-Tag:noindex
X-PUBLISHED-TTL:PT1H
BEGIN:VTIMEZONE
TZID:Europe/Berlin
BEGIN:DAYLIGHT
TZOFFSETFROM:+0100
TZOFFSETTO:+0200
TZNAME:CEST
DTSTART:20220327T010000
END:DAYLIGHT
BEGIN:STANDARD
TZOFFSETFROM:+0200
TZOFFSETTO:+0100
TZNAME:CET
DTSTART:20221030T010000
END:STANDARD
BEGIN:DAYLIGHT
TZOFFSETFROM:+0100
TZOFFSETTO:+0200
TZNAME:CEST
DTSTART:20230326T010000
END:DAYLIGHT
BEGIN:STANDARD
TZOFFSETFROM:+0200
TZOFFSETTO:+0100
TZNAME:CET
DTSTART:20231029T010000
END:STANDARD
BEGIN:DAYLIGHT
TZOFFSETFROM:+0100
TZOFFSETTO:+0200
TZNAME:CEST
DTSTART:20240331T010000
END:DAYLIGHT
BEGIN:STANDARD
TZOFFSETFROM:+0200
TZOFFSETTO:+0100
TZNAME:CET
DTSTART:20241027T010000
END:STANDARD
END:VTIMEZONE
BEGIN:VEVENT
DTSTART;TZID=Europe/Berlin:20230602T183000
DTEND;TZID=Europe/Berlin:20230602T200000
DTSTAMP:20260424T124621
CREATED:20230516T194443Z
LAST-MODIFIED:20230516T194443Z
UID:5677-1685730600-1685736000@www.tauchclub-dreieich.de
SUMMARY:Allgemeines Training
DESCRIPTION:
URL:https://www.tauchclub-dreieich.de/termin/allgemeines-training-56
LOCATION:Familien- und Freizeitbad Langen\, Teichstraße 28\, Langen\, 63322\, Deutschland
CATEGORIES:Training
END:VEVENT
BEGIN:VEVENT
DTSTART;TZID=Europe/Berlin:20230602T183000
DTEND;TZID=Europe/Berlin:20230602T200000
DTSTAMP:20260424T124621
CREATED:20230516T194519Z
LAST-MODIFIED:20230516T194519Z
UID:5693-1685730600-1685736000@www.tauchclub-dreieich.de
SUMMARY:Jugendtraining
DESCRIPTION:
URL:https://www.tauchclub-dreieich.de/termin/jugendtraining-73
LOCATION:Familien- und Freizeitbad Langen\, Teichstraße 28\, Langen\, 63322\, Deutschland
CATEGORIES:Jugendtraining
END:VEVENT
BEGIN:VEVENT
DTSTART;TZID=Europe/Berlin:20230603T090000
DTEND;TZID=Europe/Berlin:20230603T130000
DTSTAMP:20260424T124621
CREATED:20230321T000201Z
LAST-MODIFIED:20230516T155243Z
UID:5540-1685782800-1685797200@www.tauchclub-dreieich.de
SUMMARY:Übungs- und Prüfungstauchgänge für die deutschen Tauchsportabzeichen Silber und Gold
DESCRIPTION:Es gibt viele Gründe\, sich taucherisch fortzubilden. Ein Grund ist sicherlich\, dass man für viele interessante Tauchplätze die Tauchsportabzeichen der Stufen Silber oder Gold vorlegen muss.\nIm Tauchclub Dreieich machen wir das in der gesamten „Sommersaison“ in den umliegenden Seen abwechselnd samstags und sonntags\, sowie nach Feierabend. \nDu hast Interesse? Dann melde Dich bei Wolfgang: \n\n\n  \n\n\n\n Dein Name\n \n \n Deine E-Mail-Adresse\n \n \nBitte lasse dieses Feld leer.\n \n Deine Nachricht an Wolfgang
URL:https://www.tauchclub-dreieich.de/termin/uebungs-und-pruefungstauchgaenge-fuer-die-deutschen-tauchsportabzeichen-silber-und-gold-3
CATEGORIES:Ausbildung,Training
END:VEVENT
BEGIN:VEVENT
DTSTART;TZID=Europe/Berlin:20230603T100000
DTEND;TZID=Europe/Berlin:20230603T160000
DTSTAMP:20260424T124621
CREATED:20230426T063826Z
LAST-MODIFIED:20230426T064631Z
UID:5585-1685786400-1685808000@www.tauchclub-dreieich.de
SUMMARY:Gemeinsamer Rettungstag mit dem TC Turtle
DESCRIPTION:In rund 50 Prozent der vom VDST untersuchten Tauchunfälle bekommen Verunfallte keine oder eine nicht ausreichende Sauerstoffversorgung im Rahmen der Erstmaßnahmen vor Ort. \nDoch warum? \n\nGerade kein Sauerstoffsystem vorhanden\nFehler in der Handhabung von Sauerstoffsystemen\nErsthelfer sind abgelenkt durch andere Maßnahmen und denken zu spät an O2\nErsthelfer sind überfordert von komplexen O2-Systemen die in Deutschland\, mit einem dichten Rettungsnetz\, eine eher untergeordnete Rolle spielen sollten\n\nUm dem entgegenzuwirken wurde letztes Jahr die erste Sauerstoff-Initiative seitens des VDST durchgeführt und viele Vereine haben bereits erfolgreich einen Rettungstag durchgeführt. Der Rettungstag verdeutlicht allen Teilnehmern die Notwendigkeit einer fachgerechten Rettung und einer schnellen Sauerstoffgabe bei Tauchunfällen. Und jedes aktive VDST-Mitglied soll diese O2-Systeme kennen und einsetzen können. \nGemeinsam mit dem befreundeten Verein TC Turtle veranstalten wir einen „Rettungstag“ am See in Biebesheim. An diesem Tag wollen wir theoretisch und praktisch folgendes üben: \n\nwie hole ich einen bewusstlosen Taucher (z.B. im Trocki) nach oben?\n wie bringe ich ihn an Land?\nwie bringe ich ihn aus dem Tauchanzug / Trocki?\nwie ist die Rettungskette?\nwie geht die stabile Seitenlagerung und die Herz-Lungen-Wiederbelebung?\nwie gebe ich Sauerstoff mit unserem O2 Rescue-Set oder anderen Systemen?\nwie mache ich den Neuro-Check und fülle das Tauchunfallprotokoll aus (mit Papier oder der neuen VDST-App)?\nwie erfolgt die Übergabe an den Rettungsdienst?\n\nDas alles an einem entspannten Tag am See\, mit netten Tauchern und Taucherinnen und ein Grill ist auch vorhanden. \nHier kannst Du Dich anmelden: \n\n\n  \n\n\n\n Dein vollständiger Name\n \n \n Deine E-Mail-Adresse\n \n \nBitte lasse dieses Feld leer.\n \n Hinweise/Anmerkungen (optional)\n \n \n\n\n       \n \n\n\n\nWenn Du noch Fragen hast\, melde Dich gerne bei Kristian.
URL:https://www.tauchclub-dreieich.de/termin/gemeinsamer-rettungstag-mit-dem-tc-turtle
END:VEVENT
BEGIN:VEVENT
DTSTART;TZID=Europe/Berlin:20230609T183000
DTEND;TZID=Europe/Berlin:20230609T200000
DTSTAMP:20260424T124621
CREATED:20230516T194444Z
LAST-MODIFIED:20230516T194444Z
UID:5678-1686335400-1686340800@www.tauchclub-dreieich.de
SUMMARY:Allgemeines Training
DESCRIPTION:
URL:https://www.tauchclub-dreieich.de/termin/allgemeines-training-57
LOCATION:Familien- und Freizeitbad Langen\, Teichstraße 28\, Langen\, 63322\, Deutschland
CATEGORIES:Training
END:VEVENT
BEGIN:VEVENT
DTSTART;TZID=Europe/Berlin:20230609T183000
DTEND;TZID=Europe/Berlin:20230609T200000
DTSTAMP:20260424T124621
CREATED:20230516T194520Z
LAST-MODIFIED:20230516T194520Z
UID:5694-1686335400-1686340800@www.tauchclub-dreieich.de
SUMMARY:Jugendtraining
DESCRIPTION:
URL:https://www.tauchclub-dreieich.de/termin/jugendtraining-74
LOCATION:Familien- und Freizeitbad Langen\, Teichstraße 28\, Langen\, 63322\, Deutschland
CATEGORIES:Jugendtraining
END:VEVENT
BEGIN:VEVENT
DTSTART;TZID=Europe/Berlin:20230617T100000
DTEND;TZID=Europe/Berlin:20230617T130000
DTSTAMP:20260424T124621
CREATED:20230401T184250Z
LAST-MODIFIED:20230424T043315Z
UID:5566-1686996000-1687006800@www.tauchclub-dreieich.de
SUMMARY:Einweisung Vereinskompressor
DESCRIPTION:Einweisung in unseren Vereinskompressor\, damit Du die Füllberechtigung für 2023 erhältst. \nBitte melde Dich hier an. Die Teilnehmerzahl ist auf 12 begrenzt.  \n\n\n  \n\n\n\n Dein vollständiger Name\n \n \n Deine E-Mail-Adresse\n \n \nBitte lasse dieses Feld leer.\n \nIch habe in der Vergangenheit schon mal an einer Kompressoreinweisung teilgenommen\n \n Hinweise/Anmerkungen (optional)
URL:https://www.tauchclub-dreieich.de/termin/2023-06-17_einweisung-vereinskompressor
LOCATION:Geräteraum\, Langen\, 63225\, Deutschland
CATEGORIES:Ausbildung,Vereinskompressor
END:VEVENT
BEGIN:VEVENT
DTSTART;TZID=Europe/Berlin:20230623T183000
DTEND;TZID=Europe/Berlin:20230623T200000
DTSTAMP:20260424T124621
CREATED:20230516T194444Z
LAST-MODIFIED:20230516T194444Z
UID:5679-1687545000-1687550400@www.tauchclub-dreieich.de
SUMMARY:Allgemeines Training
DESCRIPTION:
URL:https://www.tauchclub-dreieich.de/termin/allgemeines-training-58
LOCATION:Familien- und Freizeitbad Langen\, Teichstraße 28\, Langen\, 63322\, Deutschland
CATEGORIES:Training
END:VEVENT
BEGIN:VEVENT
DTSTART;TZID=Europe/Berlin:20230623T183000
DTEND;TZID=Europe/Berlin:20230623T200000
DTSTAMP:20260424T124621
CREATED:20230516T194720Z
LAST-MODIFIED:20230516T194720Z
UID:5695-1687545000-1687550400@www.tauchclub-dreieich.de
SUMMARY:Jugendtraining
DESCRIPTION:
URL:https://www.tauchclub-dreieich.de/termin/jugendtraining-75
LOCATION:Familien- und Freizeitbad Langen\, Teichstraße 28\, Langen\, 63322\, Deutschland
CATEGORIES:Jugendtraining
END:VEVENT
BEGIN:VEVENT
DTSTART;TZID=Europe/Berlin:20230630T183000
DTEND;TZID=Europe/Berlin:20230630T200000
DTSTAMP:20260424T124621
CREATED:20230516T194446Z
LAST-MODIFIED:20230516T194446Z
UID:5680-1688149800-1688155200@www.tauchclub-dreieich.de
SUMMARY:Allgemeines Training
DESCRIPTION:
URL:https://www.tauchclub-dreieich.de/termin/allgemeines-training-59
LOCATION:Familien- und Freizeitbad Langen\, Teichstraße 28\, Langen\, 63322\, Deutschland
CATEGORIES:Training
END:VEVENT
BEGIN:VEVENT
DTSTART;TZID=Europe/Berlin:20230630T183000
DTEND;TZID=Europe/Berlin:20230630T200000
DTSTAMP:20260424T124621
CREATED:20230516T194720Z
LAST-MODIFIED:20230516T194720Z
UID:5696-1688149800-1688155200@www.tauchclub-dreieich.de
SUMMARY:Jugendtraining
DESCRIPTION:
URL:https://www.tauchclub-dreieich.de/termin/jugendtraining-76
LOCATION:Familien- und Freizeitbad Langen\, Teichstraße 28\, Langen\, 63322\, Deutschland
CATEGORIES:Jugendtraining
END:VEVENT
END:VCALENDAR