BEGIN:VCALENDAR
VERSION:2.0
PRODID:-//Tauchclub Dreieich in Langen e.V. - ECPv6.15.20//NONSGML v1.0//EN
CALSCALE:GREGORIAN
METHOD:PUBLISH
X-ORIGINAL-URL:https://www.tauchclub-dreieich.de
X-WR-CALDESC:Veranstaltungen für Tauchclub Dreieich in Langen e.V.
REFRESH-INTERVAL;VALUE=DURATION:PT1H
X-Robots-Tag:noindex
X-PUBLISHED-TTL:PT1H
BEGIN:VTIMEZONE
TZID:Europe/Berlin
BEGIN:DAYLIGHT
TZOFFSETFROM:+0100
TZOFFSETTO:+0200
TZNAME:CEST
DTSTART:20220327T010000
END:DAYLIGHT
BEGIN:STANDARD
TZOFFSETFROM:+0200
TZOFFSETTO:+0100
TZNAME:CET
DTSTART:20221030T010000
END:STANDARD
BEGIN:DAYLIGHT
TZOFFSETFROM:+0100
TZOFFSETTO:+0200
TZNAME:CEST
DTSTART:20230326T010000
END:DAYLIGHT
BEGIN:STANDARD
TZOFFSETFROM:+0200
TZOFFSETTO:+0100
TZNAME:CET
DTSTART:20231029T010000
END:STANDARD
BEGIN:DAYLIGHT
TZOFFSETFROM:+0100
TZOFFSETTO:+0200
TZNAME:CEST
DTSTART:20240331T010000
END:DAYLIGHT
BEGIN:STANDARD
TZOFFSETFROM:+0200
TZOFFSETTO:+0100
TZNAME:CET
DTSTART:20241027T010000
END:STANDARD
END:VTIMEZONE
BEGIN:VEVENT
DTSTART;TZID=Europe/Berlin:20230504T190000
DTEND;TZID=Europe/Berlin:20230507T160000
DTSTAMP:20260424T144556
CREATED:20230226T224605Z
LAST-MODIFIED:20230226T224821Z
UID:5383-1683226800-1683475200@www.tauchclub-dreieich.de
SUMMARY:AK Gruppenführung
DESCRIPTION:In diesem Aufbaukurs wirst Du mit den Grundelementen der Gruppenführung vertraut gemacht. Du erlernst\, was es bedeutet eine Gruppe unter Wasser sicher zu führen und dabei den Spaß am Tauchen nicht zu vergessen. Auf dem Weg zu einem souveränen Taucher (GDL** Advanced Sports Diver) ist dieser Kurs verpflichtend. Nach erfolgreicher Teilnahme erhältst Du die offizielle Lizenzkarte sowie einen Einkleber für den Taucherpass.
URL:https://www.tauchclub-dreieich.de/termin/ak-gruppenfuehrung
LOCATION:Verbandsgewässer Schönbach\, Schönbach\, Hessen\, Deutschland
CATEGORIES:Ausbildung,HTSV
END:VEVENT
BEGIN:VEVENT
DTSTART;TZID=Europe/Berlin:20230505T183000
DTEND;TZID=Europe/Berlin:20230505T200000
DTSTAMP:20260424T144556
CREATED:20230226T224019Z
LAST-MODIFIED:20230226T224019Z
UID:5376-1683311400-1683316800@www.tauchclub-dreieich.de
SUMMARY:Jugendtraining
DESCRIPTION:
URL:https://www.tauchclub-dreieich.de/termin/jugendtraining-69
LOCATION:Langener Hallenbad\, Südliche Ringstraße 75\, Langen\, 63225\, Deutschland
CATEGORIES:Jugendtraining
END:VEVENT
BEGIN:VEVENT
DTSTART;TZID=Europe/Berlin:20230505T190000
DTEND;TZID=Europe/Berlin:20230505T210000
DTSTAMP:20260424T144556
CREATED:20230226T223707Z
LAST-MODIFIED:20230226T223707Z
UID:5360-1683313200-1683320400@www.tauchclub-dreieich.de
SUMMARY:Schnuppertauchen / Schnuppertraining
DESCRIPTION:Willst Du bei uns in den Verein reinschnuppern? Möchtest Du einen Schnuppertauchgang machen? Dann hast Du hier die Gelegenheit! \nWeitere Infos unter: https://www.tauchclub-dreieich.de/lust-auf-tauchen
URL:https://www.tauchclub-dreieich.de/termin/schnuppertauchen
LOCATION:Langener Hallenbad\, Südliche Ringstraße 75\, Langen\, 63225\, Deutschland
CATEGORIES:Schnuppertauchen,Schnuppertraining
END:VEVENT
BEGIN:VEVENT
DTSTART;TZID=Europe/Berlin:20230505T193000
DTEND;TZID=Europe/Berlin:20230505T210000
DTSTAMP:20260424T144556
CREATED:20230226T224018Z
LAST-MODIFIED:20230226T224018Z
UID:5375-1683315000-1683320400@www.tauchclub-dreieich.de
SUMMARY:Allgemeines Training
DESCRIPTION:
URL:https://www.tauchclub-dreieich.de/termin/allgemeines-training-50
LOCATION:Langener Hallenbad\, Südliche Ringstraße 75\, Langen\, 63225\, Deutschland
CATEGORIES:Training
END:VEVENT
BEGIN:VEVENT
DTSTART;TZID=Europe/Berlin:20230512T183000
DTEND;TZID=Europe/Berlin:20230512T200000
DTSTAMP:20260424T144556
CREATED:20230226T224034Z
LAST-MODIFIED:20230226T224034Z
UID:5378-1683916200-1683921600@www.tauchclub-dreieich.de
SUMMARY:Jugendtraining
DESCRIPTION:
URL:https://www.tauchclub-dreieich.de/termin/jugendtraining-70
LOCATION:Langener Hallenbad\, Südliche Ringstraße 75\, Langen\, 63225\, Deutschland
CATEGORIES:Jugendtraining
END:VEVENT
BEGIN:VEVENT
DTSTART;TZID=Europe/Berlin:20230512T193000
DTEND;TZID=Europe/Berlin:20230512T210000
DTSTAMP:20260424T144556
CREATED:20230226T224033Z
LAST-MODIFIED:20230226T224033Z
UID:5377-1683919800-1683925200@www.tauchclub-dreieich.de
SUMMARY:Allgemeines Training
DESCRIPTION:
URL:https://www.tauchclub-dreieich.de/termin/allgemeines-training-51
LOCATION:Langener Hallenbad\, Südliche Ringstraße 75\, Langen\, 63225\, Deutschland
CATEGORIES:Training
END:VEVENT
BEGIN:VEVENT
DTSTART;TZID=Europe/Berlin:20230512T210000
DTEND;TZID=Europe/Berlin:20230512T220000
DTSTAMP:20260424T144556
CREATED:20230226T223849Z
LAST-MODIFIED:20230226T223849Z
UID:5363-1683925200-1683928800@www.tauchclub-dreieich.de
SUMMARY:Trainersitzung
DESCRIPTION:
URL:https://www.tauchclub-dreieich.de/termin/trainersitzung-5
LOCATION:Geräteraum\, Langen\, 63225\, Deutschland
END:VEVENT
BEGIN:VEVENT
DTSTART;VALUE=DATE:20230513
DTEND;VALUE=DATE:20230515
DTSTAMP:20260424T144556
CREATED:20230320T231628Z
LAST-MODIFIED:20230516T154237Z
UID:5528-1683936000-1684108799@www.tauchclub-dreieich.de
SUMMARY:HTSV-Kurs Tauchsicherheit und Rettung
DESCRIPTION:Was tun wir damit alle Tauchgänge sicher und problemfrei verlaufen? Wie reagieren wir\, wenn trotzdem mal was schiegeht?\nAntworten auf diese Fragen bekommt Ihr auf den HTSV-Kursen zu Tauchsicherheit und Rettung.\nUnsere Ausbilder arbeiten an diesen Kursen mit.\nHier findet Ihr mehr ……\nhttps://htsv.org/ausschreibung/?Serial=1719    (Herbst) \nBei Fragen wende Dich am besten direkt an WolfgangKraus@gmx.net
URL:https://www.tauchclub-dreieich.de/termin/htsv-kurs-tauchsicherheit-und-rettung
LOCATION:Verbandsgewässer Schönbach\, Schönbach\, Hessen\, Deutschland
CATEGORIES:Ausbildung,HTSV
END:VEVENT
BEGIN:VEVENT
DTSTART;TZID=Europe/Berlin:20230519T183000
DTEND;TZID=Europe/Berlin:20230519T200000
DTSTAMP:20260424T144556
CREATED:20230226T224034Z
LAST-MODIFIED:20230516T194519Z
UID:5380-1684521000-1684526400@www.tauchclub-dreieich.de
SUMMARY:Jugendtraining
DESCRIPTION:
URL:https://www.tauchclub-dreieich.de/termin/jugendtraining-71
LOCATION:Familien- und Freizeitbad Langen\, Teichstraße 28\, Langen\, 63322\, Deutschland
CATEGORIES:Jugendtraining
END:VEVENT
BEGIN:VEVENT
DTSTART;TZID=Europe/Berlin:20230519T183000
DTEND;TZID=Europe/Berlin:20230519T200000
DTSTAMP:20260424T144556
CREATED:20230516T194442Z
LAST-MODIFIED:20230516T194442Z
UID:5675-1684521000-1684526400@www.tauchclub-dreieich.de
SUMMARY:Allgemeines Training
DESCRIPTION:
URL:https://www.tauchclub-dreieich.de/termin/allgemeines-training-54
LOCATION:Familien- und Freizeitbad Langen\, Teichstraße 28\, Langen\, 63322\, Deutschland
CATEGORIES:Training
END:VEVENT
BEGIN:VEVENT
DTSTART;TZID=Europe/Berlin:20230519T193000
DTEND;TZID=Europe/Berlin:20230519T210000
DTSTAMP:20260424T144556
CREATED:20230226T224034Z
LAST-MODIFIED:20230226T224034Z
UID:5379-1684524600-1684530000@www.tauchclub-dreieich.de
SUMMARY:Allgemeines Training
DESCRIPTION:
URL:https://www.tauchclub-dreieich.de/termin/allgemeines-training-52
LOCATION:Langener Hallenbad\, Südliche Ringstraße 75\, Langen\, 63225\, Deutschland
CATEGORIES:Training
END:VEVENT
BEGIN:VEVENT
DTSTART;TZID=Europe/Berlin:20230520T100000
DTEND;TZID=Europe/Berlin:20230520T130000
DTSTAMP:20260424T144556
CREATED:20230401T173054Z
LAST-MODIFIED:20230424T043243Z
UID:5558-1684576800-1684587600@www.tauchclub-dreieich.de
SUMMARY:Einweisung Vereinskompressor
DESCRIPTION:Einweisung in unseren Vereinskompressor\, damit Du die Füllberechtigung für 2023 erhältst. \nBitte melde Dich hier an. Die Teilnehmerzahl ist auf 12 begrenzt. Dieser Termin ist leider bereits ausgebucht. \nBitte beachte\, dass es noch einen weiteren Termin am 17. Juni 2023 gibt.
URL:https://www.tauchclub-dreieich.de/termin/2023-05-20_einweisung-vereinskompressor
LOCATION:Geräteraum\, Langen\, 63225\, Deutschland
CATEGORIES:Ausbildung,Vereinskompressor
END:VEVENT
BEGIN:VEVENT
DTSTART;TZID=Europe/Berlin:20230526T183000
DTEND;TZID=Europe/Berlin:20230526T200000
DTSTAMP:20260424T144556
CREATED:20230226T224049Z
LAST-MODIFIED:20230516T194519Z
UID:5382-1685125800-1685131200@www.tauchclub-dreieich.de
SUMMARY:Jugendtraining
DESCRIPTION:
URL:https://www.tauchclub-dreieich.de/termin/jugendtraining-72
LOCATION:Familien- und Freizeitbad Langen\, Teichstraße 28\, Langen\, 63322\, Deutschland
CATEGORIES:Jugendtraining
END:VEVENT
BEGIN:VEVENT
DTSTART;TZID=Europe/Berlin:20230526T183000
DTEND;TZID=Europe/Berlin:20230526T200000
DTSTAMP:20260424T144556
CREATED:20230516T194443Z
LAST-MODIFIED:20230516T194443Z
UID:5676-1685125800-1685131200@www.tauchclub-dreieich.de
SUMMARY:Allgemeines Training
DESCRIPTION:
URL:https://www.tauchclub-dreieich.de/termin/allgemeines-training-55
LOCATION:Familien- und Freizeitbad Langen\, Teichstraße 28\, Langen\, 63322\, Deutschland
CATEGORIES:Training
END:VEVENT
BEGIN:VEVENT
DTSTART;TZID=Europe/Berlin:20230526T193000
DTEND;TZID=Europe/Berlin:20230526T210000
DTSTAMP:20260424T144556
CREATED:20230226T224034Z
LAST-MODIFIED:20230226T224034Z
UID:5381-1685129400-1685134800@www.tauchclub-dreieich.de
SUMMARY:Allgemeines Training
DESCRIPTION:
URL:https://www.tauchclub-dreieich.de/termin/allgemeines-training-53
LOCATION:Langener Hallenbad\, Südliche Ringstraße 75\, Langen\, 63225\, Deutschland
CATEGORIES:Training
END:VEVENT
END:VCALENDAR