BEGIN:VCALENDAR
VERSION:2.0
PRODID:-//Tauchclub Dreieich in Langen e.V. - ECPv6.15.20//NONSGML v1.0//EN
CALSCALE:GREGORIAN
METHOD:PUBLISH
X-ORIGINAL-URL:https://www.tauchclub-dreieich.de
X-WR-CALDESC:Veranstaltungen für Tauchclub Dreieich in Langen e.V.
REFRESH-INTERVAL;VALUE=DURATION:PT1H
X-Robots-Tag:noindex
X-PUBLISHED-TTL:PT1H
BEGIN:VTIMEZONE
TZID:Europe/Berlin
BEGIN:DAYLIGHT
TZOFFSETFROM:+0100
TZOFFSETTO:+0200
TZNAME:CEST
DTSTART:20220327T010000
END:DAYLIGHT
BEGIN:STANDARD
TZOFFSETFROM:+0200
TZOFFSETTO:+0100
TZNAME:CET
DTSTART:20221030T010000
END:STANDARD
BEGIN:DAYLIGHT
TZOFFSETFROM:+0100
TZOFFSETTO:+0200
TZNAME:CEST
DTSTART:20230326T010000
END:DAYLIGHT
BEGIN:STANDARD
TZOFFSETFROM:+0200
TZOFFSETTO:+0100
TZNAME:CET
DTSTART:20231029T010000
END:STANDARD
BEGIN:DAYLIGHT
TZOFFSETFROM:+0100
TZOFFSETTO:+0200
TZNAME:CEST
DTSTART:20240331T010000
END:DAYLIGHT
BEGIN:STANDARD
TZOFFSETFROM:+0200
TZOFFSETTO:+0100
TZNAME:CET
DTSTART:20241027T010000
END:STANDARD
END:VTIMEZONE
BEGIN:VEVENT
DTSTART;TZID=Europe/Berlin:20230104T183000
DTEND;TZID=Europe/Berlin:20230104T200000
DTSTAMP:20260424T213308
CREATED:20221030T201431Z
LAST-MODIFIED:20221030T201431Z
UID:4878-1672857000-1672862400@www.tauchclub-dreieich.de
SUMMARY:Apnoe Training
DESCRIPTION:
URL:https://www.tauchclub-dreieich.de/termin/apnoe-training-11
LOCATION:Langener Hallenbad\, Südliche Ringstraße 75\, Langen\, 63225\, Deutschland
CATEGORIES:Apnoetraining
END:VEVENT
BEGIN:VEVENT
DTSTART;TZID=Europe/Berlin:20230106T183000
DTEND;TZID=Europe/Berlin:20230106T200000
DTSTAMP:20260424T213308
CREATED:20221011T181124Z
LAST-MODIFIED:20221011T181124Z
UID:4821-1673029800-1673035200@www.tauchclub-dreieich.de
SUMMARY:Jugendtraining
DESCRIPTION:
URL:https://www.tauchclub-dreieich.de/termin/jugendtraining-54
LOCATION:Langener Hallenbad\, Südliche Ringstraße 75\, Langen\, 63225\, Deutschland
CATEGORIES:Jugendtraining
END:VEVENT
BEGIN:VEVENT
DTSTART;TZID=Europe/Berlin:20230106T190000
DTEND;TZID=Europe/Berlin:20230106T210000
DTSTAMP:20260424T213308
CREATED:20221117T222444Z
LAST-MODIFIED:20221117T222733Z
UID:4946-1673031600-1673038800@www.tauchclub-dreieich.de
SUMMARY:Schnuppertauchen / Schnuppertraining
DESCRIPTION:Willst Du bei uns in den Verein reinschnuppern? Möchtest Du einen Schnuppertauchgang machen? Dann hast Du hier die Gelegenheit! \nWeitere Infos unter: https://www.tauchclub-dreieich.de/lust-auf-tauchen
URL:https://www.tauchclub-dreieich.de/termin/schnuppertauchen-schnuppertraining-2
LOCATION:Langener Hallenbad\, Südliche Ringstraße 75\, Langen\, 63225\, Deutschland
CATEGORIES:Schnuppertraining,Spezialtraining
END:VEVENT
BEGIN:VEVENT
DTSTART;TZID=Europe/Berlin:20230106T193000
DTEND;TZID=Europe/Berlin:20230106T210000
DTSTAMP:20260424T213308
CREATED:20221011T181010Z
LAST-MODIFIED:20221011T181010Z
UID:4797-1673033400-1673038800@www.tauchclub-dreieich.de
SUMMARY:Allgemeines Training
DESCRIPTION:
URL:https://www.tauchclub-dreieich.de/termin/allgemeines-training-34
LOCATION:Langener Hallenbad\, Südliche Ringstraße 75\, Langen\, 63225\, Deutschland
CATEGORIES:Training
END:VEVENT
BEGIN:VEVENT
DTSTART;TZID=Europe/Berlin:20230111T183000
DTEND;TZID=Europe/Berlin:20230111T200000
DTSTAMP:20260424T213308
CREATED:20221030T201431Z
LAST-MODIFIED:20221030T201431Z
UID:4879-1673461800-1673467200@www.tauchclub-dreieich.de
SUMMARY:Apnoe Training
DESCRIPTION:
URL:https://www.tauchclub-dreieich.de/termin/apnoe-training-12
LOCATION:Langener Hallenbad\, Südliche Ringstraße 75\, Langen\, 63225\, Deutschland
CATEGORIES:Apnoetraining
END:VEVENT
BEGIN:VEVENT
DTSTART;TZID=Europe/Berlin:20230113T183000
DTEND;TZID=Europe/Berlin:20230113T200000
DTSTAMP:20260424T213308
CREATED:20221011T181124Z
LAST-MODIFIED:20221011T181124Z
UID:4822-1673634600-1673640000@www.tauchclub-dreieich.de
SUMMARY:Jugendtraining
DESCRIPTION:
URL:https://www.tauchclub-dreieich.de/termin/jugendtraining-55
LOCATION:Langener Hallenbad\, Südliche Ringstraße 75\, Langen\, 63225\, Deutschland
CATEGORIES:Jugendtraining
END:VEVENT
BEGIN:VEVENT
DTSTART;TZID=Europe/Berlin:20230113T193000
DTEND;TZID=Europe/Berlin:20230113T210000
DTSTAMP:20260424T213308
CREATED:20221011T181010Z
LAST-MODIFIED:20221011T181010Z
UID:4798-1673638200-1673643600@www.tauchclub-dreieich.de
SUMMARY:Allgemeines Training
DESCRIPTION:
URL:https://www.tauchclub-dreieich.de/termin/allgemeines-training-35
LOCATION:Langener Hallenbad\, Südliche Ringstraße 75\, Langen\, 63225\, Deutschland
CATEGORIES:Training
END:VEVENT
BEGIN:VEVENT
DTSTART;TZID=Europe/Berlin:20230118T183000
DTEND;TZID=Europe/Berlin:20230118T200000
DTSTAMP:20260424T213308
CREATED:20221030T201432Z
LAST-MODIFIED:20221030T201432Z
UID:4880-1674066600-1674072000@www.tauchclub-dreieich.de
SUMMARY:Apnoe Training
DESCRIPTION:
URL:https://www.tauchclub-dreieich.de/termin/apnoe-training-13
LOCATION:Langener Hallenbad\, Südliche Ringstraße 75\, Langen\, 63225\, Deutschland
CATEGORIES:Apnoetraining
END:VEVENT
BEGIN:VEVENT
DTSTART;TZID=Europe/Berlin:20230120T183000
DTEND;TZID=Europe/Berlin:20230120T200000
DTSTAMP:20260424T213308
CREATED:20221011T181124Z
LAST-MODIFIED:20221011T181124Z
UID:4823-1674239400-1674244800@www.tauchclub-dreieich.de
SUMMARY:Jugendtraining
DESCRIPTION:
URL:https://www.tauchclub-dreieich.de/termin/jugendtraining-56
LOCATION:Langener Hallenbad\, Südliche Ringstraße 75\, Langen\, 63225\, Deutschland
CATEGORIES:Jugendtraining
END:VEVENT
BEGIN:VEVENT
DTSTART;TZID=Europe/Berlin:20230120T193000
DTEND;TZID=Europe/Berlin:20230120T210000
DTSTAMP:20260424T213308
CREATED:20221011T181011Z
LAST-MODIFIED:20221011T181011Z
UID:4799-1674243000-1674248400@www.tauchclub-dreieich.de
SUMMARY:Allgemeines Training
DESCRIPTION:
URL:https://www.tauchclub-dreieich.de/termin/allgemeines-training-36
LOCATION:Langener Hallenbad\, Südliche Ringstraße 75\, Langen\, 63225\, Deutschland
CATEGORIES:Training
END:VEVENT
BEGIN:VEVENT
DTSTART;TZID=Europe/Berlin:20230121T100000
DTEND;TZID=Europe/Berlin:20230129T170000
DTSTAMP:20260424T213308
CREATED:20221121T220922Z
LAST-MODIFIED:20221121T220922Z
UID:5003-1674295200-1675011600@www.tauchclub-dreieich.de
SUMMARY:Messe Boot 2023
DESCRIPTION:
URL:https://www.tauchclub-dreieich.de/termin/messe-boot-2023
LOCATION:Messe Boot Düsseldorf\, Stockumer Kirchstraße 61\, Düsseldorf\, 40474\, Deutschland
CATEGORIES:Veranstaltungen
END:VEVENT
BEGIN:VEVENT
DTSTART;TZID=Europe/Berlin:20230125T183000
DTEND;TZID=Europe/Berlin:20230125T200000
DTSTAMP:20260424T213308
CREATED:20221030T201432Z
LAST-MODIFIED:20230128T114521Z
UID:4881-1674671400-1674676800@www.tauchclub-dreieich.de
SUMMARY:Apnoe Training
DESCRIPTION:Trainer: Bernd
URL:https://www.tauchclub-dreieich.de/termin/apnoe-training-14
LOCATION:Langener Hallenbad\, Südliche Ringstraße 75\, Langen\, 63225\, Deutschland
CATEGORIES:Apnoetraining
END:VEVENT
BEGIN:VEVENT
DTSTART;TZID=Europe/Berlin:20230127T183000
DTEND;TZID=Europe/Berlin:20230127T200000
DTSTAMP:20260424T213308
CREATED:20221011T181125Z
LAST-MODIFIED:20221011T181125Z
UID:4824-1674844200-1674849600@www.tauchclub-dreieich.de
SUMMARY:Jugendtraining
DESCRIPTION:
URL:https://www.tauchclub-dreieich.de/termin/jugendtraining-57
LOCATION:Langener Hallenbad\, Südliche Ringstraße 75\, Langen\, 63225\, Deutschland
CATEGORIES:Jugendtraining
END:VEVENT
BEGIN:VEVENT
DTSTART;TZID=Europe/Berlin:20230127T193000
DTEND;TZID=Europe/Berlin:20230127T210000
DTSTAMP:20260424T213308
CREATED:20221011T181023Z
LAST-MODIFIED:20221011T181023Z
UID:4800-1674847800-1674853200@www.tauchclub-dreieich.de
SUMMARY:Allgemeines Training
DESCRIPTION:
URL:https://www.tauchclub-dreieich.de/termin/allgemeines-training-37
LOCATION:Langener Hallenbad\, Südliche Ringstraße 75\, Langen\, 63225\, Deutschland
CATEGORIES:Training
END:VEVENT
BEGIN:VEVENT
DTSTART;TZID=Europe/Berlin:20230128T100000
DTEND;TZID=Europe/Berlin:20230128T130000
DTSTAMP:20260424T213308
CREATED:20221121T220643Z
LAST-MODIFIED:20221121T220740Z
UID:4998-1674900000-1674910800@www.tauchclub-dreieich.de
SUMMARY:Bundesausbildertagung 2023
DESCRIPTION:Die Ausbildertagung des Verband Deutscher Sporttaucher.
URL:https://www.tauchclub-dreieich.de/termin/bundesausbildertagung-2023
LOCATION:Messe Boot Düsseldorf\, Stockumer Kirchstraße 61\, Düsseldorf\, 40474\, Deutschland
CATEGORIES:VDST,Veranstaltungen
END:VEVENT
END:VCALENDAR