BEGIN:VCALENDAR
VERSION:2.0
PRODID:-//Tauchclub Dreieich in Langen e.V. - ECPv6.15.20//NONSGML v1.0//EN
CALSCALE:GREGORIAN
METHOD:PUBLISH
X-ORIGINAL-URL:https://www.tauchclub-dreieich.de
X-WR-CALDESC:Veranstaltungen für Tauchclub Dreieich in Langen e.V.
REFRESH-INTERVAL;VALUE=DURATION:PT1H
X-Robots-Tag:noindex
X-PUBLISHED-TTL:PT1H
BEGIN:VTIMEZONE
TZID:Europe/Berlin
BEGIN:DAYLIGHT
TZOFFSETFROM:+0100
TZOFFSETTO:+0200
TZNAME:CEST
DTSTART:20210328T010000
END:DAYLIGHT
BEGIN:STANDARD
TZOFFSETFROM:+0200
TZOFFSETTO:+0100
TZNAME:CET
DTSTART:20211031T010000
END:STANDARD
BEGIN:DAYLIGHT
TZOFFSETFROM:+0100
TZOFFSETTO:+0200
TZNAME:CEST
DTSTART:20220327T010000
END:DAYLIGHT
BEGIN:STANDARD
TZOFFSETFROM:+0200
TZOFFSETTO:+0100
TZNAME:CET
DTSTART:20221030T010000
END:STANDARD
BEGIN:DAYLIGHT
TZOFFSETFROM:+0100
TZOFFSETTO:+0200
TZNAME:CEST
DTSTART:20230326T010000
END:DAYLIGHT
BEGIN:STANDARD
TZOFFSETFROM:+0200
TZOFFSETTO:+0100
TZNAME:CET
DTSTART:20231029T010000
END:STANDARD
END:VTIMEZONE
BEGIN:VEVENT
DTSTART;TZID=Europe/Berlin:20221014T183000
DTEND;TZID=Europe/Berlin:20221014T200000
DTSTAMP:20260425T020847
CREATED:20221011T181040Z
LAST-MODIFIED:20221011T181040Z
UID:4809-1665772200-1665777600@www.tauchclub-dreieich.de
SUMMARY:Jugendtraining
DESCRIPTION:
URL:https://www.tauchclub-dreieich.de/termin/jugendtraining-42
LOCATION:Langener Hallenbad\, Südliche Ringstraße 75\, Langen\, 63225\, Deutschland
CATEGORIES:Jugendtraining
END:VEVENT
BEGIN:VEVENT
DTSTART;TZID=Europe/Berlin:20221014T193000
DTEND;TZID=Europe/Berlin:20221014T210000
DTSTAMP:20260425T020847
CREATED:20221011T180946Z
LAST-MODIFIED:20221011T192149Z
UID:4785-1665775800-1665781200@www.tauchclub-dreieich.de
SUMMARY:Allgemeines Training
DESCRIPTION:
URL:https://www.tauchclub-dreieich.de/termin/allgemeines-training-22
LOCATION:Langener Hallenbad\, Südliche Ringstraße 75\, Langen\, 63225\, Deutschland
CATEGORIES:Training
END:VEVENT
BEGIN:VEVENT
DTSTART;TZID=Europe/Berlin:20221016T110000
DTEND;TZID=Europe/Berlin:20221016T160000
DTSTAMP:20260425T020847
CREATED:20221011T183141Z
LAST-MODIFIED:20221011T183141Z
UID:4833-1665918000-1665936000@www.tauchclub-dreieich.de
SUMMARY:Abtauchen
DESCRIPTION:Liebe Mitglieder\, \neine weitere Saison neigt sich dem Ende zu. Nach einem tollen Event zum Antauchen am See in Mainhausen\, möchten wir auch das Abtauchen gemeinsam mit euch feiern. Hierfür wollen wir uns wieder am See in Mörfelden treffen.
URL:https://www.tauchclub-dreieich.de/termin/abtauchen
LOCATION:Badestelle Walldorfer See\, Aschaffenburger Str.\, Mörfelden-Walldorf\, Hessen\, 64546\, Deutschland
CATEGORIES:Tauchevents,Veranstaltungen
END:VEVENT
BEGIN:VEVENT
DTSTART;TZID=Europe/Berlin:20221021T183000
DTEND;TZID=Europe/Berlin:20221021T200000
DTSTAMP:20260425T020847
CREATED:20221011T181053Z
LAST-MODIFIED:20221016T190230Z
UID:4810-1666377000-1666382400@www.tauchclub-dreieich.de
SUMMARY:Jugendtraining
DESCRIPTION:
URL:https://www.tauchclub-dreieich.de/termin/jugendtraining-43
LOCATION:Langener Hallenbad\, Südliche Ringstraße 75\, Langen\, 63225\, Deutschland
CATEGORIES:Jugendtraining
END:VEVENT
BEGIN:VEVENT
DTSTART;TZID=Europe/Berlin:20221021T193000
DTEND;TZID=Europe/Berlin:20221021T210000
DTSTAMP:20260425T020847
CREATED:20221011T180946Z
LAST-MODIFIED:20221011T192232Z
UID:4786-1666380600-1666386000@www.tauchclub-dreieich.de
SUMMARY:Allgemeines Training
DESCRIPTION:
URL:https://www.tauchclub-dreieich.de/termin/allgemeines-training-23
LOCATION:Langener Hallenbad\, Südliche Ringstraße 75\, Langen\, 63225\, Deutschland
CATEGORIES:Training
END:VEVENT
BEGIN:VEVENT
DTSTART;TZID=Europe/Berlin:20221026T183000
DTEND;TZID=Europe/Berlin:20221026T200000
DTSTAMP:20260425T020847
CREATED:20221030T201413Z
LAST-MODIFIED:20221030T201413Z
UID:4868-1666809000-1666814400@www.tauchclub-dreieich.de
SUMMARY:Apnoe Training
DESCRIPTION:
URL:https://www.tauchclub-dreieich.de/termin/apnoe-training
LOCATION:Langener Hallenbad\, Südliche Ringstraße 75\, Langen\, 63225\, Deutschland
CATEGORIES:Apnoetraining
END:VEVENT
BEGIN:VEVENT
DTSTART;TZID=Europe/Berlin:20221028T130000
DTEND;TZID=Europe/Berlin:20221102T200000
DTSTAMP:20260425T020847
CREATED:20221011T184415Z
LAST-MODIFIED:20221011T185617Z
UID:4837-1666962000-1667419200@www.tauchclub-dreieich.de
SUMMARY:Tauchfahrt Bodensee
DESCRIPTION:Geplanter Ablauf:\n\nAbfahrt  28.10. mittags\nUnterkunft in der Nähe ders Tauchplätze „Klinkerwand“\, Strandbad und Hörnli (Südufer)\nKosten ca 110 EUR pro Doppelzimmer mit Frühstück\, ggfs Ferienwohnung bei mehreren Teilnehmern\nje bis zu 3 Tauchgänge an der Folgetagen (ggfs auch mit Nachttauchgang)\neinige Tauchplätze sind an Steilwänden\, aktuelle Erfahrung mit Trockentauchanzug ist erforderlich\nRückreise  2.11. mittags\n\nBei Interesse bitte an Marcus Eich oder Wolfgang Kraus wenden.
URL:https://www.tauchclub-dreieich.de/termin/tauchfahrt-bodensee
LOCATION:Bodensee „Hörnle“\, Eichhornstraße 100\, Konstanz\, 78464
END:VEVENT
BEGIN:VEVENT
DTSTART;TZID=Europe/Berlin:20221028T183000
DTEND;TZID=Europe/Berlin:20221028T200000
DTSTAMP:20260425T020847
CREATED:20221011T181054Z
LAST-MODIFIED:20221011T181054Z
UID:4811-1666981800-1666987200@www.tauchclub-dreieich.de
SUMMARY:Jugendtraining
DESCRIPTION:
URL:https://www.tauchclub-dreieich.de/termin/jugendtraining-44
LOCATION:Langener Hallenbad\, Südliche Ringstraße 75\, Langen\, 63225\, Deutschland
CATEGORIES:Jugendtraining
END:VEVENT
BEGIN:VEVENT
DTSTART;TZID=Europe/Berlin:20221028T193000
DTEND;TZID=Europe/Berlin:20221028T210000
DTSTAMP:20260425T020847
CREATED:20221011T180947Z
LAST-MODIFIED:20221011T192346Z
UID:4787-1666985400-1666990800@www.tauchclub-dreieich.de
SUMMARY:Allgemeines Training
DESCRIPTION:
URL:https://www.tauchclub-dreieich.de/termin/allgemeines-training-24
LOCATION:Langener Hallenbad\, Südliche Ringstraße 75\, Langen\, 63225\, Deutschland
CATEGORIES:Training
END:VEVENT
END:VCALENDAR